BEGIN:VCALENDAR
VERSION:2.0
PRODID:-//wp-events-plugin.com//7.2.3.1//EN
TZID:Europe/Rome
X-WR-TIMEZONE:Europe/Rome
BEGIN:VEVENT
UID:35435@lazioeventi.com
DTSTART;TZID=Europe/Rome:20230526T210000
DTEND;TZID=Europe/Rome:20230526T230000
DTSTAMP:20230515T195413Z
URL:https://lazioeventi.com/eventi/chiusi-fuori
SUMMARY:Chiusi Fuori - Viterbo - 26 Maggio 23 21:00
DESCRIPTION:Festival nazionale di Teatro “Alberto Corinti”\n\nChiusi Fu
 ori\nDi Paolo Manganiello\nPresentato dalla Compagnia Integramente\n\nL’
 evento è realizzato grazie alle associazioni Astarte e Amici di Galiana\,
  e grazie al patrocinio e alla partecipazione degli ospiti del San Raffael
 e di Viterbo.\nLo spettacolo è un tentativo. Un tentativo di apertura in 
 una “finestra illuminata” che ha nome di palcoscenico. Un “gioco” 
 necessario. Qualcosa che si distacca fortemente da tutto ciò che è sempl
 ice spettacolo\, che attiene maggiormente ad un esercizio di ricerca e di 
 approfondimento su ciò che è più prossimo al teatro in senso stretto. U
 n pensiero urgente più da sentire che da guardare. Prossimo alla ritualit
 à che il teatro suggerisce. Non c’è una storia\, ma ci sono tante stor
 ie\, individuali\, che diventano\, per un breve segmento di tempo\, plural
 i. I singoli elementi infatti si fondono per dar vita ad un evento creativ
 o complesso che supera in qualità e potenza la somma degli elementi che l
 o compongono. Non ci sono (troppe) battute. Le parole sono al servizio del
 le suggestioni stimolate. Ogni vocabolo infatti abbozza il tentativo di ri
 portare alla razionalità\, le sensazioni espresse soffocano qualsiasi ten
 tativo di verbalizzare i pensieri. Un breve percorso nel silenzio\, il cui
  tempo è scandito dai ritmi della musica e dai passi confusi di chi tenta
  di marcare la propria presenza. Un breve sospiro\, e tutto resta sospeso\
 , in attesa\, forse\, del buio.\n\nINFO\nBiglietti in vendita presso il bo
 tteghino del Teatro dell’Unione \nBiglietto unico euro 5 \nLa biglietter
 ia del Teatro è aperta dal martedì al sabato e nei giorni di spettacolo\
 , con orario 10.00 – 13.00 e 15.00 – 19.00.
ATTACH;FMTTYPE=image/jpeg:https://lazioeventi.com/wp-content/uploads/2023/
 05/FB-UILT-08-1.jpg
CATEGORIES:Musica, Spettacoli e Danza nel Lazio
LOCATION:Viterbo\, Comune\, Viterbo\, Viterbo\, Lazio\, Italia
GEO:42.417;12.1051
X-APPLE-STRUCTURED-LOCATION;VALUE=URI;X-ADDRESS=Comune\, Viterbo\, Viterbo\
 , Lazio\, Italia;X-APPLE-RADIUS=100;X-TITLE=Viterbo:geo:42.417,12.1051
END:VEVENT
BEGIN:VTIMEZONE
TZID:Europe/Rome
X-LIC-LOCATION:Europe/Rome
BEGIN:DAYLIGHT
DTSTART:20230326T030000
TZOFFSETFROM:+0100
TZOFFSETTO:+0200
TZNAME:CEST
END:DAYLIGHT
END:VTIMEZONE
END:VCALENDAR