BEGIN:VCALENDAR
VERSION:2.0
PRODID:-//wp-events-plugin.com//7.2.3.1//EN
TZID:Europe/Rome
X-WR-TIMEZONE:Europe/Rome
BEGIN:VEVENT
UID:37403@lazioeventi.com
DTSTART;TZID=Europe/Rome:20231015T180000
DTEND;TZID=Europe/Rome:20231015T200000
DTSTAMP:20231010T091453Z
URL:https://lazioeventi.com/eventi/chopin-recital-pianistico
SUMMARY:Chopin\, Recital Pianistico - Sora - 15 Ottobre 23 18:00
DESCRIPTION:Un recital di pianoforte interamente dedicato al genio composit
 ivo di Fryderyk Chopin. Domenica 15 ottobre 2023\, alle ore 18\, nella Chi
 esa di San Francesco\, protagonista di un nuovo appuntamento dell’Ottobr
 e Sorano 2023 sarà il pianista Fabio Gemmiti che proporrà al pubblico un
  affascinante programma musicale.\n\nLa serata si aprirà con la famosa So
 nata n. 2 in si bemolle minore per proseguire con i brani più belli scelt
 i tra le composizioni di Chopin del quale quest’anno cade il 174° anniv
 ersario della morte. A chiudere il concerto\, presentato dalla giornalista
  Ilaria Paolisso\, sarà la Ballata n. 4 in fa minore\, opera complessa ed
  originale.\n\nUna brillante carriera\, quella del pianista e fisarmonicis
 ta sorano Fabio Gemmiti vincitore di numerosi premi in concorsi come il 1
 ° premio al Festival internazionale di Castelfidardo\, il 1° premio al 
 “VII Concorso Nazionale Pianistico K. Czerny”\, la medaglia d’argent
 o al “XIV Concorso Internazionale Pianistico F. Liszt\, il 2° premio al
  “II Concorso Internazionale Pianistico B. BartÓk”\, il 1° premio al
  “II Concorso Internazionale Pianistico Roma 1992”. Prescelto per il 
 “XII Concorso Internazionale F. Chopin” di Varsavia\, ha rappresentato
  l’Italia\, ottenendo una scritturazione per concerti a Vienna dalla Bö
 sendorfer Klavierfabrik.\n\nGrazie all’intensa carriera concertistica\, 
 è ormai applaudito nelle più prestigiose sedi musicali ed è ospite di i
 mportanti festivals quali Chopin Festival\, Festival Internazionale di Lub
 lijana\, Festival Internazionale di Santander\, Emilia Romagna Festival\, 
 En attendant Rossini\, Japan Festival\, Les Floraisons Musicales. Collabor
 a con orchestre quali Orchestra della Radiotelevisione di Tirana\, Orchest
 ra Sinfonica di Nagoya\, Itami City Philharmonic Orchestra\, Pardubice Kam
 merrphilharmonie\, Orchestra Nazionale del Teatro dell'Opera di Bucarest\,
  I Pomeriggi Musicali\, Orchestra dell’Emilia Romagna Festival\, Orchest
 ra Internazionale d'Italia\, Orchestra Filarmonica di Torino. Ha registrat
 o per Radio Vaticana\, Rai Radio 3\, e per l’etichetta discografica Real
  Sound.\n\nIl M° Fabio Gemmiti alterna l’attività concertistica a quel
 la didattica. Tiene regolarmente corsi d’interpretazione e master classe
 s ed è membro di giurie nei concorsi di fisarmonica e pianoforte più imp
 ortanti.
ATTACH;FMTTYPE=image/jpeg:https://lazioeventi.com/wp-content/uploads/2023/
 10/recital-sora.jpg
CATEGORIES:Musica, Spettacoli e Danza nel Lazio
LOCATION:Sora\, Comune di Sora\, Sora\, Frosinone\, Lazio\, Italia
GEO:41.7205;13.6139
X-APPLE-STRUCTURED-LOCATION;VALUE=URI;X-ADDRESS=Comune di Sora\, Sora\, Fro
 sinone\, Lazio\, Italia;X-APPLE-RADIUS=100;X-TITLE=Sora:geo:41.7205,13.613
 9
END:VEVENT
BEGIN:VTIMEZONE
TZID:Europe/Rome
X-LIC-LOCATION:Europe/Rome
BEGIN:DAYLIGHT
DTSTART:20230326T030000
TZOFFSETFROM:+0100
TZOFFSETTO:+0200
TZNAME:CEST
END:DAYLIGHT
END:VTIMEZONE
END:VCALENDAR