BEGIN:VCALENDAR
VERSION:2.0
PRODID:-//wp-events-plugin.com//7.2.3.1//EN
TZID:Europe/Rome
X-WR-TIMEZONE:Europe/Rome
BEGIN:VEVENT
UID:31717@lazioeventi.com
DTSTART;TZID=Europe/Rome:20220904T090000
DTEND;TZID=Europe/Rome:20220904T180000
DTSTAMP:20220719T085608Z
URL:https://lazioeventi.com/eventi/choraltrekking-al-lago-di-nemi
SUMMARY:Choraltrekking al lago di Nemi - Nemi - 4 Settembre 22 09:00
DESCRIPTION:Venite a cantare con noi!!!\nScopriremo le bellezze del lago di
  Nemi e porteremo la polifonia ai Castelli Romani.\nAlla fine del percorso
  intratterremo i turisti e gli abitanti del borgo con un flash- mob finale
 !\nTrovate tutte le informazioni nel sito www.vocefestival.it.
ATTACH;FMTTYPE=image/jpeg:https://lazioeventi.com/wp-content/uploads/2022/
 07/choral-trekking-2021.jpg
CATEGORIES:Musica, Spettacoli e Danza nel Lazio,Sport, Tempo Libero e
 Divertimento nel Lazio
LOCATION:Nemi\, Comune\, Nemi\, Roma\, Lazio\, Italia
GEO:41.7196;12.7145
X-APPLE-STRUCTURED-LOCATION;VALUE=URI;X-ADDRESS=Comune\, Nemi\, Roma\, Lazi
 o\, Italia;X-APPLE-RADIUS=100;X-TITLE=Nemi:geo:41.7196,12.7145
END:VEVENT
BEGIN:VTIMEZONE
TZID:Europe/Rome
X-LIC-LOCATION:Europe/Rome
BEGIN:DAYLIGHT
DTSTART:20220327T030000
TZOFFSETFROM:+0100
TZOFFSETTO:+0200
TZNAME:CEST
END:DAYLIGHT
END:VTIMEZONE
END:VCALENDAR