BEGIN:VCALENDAR
VERSION:2.0
PRODID:-//wp-events-plugin.com//7.2.3.1//EN
TZID:Europe/Rome
X-WR-TIMEZONE:Europe/Rome
BEGIN:VEVENT
UID:43514@lazioeventi.com
DTSTART;TZID=Europe/Rome:20260105T190000
DTEND;TZID=Europe/Rome:20260105T210000
DTSTAMP:20260103T120015Z
URL:https://lazioeventi.com/eventi/christmas-pops
SUMMARY:Christmas Pops - Viterbo - 5 Gennaio 26 19:00
DESCRIPTION:Il 5 gennaio al Teatro San Leonardo\, la musica torna a essere 
 un’esperienza condivisa. \n\nNon un semplice concerto\, ma un momento di
  incontro tra voci\, storie e ascolto. \nSul palco il Coro UpterPOP dell
 ’Università Popolare di Roma (Upter)\, realtà attiva da oltre vent’a
 nni\, che ha fatto della contaminazione tra generi e della cura vocale la 
 propria cifra distintiva.\n\nA dirigere il coro è Milli Taddei\, affianca
 ta da Alessandro Albenga\, fondatore del progetto\, pianista e arrangiator
 e con formazione all’Accademia Nazionale di Santa Cecilia. Insieme guida
 no un ensemble capace di muoversi con naturalezza tra linguaggi diversi\, 
 mantenendo una forte identità corale.\n\n\nIl concerto\, intitolato “Ch
 ristmas Pops”\, propone un repertorio ampio e trasversale: dalle grandi 
 colonne sonore allo swing\, dalla musica latina ad alcuni brani della trad
 izione natalizia\, tutti rivisitati con arrangiamenti originali. Un percor
 so musicale pensato non per evocare nostalgia\, ma per restituire familiar
 ità e presenza.\n\n\nA completare l’organico\, un trio di musicisti che
  affianca il coro con interventi anche strumentali. Tra loro il Maestro Sa
 lvatore Corazza\, batterista di lunga esperienza e collaboratore di artist
 i come Andrea Bocelli\, Giorgia\, Ornella Vanoni\, Riccardo Cocciante\, Re
 nato Zero\, Fiorella Mannoia e Il Volo. Una presenza che garantisce solidi
 tà musicale senza mai sovrastare il lavoro collettivo.\n\n\n“Pop\, nel 
 senso più autentico del termine”\, spiega Corazza. “Musica riconoscib
 ile\, capace di creare un contatto immediato con chi ascolta. Quando una m
 elodia è familiare\, il pubblico smette di essere spettatore e diventa pa
 rte dell’esperienza”.\n\nIl concerto si propone così come un invito a
 perto: a rimettersi in gioco\, a ricordare che la musica non è riservata 
 a pochi\, ma può essere abitata da chiunque. “Chi assiste potrebbe\, po
 tenzialmente\, far parte di questo coro”\, sottolinea Corazza. Un messag
 gio semplice e diretto: l’arte non è distanza\, ma possibilità.\n\nPer
  info e prenotazioni: 392 301 8173
ATTACH;FMTTYPE=image/jpeg:https://lazioeventi.com/wp-content/uploads/2026/
 01/locandina-coro-5-gennaio.jpeg
CATEGORIES:Musica, Spettacoli e Danza nel Lazio
LOCATION:Viterbo\, Comune\, Viterbo\, Viterbo\, Lazio\, Italia
GEO:42.417;12.1051
X-APPLE-STRUCTURED-LOCATION;VALUE=URI;X-ADDRESS=Comune\, Viterbo\, Viterbo\
 , Lazio\, Italia;X-APPLE-RADIUS=100;X-TITLE=Viterbo:geo:42.417,12.1051
END:VEVENT
BEGIN:VTIMEZONE
TZID:Europe/Rome
X-LIC-LOCATION:Europe/Rome
BEGIN:STANDARD
DTSTART:20251026T020000
TZOFFSETFROM:+0200
TZOFFSETTO:+0100
TZNAME:CET
END:STANDARD
END:VTIMEZONE
END:VCALENDAR