BEGIN:VCALENDAR
VERSION:2.0
PRODID:-//wp-events-plugin.com//7.2.3.1//EN
TZID:Europe/Rome
X-WR-TIMEZONE:Europe/Rome
BEGIN:VEVENT
UID:37889@lazioeventi.com
DTSTART;TZID=Europe/Rome:20231201T160000
DTEND;TZID=Europe/Rome:20240107T220000
DTSTAMP:20231122T222630Z
URL:https://lazioeventi.com/eventi/christmasland-il-regno-del-natale
SUMMARY:Christmasland -Il Regno del Natale - Cisterna di Latina - 1 Dicembr
 e 23 16:00
DESCRIPTION:La prima edizione di Christmasland - Il Regno del Natale\, novi
 tà assoluta tra le manifestazioni natalizie esistenti in Italia\, si svol
 gerà a Cisterna di Latina in via Cairoli da venerdì 1 dicembre 2023 a do
 menica 7 gennaio 2024 con apertura alle ore 16\,00 e chiusura alle ore 22\
 ,00. \n\nLe giornate di apertura sono: dal 1 al 3 dicembre 2023\, dal 7 al
  8 dicembre 2023\, dal 17 al 19 dicembre 2023\, dal 22 dicembre 2023 al 7 
 gennaio 2024.\nMentre i giorni di chiusura saranno: il 24\, 25\, 31 dicemb
 re 2023.\n\nNel primo week end dal 1 al 3 dicembre il biglietto d'entrata 
 è di di € 5.00\, per i bambini al di sotto dei sei anni non pagheranno 
 il biglietto. Inoltre è prevista l'accessibilità per quanto riguarda i d
 isabili.\n\nL'evento si svilupperà in un'area di 5mila metri quadrati\, d
 ove saranno presenti luminarie alte ben cinque metri\, vari giochi di luce
 \, spettacoli per adulti e bambini su tre palcoscenici diversi\, mascotte\
 , 25 artisti\, elfi itineranti\, la casa di Babbo Natale e laboratori per 
 bambini con la possibilità di fare una foto con Babbo Natale  e i suoi el
 fi. \nPunto forte dell’evento saranno gli spettacoli che cambieranno di 
 volta in volta per offrire emozioni sempre nuove: le animazioni\, i tessut
 i aerei\, le farfalle illuminate con i led e gli spettacoli per bambini co
 n le mascotte e vari frammenti ispirati ai musical di Disney.\nAdulti e ba
 mbini avranno così l'opportunità di essere accompagnati in un viaggio de
 lle meraviglie fra principesse\, luci e spettacoli\, assaporando la gioia 
 delle festività. In un'incantevole atmosfera si potrà inoltre arrivare a
 l villaggio di Babbo Natale con il bosco\, la posta e i laboratori degli e
 lfi per arrivare alla Casa di Babbo Natale che aspetta i più piccoli per 
 far spedire loro la letterina.\nCi saranno i ristoranti del villaggio dove
  si potranno gustare Arrosticini\, hot dog\, polpette\, pizza fritta\, piz
 za al forno a legna\, prelibatezze e specialità preparate dagli elfi cuoc
 hi\, fra leccornie e dolciumi.\n\nPROGRAMMA SPETTACOLI\nDalle 17:00 alle 1
 7:30\nParata di apertura itinerante\n\nDalle 17:45 alle 18:00\nSpettacolo 
 ICE sul palco1 con performance aerea\, farfalle luminose\, Elsa e Olaf\n\n
 Dalle 18:30 alle 18:45\nSpettacolo sul palco2 nel Bosco con le Principesse
  Disney\n\nDalle 19:15 alle 20:00\nSpettacolo sul palco centrale CHRISTMAS
  TIME\n\nDurante le pause tra uno spettacolo e l'altro alcuni personaggi r
 imarranno all'interno del parco a disposizione per foto e video con voi!\n
 \nIn programma da venerdì 1 dicembre 2023 a domenica 7 gennaio 2024 
ATTACH;FMTTYPE=image/jpeg:https://lazioeventi.com/wp-content/uploads/2023/
 11/regno-natale.jpg
CATEGORIES:Sport, Tempo Libero e Divertimento nel Lazio
LOCATION:Cisterna di Latina\, Comune di Cisterna di Latina\, Cisterna di La
 tina\, Latina\, Lazio\, Italia
GEO:41.5927;12.8286
X-APPLE-STRUCTURED-LOCATION;VALUE=URI;X-ADDRESS=Comune di Cisterna di Latin
 a\, Cisterna di Latina\, Latina\, Lazio\, Italia;X-APPLE-RADIUS=100;X-TITL
 E=Cisterna di Latina:geo:41.5927,12.8286
END:VEVENT
BEGIN:VTIMEZONE
TZID:Europe/Rome
X-LIC-LOCATION:Europe/Rome
BEGIN:STANDARD
DTSTART:20231029T020000
TZOFFSETFROM:+0200
TZOFFSETTO:+0100
TZNAME:CET
END:STANDARD
END:VTIMEZONE
END:VCALENDAR