BEGIN:VCALENDAR
VERSION:2.0
PRODID:-//wp-events-plugin.com//7.2.3.1//EN
TZID:Europe/Rome
X-WR-TIMEZONE:Europe/Rome
BEGIN:VEVENT
UID:43525@lazioeventi.com
DTSTART;TZID=Europe/Rome:20260111T094500
DTEND;TZID=Europe/Rome:20260111T153000
DTSTAMP:20260105T143339Z
URL:https://lazioeventi.com/eventi/ciaspolata-nel-parco-dei-monti-simbruin
 i
SUMMARY:Ciaspolata nel parco dei monti Simbruini - Subiaco - 11 Gennaio 26 
 09:45
DESCRIPTION:Pronti per la 1° ciaspolata dell'anno? Vi aspettiamo domenica
  11 Gennaio nel parco dei monti Simbruini. La neve tra i boschi di faggio
  è sempre qualcosa di eccezionale\, di magico e fiabesco. Partiremo da C
 ampo dell'Osso e attraverso un sentiero immerso nel bosco arriveremo ad un
 o straordinario punto panoramico (non a caso si chiama Le Vedute) e poi c
 on una ultima breve salita arriveremo sulla vetta del Monte Autore. Il pa
 norama sarà semplicemente splendido\, vedremo infatti le principali caten
 e montuose dell’appennino. Vi aspettiamo per una bella foto di gruppo s
 ulla neve\, e un brindisi al nuovo anno con dolcetti offerti dalle guide N
 omos Trek . La ciaspolata è semplice ed adatta a tutti anche ai neofiti\n
 Km 8 circa Dislv. 300 m percorso ad anello\n\nCOSA PORTARE: Scarponcini da
  trekking in goretex a collo alto (no moon-boot e doposci) pantaloni trekk
 ing invernali o tuta da neve (no jeans)\; utili le ghette\; bastoncini tel
 escopici\; acqua a sufficienza. Il caffè e i dolcetti li offriamo noi \n
 \nAPPUNTAMENTO h 9.45 direttamente a Campo dell'Osso https://goo.gl/maps/
 iwia3mp5fc1Bswt8A\nFate colazione a Livata presso Taverna di Stuzzikò\nAl
 tri appuntamenti ci saranno a Roma in zona metro in base alla disponibilit
 à delle auto\, indicate la vostra in fase di prenotazione.\nStrada consig
 liata A24/uscita Vicovaro-Mandela\, poi indicazioni Subiaco e Monte Livata
  \n\nQUOTA DI PARTECIPAZIONE:\n15€ Escursione - affitto ciaspole 10€\
 nTrek riservato ai soci Ass. Nomos Trek in regola con il tesseramento 2026
 . Per i non tesserati inviare comunicazione via tel/sms etc... con i propr
 i dati (luogo e data di nascita) entro le 18 del giorno precedente l'escur
 sione al seguente numero 3478247257\n\nINFORMAZIONI e PRENOTAZIONI: (prefe
 ribilmente whatsapp)\nMarco Marini Cell 3478247257 \nMarco Di Nucci Cell 
 3383152734 \nPer ricevere aggiornamenti sull’evento e vedere tutte le e
 scursioni:\n1) Mettere “parteciperò”\n2) Mettere “mi piace” alla 
 pagina Nomos Trek – Escursioni e Trekking e cliccare sul tasto “segui
 ” – https://www.facebook.com/NomosTrek\n3) iscriversi al gruppo pubbl
 ico Nomos Trek- Associazione Escursionistica –https://www.facebook.com/g
 roups/341852695915250\n4) Chat Telegram https://t.me/+5JYvtRdqIH9jZDJk\n5
 ) https://www.tiktok.com/@nomostrek\n6) https://www.instagram.com/nomost
 rekescursioni/?hl=it\n7) https://twitter.com/nomos_trek\n Visita il sito
 : www.nomostrek.com\n9) https://whatsapp.com/channel/0029VaD7W1hGZNCxYwL
 H5C1Y\n10) https://www.threads.net/@marco71marini\n11) https://www.messe
 nger.com/channel/NomosTrek\n12) https://t.me/nomostrekescursioni\nL'inizi
 ativa è riservata ai soci in regola con l'iscrizione relativa all'anno 20
 26 ed in possesso della relativa tessera. Le Guide si riservano il diritto
  insindacabile di modificare il programma stabilito in caso di condizioni 
 meteorologiche avverse tali da rendere pericoloso l'itinerario\, in caso d
 i impraticabilità di un sentiero\, in caso di impossibilità di un partec
 ipante a continuare l'escursione. Si prega inoltre di avvertire gli accomp
 agnatori della presenza di eventuali patologie o di problematiche che potr
 ebbero manifestarsi nel corso dell'escursione\, grazie per la collaborazio
 ne. 
ATTACH;FMTTYPE=image/jpeg:https://lazioeventi.com/wp-content/uploads/2026/
 01/autore.jpg
CATEGORIES:Sport, Tempo Libero e Divertimento nel Lazio
LOCATION:Subiaco\, Comune di Subiaco\, Subiaco\, Roma\, Lazio\, Italia
GEO:41.9243;13.0963
X-APPLE-STRUCTURED-LOCATION;VALUE=URI;X-ADDRESS=Comune di Subiaco\, Subiaco
 \, Roma\, Lazio\, Italia;X-APPLE-RADIUS=100;X-TITLE=Subiaco:geo:41.9243,13
 .0963
END:VEVENT
BEGIN:VTIMEZONE
TZID:Europe/Rome
X-LIC-LOCATION:Europe/Rome
BEGIN:STANDARD
DTSTART:20251026T020000
TZOFFSETFROM:+0200
TZOFFSETTO:+0100
TZNAME:CET
END:STANDARD
END:VTIMEZONE
END:VCALENDAR