BEGIN:VCALENDAR
VERSION:2.0
PRODID:-//wp-events-plugin.com//7.2.3.1//EN
TZID:Europe/Rome
X-WR-TIMEZONE:Europe/Rome
BEGIN:VEVENT
UID:34540@lazioeventi.com
DTSTART;TZID=Europe/Rome;VALUE=DATE:20230318
DTEND;TZID=Europe/Rome;VALUE=DATE:20230320
DTSTAMP:20230313T154933Z
URL:https://lazioeventi.com/eventi/cibo-storia-territorio-natura
SUMMARY:Cibo\, Storia\, Territorio\, Natura - Cisterna di Latina - 18 Marzo
  23 00:00
DESCRIPTION:Questo fine settimana CISTERNA diventa l'acronimo di “CIBO\, 
 STORIA\, TERRITORIO\, NATURA”.\n\n18 e 19 marzo: un weekend di cultura\,
  tradizione e “sbaracco”\n\nPer questo fine settimana CISTERNA diventa
  l’acronimo di “Cibo\, Storia\, Territorio\, Natura”.\nUn fine setti
 mana di festa del commercio e di bellezze ed eccellenze locali\, organizza
 to dal Comune di Cisterna di Latina\, con il finanziamento della Camera di
  Commercio Frosinone Latina e in collaborazione con l’associazione Comme
 rcianti del Centro di Cisterna\, la Confesercenti\, la CNA e la Rete Comme
 rcio e Cultura.\nVisite gratuite\, a numero limitato\, ai monumenti natura
 li di Ninfa e Torrecchia\, visite guidate a Palazzo Caetani\, butteri\, Fu
 oco di San Giuseppe\, laboratori per bambini e lo “sbaracco”\, ovvero 
 le imperdibili occasioni di fine stagione offerte dai commercianti del cen
 tro di Cisterna.\n\nSi inizierà Sabato alle ore 9 (previa prenotazione) c
 on l’appuntamento in Largo San Pasquale per la partenza della navetta bu
 s diretta a Ninfa dove visitare gratuitamente il magnifico Giardino.\nDall
 e 10 alle 19 i visitatori potranno conoscere la storia e vedere le sale in
 terne di Palazzo Caetani con gli affreschi e il museo del buttero. Proprio
  loro\, i butteri\, con il caratteristico abito che li contraddistingue\, 
 saranno protagonisti per le vie del centro e poi stazionare\, per la gioia
  dei bambini e degli appassionati\, in Piazza 19 Marzo\, mentre in via Car
 ducci\, nel parcheggio antistante il Palazzo comunale\, inizieranno i prep
 arativi per il tradizionale Fuoco di San Giuseppe. \nAlle 16.30 a Palazzo 
 Caetani si terrà “Il telaio di Penelope”\, un laboratorio per bambini
  dai 5 anni a cura dell’associazione Intrecci d’Arte (prenotazione obb
 ligatoria al 338.5479452).\n\nDomenica si rinnova l’appuntamento alle or
 e 9 con la visita gratuita al Giardino di Ninfa\, mentre alle 9.30 e alle 
 15 sarà possibile visitare anche la Tenuta di Torrecchia Vecchia\, entram
 be su prenotazione e con partenza delle navette bus da Largo San Pasquale.
  \nDalle 10 alle 19 sarà possibile passeggiare tra i banchi del Mercatino
  allestito lungo Corso della Repubblica e contemporaneamente si potrà vis
 itare l’interno di Palazzo Caetani\, mentre alle 11 si terrà il laborat
 orio “In cucina con papà” nella corte di Palazzo Caetani.\nDalle 11 a
 lle 19\, nelle attività locali aderenti sarà possibile un’esperienza e
 nogastronomica a cura delle Realtà Tipiche del nostro territorio.\nIl pom
 eriggio il tema sarà la tradizione con\, alle 16.30 il laboratorio di pit
 tura “Augustarello e Buffalo Bill” a Palazzo Caetani a cura dell’art
 ista Maria Pia Biagini\; alle 18.00 all’interno del parcheggio di via Ca
 rducci adiacente il Palazzo Comunale\, la scenografica accensione del Fuoc
 o di San Giuseppe balli\, canti e poesie.\nUna serie di attività e inizia
 tive che animeranno lo “sbaracco”\, ovvero i negozi del centro che sar
 anno aperti sabato\, dalle 9 alle 13 e dalle 16 alle 20\, e domenica\, dal
 le 10 alle 13 e dalle 16.30 alle 19.30\, proponendo una maxi vendita di fi
 ne inverno con offerte da non perdere. \n«Il nostro territorio\, una ricc
 hezza ma soprattutto una risorsa da conoscere e valorizzare – affermano 
 il sindaco Valentino Mantini\, l’assessore alle attività produttive Emi
 liano Cerro\, la delegata allo Spettacolo\, Turismo ed Eventi Aura Contari
 no -.\n\nGrazie al bando della Camera di Commercio - Latina Frosinone e al
  finanziamento concesso\, il commercio si propone come un volano per la ri
 presa dell’economia locale. Un primo risultato concreto dell’azione av
 viata dall’Amministrazione comunale tesa alla costruzione di una collabo
 razione tra associazioni e organizzazioni dei commercianti\, a varie realt
 à attrattive presenti sul territorio\, alla costituzione di una rete e ad
  una proficua collaborazione con la Camera di Commercio. Questo evento è 
 l’avvio\, dunque\, di un percorso di sinergie e comunione di intenti che
  porterà alla valorizzazione delle attività commerciali e che si prefigg
 e la creazione di un Centro Commerciale Naturale e l’incremento del turi
 smo e dell’accoglienza anche attraverso lo sviluppo di una efficace comu
 nicazione social in grado di raggiungere un pubblico quanto più numeroso 
 e variegato possibile».\n\nPer le visite gratuite al Giardino di Ninfa e 
 alla Tenuta Torrecchia è possibile conoscere le disposizioni e modalità 
 di prenotazione sul sito www.comune.cisterna.latina.it cliccando nell’ap
 posito banner.\n\nUlteriori informazioni al 393.8375047 o sui canali socia
 l Facebook "Cisterna in Centro" e Instagram "cisternaincentro".
ATTACH;FMTTYPE=image/jpeg:https://lazioeventi.com/wp-content/uploads/2023/
 03/cibo-cisterna-latina.jpg
CATEGORIES:Arte e Cultura nel Lazio,Sagre, Gastronomia e Tradizioni nel
 Lazio,Sport, Tempo Libero e Divertimento nel Lazio
LOCATION:Cisterna di Latina\, Comune di Cisterna di Latina\, Cisterna di La
 tina\, Latina\, Lazio\, Italia
GEO:41.5927;12.8286
X-APPLE-STRUCTURED-LOCATION;VALUE=URI;X-ADDRESS=Comune di Cisterna di Latin
 a\, Cisterna di Latina\, Latina\, Lazio\, Italia;X-APPLE-RADIUS=100;X-TITL
 E=Cisterna di Latina:geo:41.5927,12.8286
END:VEVENT
BEGIN:VTIMEZONE
TZID:Europe/Rome
X-LIC-LOCATION:Europe/Rome
BEGIN:STANDARD
DTSTART:20221030T020000
TZOFFSETFROM:+0200
TZOFFSETTO:+0100
TZNAME:CET
END:STANDARD
END:VTIMEZONE
END:VCALENDAR