BEGIN:VCALENDAR
VERSION:2.0
PRODID:-//wp-events-plugin.com//7.2.3.1//EN
TZID:Europe/Rome
X-WR-TIMEZONE:Europe/Rome
BEGIN:VEVENT
UID:36800@lazioeventi.com
DTSTART;TZID=Europe/Rome:20230908T203000
DTEND;TZID=Europe/Rome:20230908T233000
DTSTAMP:20230829T091222Z
URL:https://lazioeventi.com/eventi/cinema-e-terme-2023-09-08
SUMMARY:Cinema e Terme - Viterbo - 8 Settembre 23 20:30
DESCRIPTION:A settembre torna la nuova stagione di Cinema e Terme che preve
 de 5 appuntamenti\, ogni venerdì\, dall’1 al 29 settembre.\n\nCinema e 
 Terme\, organizzata dall’Associazione Culturale Factotum e dalle Terme d
 ei Papi di Viterbo\, in collaborazione con JazzUp Festival\, Est Film Fest
 ival e Civita Cinema rappresenta un connubio perfetto tra cultura e beness
 ere. Un’esperienza davvero unica.\n\nSette anni consecutivi di originale
  offerta culturale\, in grado di abbinare cultura e benessere in un luogo 
 davvero magico\, che si vanno ad unire\, formando una vera e propria stagi
 one\, agli altri prestigiosi eventi dell'Associazione Factotum. \nTutte le
  proiezioni sono precedute dalla musica live del sax del maestro Marcello 
 Balena. \n\nTutte le informazioni per l'accesso\, i biglietti ed ogni altr
 a cosa utile sono riportate nella sezione del sito informazioni e presenta
 zione. \nOppure si possono contattare i numeri di telefono: 0761.3501 o 32
 7.1767248.\n\nProgramma\n\nVenerdì 1° settembre\n"Gli uomini d'oro"\, re
 gia di Vincenzo Alfieri.\nThriller\, noir - 110 minuti.\nCast: Fabio De Lu
 igi\, Edoardo Leo\, Giampaolo Morelli\, Matilde Gioli.\nIntervista video c
 on Vincenzo Alfieri.\n\nVenerdì 8 settembre\n"Settembre"\, regia di Giuli
 a Louise Steigerwalt.\nCommedia - 110 minuti.\nCast: Fabrizio Bentivoglio\
 , Barbara Ronchi\, Thony\, Andrea Sartoretti.\nIntervista video con Giulia
  Louise Steigerwalt.\n\nVenerdì 15 settembre\n"Mixed by Erry"\, regia di 
 Sydney Sibilia.\nCommedia - 110 minuti.\nCast: Luigi D'Oriano\, Giuseppe A
 rena\, Emanuele Palumbo\, Francesco Di Leva\, Fabrizio Gifuni.\nIntervista
  video con Sydney Sibilia.\n\nVenerdì 22 settembre\n"Supereroi"\, regia d
 i Paolo Genovese.\nCommedia - 113 minuti.\nCast: Alessandro Borghi\, Jasmi
 ne Trinca\, Greta Scarano\, Vinicio Marchioni\, Linda Caridi.\nIntervista 
 video con Paolo Genovese.\n\nVenerdì 29 settembre\n"Lasciarsi un giorno a
  Roma"\, regia di Edoardo Leo.\nCommedia - 112 minuti.\nCast: Edoardo Leo\
 , Marta Nieto\, Claudia Gerini\, Stefano Fresi.\nIntervista video con Edoa
 rdo Leo.\n\nL'ingresso è 15 €. Valido per piscina termale a (12 €) pi
 ù proiezione (3 €).\nL'ingresso in piscina è valido dalle 20\,30.\n
ATTACH;FMTTYPE=image/jpeg:https://lazioeventi.com/wp-content/uploads/2020/
 09/Cinema-e-Terme-2023-Volantino-Fronte.jpeg
CATEGORIES:Musica, Spettacoli e Danza nel Lazio,Sport, Tempo Libero e
 Divertimento nel Lazio
LOCATION:Viterbo\, Comune\, Viterbo\, Viterbo\, Lazio\, Italia
GEO:42.417;12.1051
X-APPLE-STRUCTURED-LOCATION;VALUE=URI;X-ADDRESS=Comune\, Viterbo\, Viterbo\
 , Lazio\, Italia;X-APPLE-RADIUS=100;X-TITLE=Viterbo:geo:42.417,12.1051
END:VEVENT
BEGIN:VTIMEZONE
TZID:Europe/Rome
X-LIC-LOCATION:Europe/Rome
BEGIN:DAYLIGHT
DTSTART:20230326T030000
TZOFFSETFROM:+0100
TZOFFSETTO:+0200
TZNAME:CEST
END:DAYLIGHT
END:VTIMEZONE
END:VCALENDAR