BEGIN:VCALENDAR
VERSION:2.0
PRODID:-//wp-events-plugin.com//7.2.3.1//EN
TZID:Europe/Rome
X-WR-TIMEZONE:Europe/Rome
BEGIN:VEVENT
UID:43175@lazioeventi.com
DTSTART;TZID=Europe/Rome;VALUE=DATE:20251122
DTEND;TZID=Europe/Rome;VALUE=DATE:20251124
DTSTAMP:20251121T193231Z
URL:https://lazioeventi.com/eventi/cioccolatini-solidali-a-castel-romano-d
 ress-for-success-per-ascoltodonna
SUMMARY:Cioccolatini solidali a Castel Romano: Dress for Success per Ascolt
 oDonna - Roma - 22 Novembre 25 00:00
DESCRIPTION:Iniziativa che unisce il piacere del cioccolato alla forza dell
 'unione e della solidarietà al femminile\nUn piccolo gesto può cambiare 
 un destino. Con questa convinzione\, Castel Romano Designer Outlet affianc
 a Dress for Success Rome per "Dolce Solidarietà"\, l'iniziativa che unisc
 e il piacere del cioccolato alla forza dell'unione e della solidarietà al
  femminile.\nSabato 22 e domenica 23 novembre\, presso piazza del Dinosaur
 o a Castel Romano Designer Outlet\, un gruppo di volontari McArthurGlen di
 stribuirà\, a fronte di una piccola donazione\, Olive al cioccolato fonde
 nte 72% (120 mg) e tavolette artigianali di cioccolato fondente extra con 
 torroncino\, senza glutine: prelibatezze che scaldano il cuore e\, allo st
 esso tempo\, sostengono un progetto che restituisce libertà\, dignità e 
 fiducia a tante donne.\n\nIl ricavato dell'iniziativa sarà interamente de
 stinato al sostegno dello Sportello AscoltoDonna\, un servizio gratuito di
  supporto\, orientamento e consulenza pensato per accompagnare le donne ne
 l loro percorso verso l'autonomia personale e professionale.\n\nQuesta ini
 ziativa costituisce il primo passo della collaborazione del Gruppo McArthu
 rGlen con Dress for Success. L'azienda ha infatti scelto di investire temp
 o\, competenze ed energie per supportare la preziosa mission dell'associaz
 ione.\n\nLo Sportello AscoltoDonna\nLo Sportello AscoltoDonna è un luogo 
 di accoglienza e ascolto\, dove ogni donna può trovare uno spazio sicuro 
 per ricominciare\, con l'aiuto di professionisti dell'orientamento\, esper
 ti della relazione d'aiuto e consulenti di carriera. Attraverso colloqui i
 ndividuali\, percorsi personalizzati e strumenti concreti di ricerca del l
 avoro\, le donne vengono accompagnate passo dopo passo verso il raggiungim
 ento della propria indipendenza economica e consapevolezza di sé.\n\nCi s
 ono donne che ogni giorno lottano per riappropriarsi della propria vita\, 
 del proprio valore e del proprio futuro. Lo Sportello AscoltoDonna nasce p
 er loro — per chi vuole rialzarsi\, per chi cerca un'opportunità\, per 
 chi ha bisogno di sapere che non è sola. Particolare attenzione è dedica
 ta a chi vive situazioni di precarietà lavorativa\, a chi affronta sfrutt
 amento o marginalità\, e a chi desidera trovare un nuovo equilibrio tra v
 ita e lavoro.\n\nDress for Success Rome\, parte del network internazionale
  Dress for Success Worldwide\, è un'organizzazione no profit impegnata da
  anni nel promuovere l'empowerment economico e professionale delle donne. 
 La sua missione è semplice ma potente: aiutare ogni donna a riconoscere i
 l proprio valore e a costruire un futuro indipendente e sostenibile.\n\nCa
 stel Romano Designer Outlet contro ogni discriminazione\nIl centro McArthu
 rGlen della Capitale è da sempre a fianco delle donne. Dal 2021 Castel Ro
 mano Designer Outlet porta avanti con entusiasmo il progetto Libere di Sce
 gliere con un calendario di iniziative di sensibilizzazione\, prevenzione 
 e formazione rispetto ad ogni forma di discriminazione di genere\, in coll
 aborazione con Differenza Donna e Fondazione Libellula.\n\nLe donne e gli 
 uomini che lavorano in McArthurGlen partecipano attivamente a tutte le att
 ività di valore sociale del Gruppo portando avanti i principi di rispetto
  ed inclusione.\n\nMcArthurGlen Castel Romano Designer Outlet\nVia Pontina
 \, uscita Castel Romano\, Roma\nmcarthurglen.it/castelromano\nOrario di ap
 ertura: 10.00 – 20.00\nmcarthurglen.it/castelromano
ATTACH;FMTTYPE=image/jpeg:https://lazioeventi.com/wp-content/uploads/2025/
 11/CASTEL-ROMANO-DESIGNER-OUTLET_DINOSAUROridotta.jpeg.jpg
CATEGORIES:Varie
LOCATION:Roma\, Via Leopardi\, Roma\, Roma\, Lazio\, Italia
GEO:41.8942;12.5017
X-APPLE-STRUCTURED-LOCATION;VALUE=URI;X-ADDRESS=Via Leopardi\, Roma\, Roma\
 , Lazio\, Italia;X-APPLE-RADIUS=100;X-TITLE=Roma:geo:41.8942,12.5017
END:VEVENT
BEGIN:VTIMEZONE
TZID:Europe/Rome
X-LIC-LOCATION:Europe/Rome
BEGIN:STANDARD
DTSTART:20251026T020000
TZOFFSETFROM:+0200
TZOFFSETTO:+0100
TZNAME:CET
END:STANDARD
END:VTIMEZONE
END:VCALENDAR