BEGIN:VCALENDAR
VERSION:2.0
PRODID:-//wp-events-plugin.com//7.2.3.1//EN
TZID:Europe/Rome
X-WR-TIMEZONE:Europe/Rome
BEGIN:VEVENT
UID:32208@lazioeventi.com
DTSTART:20221015T093000Z
DTEND:20221016T180000Z
DTSTAMP:20220905T185845Z
URL:https://lazioeventi.com/eventi/cioccotuscia-2022-10-15
SUMMARY:Cioccofest - Caprarola - 15 Ottobre 22 10:30
DESCRIPTION:Torna a Caprarola il festival dei gusti del cioccolato e la fes
 ta dei sapori della castagna: dopo due anni di stop forzato\, a causa dell
 ’emergenza sanitaria da Covid-19\, si mescolano di nuovo i sapori dell
 ’autunno\, la bontà di un universo di cioccolata e lo scenario\, splend
 ido e indimenticabile\, del complesso di Palazzo Farnese a Caprarola: tutt
 i gli ingredienti di CioccoFest – Caprarola Gusto 4.0.\n\nCioccofest a C
 aprarola è la festa dei sapori e del gusto: appuntamento nel meraviglioso
  borgo della Tuscia\, completamente pedonalizzato e offerto ai visitatori 
 e ai bimbi\, nei weekend del 15/16 e 22/23 ottobre 2022. Una festa ad ingr
 esso libero\, dalle 10.30 alle 19.00.\n\nCioccofest è prima di tutto una 
 grande fiera del cioccolato\, organizzata dal Comune di Caprarola\, con il
  sostegno di Assofrutti Organizzazione Produttori Frutta in Guscio\, e da 
 Associazione Proloco Caprarola che si occuperà di preparare i prelibati p
 ranzi per i visitatori nell’area food. L’area espositori\, all’inter
 no delle Scuderie del Palazzo Farnese\, offrirà agli appassionati un’es
 perienza basata sull’oro bruno\, in ogni veste e gusto possibile. Ciocco
 fest è anche festa della castagna\, grazie al sostegno della Classe 1983\
 , comitato che gestirà l’area food al terzo piano del Parco delle Scude
 rie\, con pizze fritte e castagne arrosto.Un festa esplosiva\, in sinergia
  con l’istituto professionale I.I.S. “Alessandro Farnese” di Capraro
 la che vedrà i propri studenti cimentarsi in showcooking e laboratori sul
 l’arte del food.\n\nCioccofest sarà avventura e divertimento con giochi
  per bambini\, gonfiabili\, truck food\, artisti di strada\, show\, parco 
 avventura e giochi medioevali. Cioccofest è anche prodotti locali\, ampia
  infatti l’esposizione di tipicità enogastronomiche della Tuscia. Non p
 uò mancare di certo la musica\, dalla popolare de I Controtempo\, all’u
 nicità dei venti elementi dell’Orchestralunata.\n\nAppuntamento quindi 
 ad ottobre\, a Caprarola\, per un altro evento indimenticabile.\n\nPer inf
 ormazioni visita il sito www.cioccofest.com o la pagina Facebook @cioccofe
 stcaprarola.\n\nVuoi partecipare come espositore? Invia un messaggio Whats
 app al numero 348.9001525 oppure una e-mail a info.cioccofest@gmail.com.
ATTACH;FMTTYPE=image/jpeg:https://lazioeventi.com/wp-content/uploads/2019/
 09/cioccofest.png
CATEGORIES:Sagre, Gastronomia e Tradizioni nel Lazio
LOCATION:Caprarola\, Comune di Caprarola\, Caprarola\, Viterbo\, Lazio\, It
 alia
GEO:42.3275;12.2381
X-APPLE-STRUCTURED-LOCATION;VALUE=URI;X-ADDRESS=Comune di Caprarola\, Capra
 rola\, Viterbo\, Lazio\, Italia;X-APPLE-RADIUS=100;X-TITLE=Caprarola:geo:4
 2.3275,12.2381
END:VEVENT
END:VCALENDAR