BEGIN:VCALENDAR
VERSION:2.0
PRODID:-//wp-events-plugin.com//7.2.3.1//EN
TZID:Europe/Rome
X-WR-TIMEZONE:Europe/Rome
BEGIN:VEVENT
UID:36771@lazioeventi.com
DTSTART;TZID=Europe/Rome;VALUE=DATE:20230929
DTEND;TZID=Europe/Rome;VALUE=DATE:20231002
DTSTAMP:20230827T205535Z
URL:https://lazioeventi.com/eventi/circo-sciarra-3
SUMMARY:Circo Sciarra - Roma - 29 Settembre 23 00:00
DESCRIPTION:Dal 31 agosto all’8 ottobre l’Associazione Culturale Zip_Zo
 ne d’Intersezione Positiva presenta Circo Sciarra\, itinerari di arte\, 
 musica e spettacolo per tutta la famiglia. Gli eventi si svolgono all’in
 terno di una delle ville più amate e suggestive del Municipio I di Roma: 
 Villa Sciarra (Via delle Mura Gianicolensi\, 11). \n\nTutti gli eventi son
 o a ingresso libero. \n\nPer informazioni: 3474528761 - comunicazionezipzo
 ne@gmail.com\n\n29 SETTEMBRE due turni ore 16.00 e ore 17.30\nSCIENZA DIVE
 RTENTE (laboratorio- formazione)\nPer bambini dai 4 ai 12 anni\nA cura di 
 Scienza Divertente\nLaboratori scientifici interattivi per divertirsi con 
 esperimenti sorprendenti e scoprire che la scienza non è per nulla noiosa
 ! Attraverso i Laboratori i bambini sperimentano in prima persona e compre
 ndono cosa sia la sostenibilità ambientale nel rispetto del nostro pianet
 a.\nGRATUITO CON PRENOTAZIONE alla mail comunicazionezipzone@gmail.com \n\
 n29 SETTEMBRE ore 20.30\nLETTURE IN TERRAZZA (reading/teatro)\nPresso l’
 Istituto Italiano di Studi Germanici- Villa Sciarra\nTesti presentati dal 
 germanista Luca Crescenzi\, regia di Roberto di Maio\, con Manuela Mandrac
 chia\, Riccardo Floris\, Francesco Bonomo e attori del Centro sperimentale
  di cinematografia\nReading teatrali all’aperto introdotti da accademici
  e germanisti e interpretati da attori professionisti. La rassegna è dedi
 cata alla formazione e alla ricerca intorno alla drammaturgia e al teatro 
 italiano e nord europeo.\nGRATUITO CON PRENOTAZIONE alla mail comunicazion
 ezipzone@gmail.com \n\n30 SETTEMBRE ore 11.00 e ore 18.00\nBELLEZZE IN BIC
 ICLETTA (spettacolo/performance itinerante di teatro/circo)\nCon Le Radios
 e: Emanuela Belmonte\, Valentina Musolino\, Genea Manenti\nUna radiosa par
 ata in cui le performer cantanti passeggeranno per le strade a cavallo di 
 meravigliose biciclette d’epoca\, un tuffo nel passato con canzoni assor
 tite\, vaganti ed estemporanee.\n\n30 SETTEMBRE ore 11.30\nALLA SCOPERTA D
 ELLE PIANTE DI VIALLA SCIARRA (azione urbana/scienze)\na cura del Dott. Ug
 o Laneri\, botanico\, Presidente di ASS-AGIR APS\nVilla Sciarra ha una veg
 etazione di notevole interesse\, sia per la varietà delle specie\, sia pe
 r la vetustà ed imponenza di alcuni esemplari arborei. Si configureranno 
 più itinerari: uno alla scoperta delle piante più primitive quali le Gim
 nosperme (comprendenti in primo luogo le Conifere come Cedrus\, Podocarpus
 \, Araucaria ecc.)\, tra cui spiccano esemplari di Ginkgo biloba\, visti a
  suo tempo da Goethe\; altri dedicati alle piante più moderne (le Angiosp
 erme)\, quali le querce\, il glicine\, il Cestrum\, Chaenomeles\, il bosso
  utilizzato spesso per l’arte topiaria\, l’alloro\, gli aceri.\n\n30 S
 ETTEMBRE ore 20.30\nLETTURE IN TERRAZZA (reading/teatro)\nPresso l’Istit
 uto Italiano di Studi Germanici- Villa Sciarra\nTesti presentati dal germa
 nista Luca Crescenzi\, regia di Roberto di Maio\, con Federico Passi\, Gab
 riele Portoghese e Gaia Rinaldi\nReading teatrali all’aperto introdotti 
 da accademici e germanisti e interpretati da attori professionisti. La ras
 segna è dedicata alla formazione e alla ricerca intorno alla drammaturgia
  e al teatro italiano e nord europeo.\nGRATUITO CON PRENOTAZIONE alla mail
  comunicazionezipzone@gmail.com \n\n1 OTTOBRE ore 20.30\nLETTURE IN TERRAZ
 ZA – “MIGRANDO” (reading/teatro)\nPresso l’Istituto Italiano di St
 udi Germanici- Villa Sciarra\nRegia di Francesco Bonomo\, con Carla Bianch
 i\nDopo cinque anni di rappresentazioni in Francia\, la versione italiana 
 di “Migrando” arriva in Italia. Lo spettacolo scritto e interpretato d
 a Carla Bianchi con la Regia Di Francesco Bonomo ha incontrato il favore d
 ella critica e del pubblico francese per la sua peculiarità di riuscire a
 d affrontare il tema della migrazioni.\nLa versione italiana è realizzata
  grazie al sostegno di Acli Parigi e Resq People.\nGRATUITO CON PRENOTAZIO
 NE alla mail comunicazionezipzone@gmail.com \n
ATTACH;FMTTYPE=image/jpeg:https://lazioeventi.com/wp-content/uploads/2023/
 08/Circo-Sciarra-Card-generale.jpeg
CATEGORIES:Sport, Tempo Libero e Divertimento nel Lazio,Musica, Spettacoli
 e Danza nel Lazio,Varie
LOCATION:Roma\, Via Leopardi\, Roma\, Roma\, Lazio\, Italia
GEO:41.8942;12.5017
X-APPLE-STRUCTURED-LOCATION;VALUE=URI;X-ADDRESS=Via Leopardi\, Roma\, Roma\
 , Lazio\, Italia;X-APPLE-RADIUS=100;X-TITLE=Roma:geo:41.8942,12.5017
END:VEVENT
BEGIN:VTIMEZONE
TZID:Europe/Rome
X-LIC-LOCATION:Europe/Rome
BEGIN:DAYLIGHT
DTSTART:20230326T030000
TZOFFSETFROM:+0100
TZOFFSETTO:+0200
TZNAME:CEST
END:DAYLIGHT
END:VTIMEZONE
END:VCALENDAR