BEGIN:VCALENDAR
VERSION:2.0
PRODID:-//wp-events-plugin.com//7.2.3.1//EN
TZID:Europe/Rome
X-WR-TIMEZONE:Europe/Rome
BEGIN:VEVENT
UID:39934@lazioeventi.com
DTSTART;TZID=Europe/Rome:20241006T160000
DTEND;TZID=Europe/Rome:20241006T220000
DTSTAMP:20240925T065748Z
URL:https://lazioeventi.com/eventi/cisterna-west-show
SUMMARY:Cisterna West Show - Cisterna di Latina - 6 Ottobre 24 16:00
DESCRIPTION:Domenica 6 ottobre dalle 16.00 alle 22.00 nelle piazze e nelle 
 strade principali “Cisterna West Show” il mondo western in città  \nI
 l villaggio\, il bisonte meccanico\, la musica\, il cibo la parata\, gli s
 pettacoli\n\nLe strade principali della città\, le vetrine dei negozi e i
  commercianti trasformeranno la città in un vero e proprio villaggio west
 ern. Organizzato da Rete Commercio Cultura Cisterna\, con il patrocinio de
 lla Regione Lazio e del Comune di Cisterna di Latina\, il “Cisterna West
  Show” porterà nelle piazze della città dei “salottini” stile west
  per dare la possibilità ai presenti di sedersi per godersi gli show.  \n
 \nCi sarà il Bisonte Meccanico pronto a farsi domare\, un enorme track fo
 od “Vikingo”\,  che tra musica\, animazione e prelibatezze culinarie a
  tema\, farà da cornice alla manifestazione. «Il Cisterna West Show è i
 l secondo evento organizzato  da Rete Commercio Cultura Cisterna – ha af
 fermato la Presidente Roberta Russo – il nostro obiettivo è trasformare
  la nostra città in un luogo da visitare e vivere con eventi unici e sing
 olari e soprattutto gratuiti e quindi fruibili da tutti». \n\nFra le attr
 azioni della giornata western la parata dei butteri di Cisterna di Latina 
 che racconteranno il mito di Augusto Imperiali\, il buttero cisternese ent
 rato nella storia per aver sconfitto Buffalo Bill\; ma anche un suggestivo
  villaggio con maniscalchi\, coltellinài\, scultori\, casari\, panettieri
  e un set fotografico con tanto di carrozza trainata da vacche maremmane. 
  Spazio anche ai più piccoli con laboratori artistici\, animazione\, intr
 attenimento e giochi tematici per tutta la famiglia e ovviamente non manch
 erà la musica. \nA suonare il country la TCR – Tribute Country Rock&Fol
 k\, il risultato della fusione delle forme più popolari della musica amer
 icana. \nSono cinque gli artisti\, dalla passione innata per la musica\, c
 he hanno creato una miscela originale ed appassionante per ricreare quelle
  uniche atmosfere country – rock&folk. \n\n«Il Cisterna West Show si ch
 iuderà in un modo a dir poco spettacolare – ha proseguito  Simone Finot
 ti Direttore Artistico dell’evento – tra luci e fuoco realizzeremo uno
  spettacolo di fontane danzanti alte più di 20 metri e poi ci sarà una i
 mperdibile sorpresa per tutti». Il pomeriggio itinerante coinvolgerà Lar
 go Silvio Pellico con il Villaggio dei Butteri\; la Corte Palazzo Caetani 
 con la città dei piccoli cowboy e poi Largo Risorgimento\, Piazza Amedeo 
 Di Savoia e Corso della Repubblica con track food\, country band\, rodeo\,
  giochi e parate. Per vivere a pieno le emozioni del Cisterna West Show vi
  consigliamo di vestirvi a tema e vi aspettiamo dal primo pomeriggio di do
 menica 6 ottobre nel cuore di Cisterna.\n\n 
ATTACH;FMTTYPE=image/jpeg:https://lazioeventi.com/wp-content/uploads/2024/
 09/cisterna-western.jpg
CATEGORIES:Musica, Spettacoli e Danza nel Lazio,Sport, Tempo Libero e
 Divertimento nel Lazio
LOCATION:Cisterna di Latina\, Comune di Cisterna di Latina\, Cisterna di La
 tina\, Latina\, Lazio\, Italia
GEO:41.5927;12.8286
X-APPLE-STRUCTURED-LOCATION;VALUE=URI;X-ADDRESS=Comune di Cisterna di Latin
 a\, Cisterna di Latina\, Latina\, Lazio\, Italia;X-APPLE-RADIUS=100;X-TITL
 E=Cisterna di Latina:geo:41.5927,12.8286
END:VEVENT
BEGIN:VTIMEZONE
TZID:Europe/Rome
X-LIC-LOCATION:Europe/Rome
BEGIN:DAYLIGHT
DTSTART:20240331T030000
TZOFFSETFROM:+0100
TZOFFSETTO:+0200
TZNAME:CEST
END:DAYLIGHT
END:VTIMEZONE
END:VCALENDAR