BEGIN:VCALENDAR
VERSION:2.0
PRODID:-//wp-events-plugin.com//7.2.3.1//EN
TZID:Europe/Rome
X-WR-TIMEZONE:Europe/Rome
BEGIN:VEVENT
UID:34680@lazioeventi.com
DTSTART;TZID=Europe/Rome:20230505T210000
DTEND;TZID=Europe/Rome:20230505T223000
DTSTAMP:20230317T173624Z
URL:https://lazioeventi.com/eventi/civitavecchia-spring-music-festival-5
SUMMARY:Civitavecchia Spring Music Festival - Civitavecchia - 5 Maggio 23 2
 1:00
DESCRIPTION:Il Comune di Civitavecchia\, in collaborazione con ATCL – Cir
 cuito Multidisciplinare del Lazio e Promu\, presenta il “Civitavecchia S
 pring Music Festival”\, una rassegna di concerti di musica classica e ja
 zz che si terranno il 21 aprile ed il 5 maggio presso la Cittadella della 
 Musica di Civitavecchia.\n\n5 MAGGIO\nIl 5 maggio ore 21 Simone De Sena al
  violoncello\, presenta con Dalla classica al rap\, un nuovo album di rott
 ura\, che fonde al suo interno diversi stili musicali\, poesia\, letteratu
 ra e ispirazioni cinematografiche: dalle più belle musiche per violoncell
 o solo\, di autori contemporanei come Giovanni Sollima\, John Zorn\, Mark 
 Summer\, all’elettronica del producer emergente Whitenoise28 (Ruggero Mi
 sasi)\; dalle liriche dei rapper della scena underground romana Esdì (Enr
 ico Loprevite)\, fino ai riferimenti dell’Inferno di Dante\, nella nota 
 interpretazione di Vittorio Gassman.\n
ATTACH;FMTTYPE=image/jpeg:https://lazioeventi.com/wp-content/uploads/2023/
 03/Simone-De-Sena.webp
CATEGORIES:Musica, Spettacoli e Danza nel Lazio
LOCATION:Civitavecchia\, Comune\, Civitavecchia\, Roma\, Lazio\, Italia
GEO:42.0911;11.7968
X-APPLE-STRUCTURED-LOCATION;VALUE=URI;X-ADDRESS=Comune\, Civitavecchia\, Ro
 ma\, Lazio\, Italia;X-APPLE-RADIUS=100;X-TITLE=Civitavecchia:geo:42.0911,1
 1.7968
END:VEVENT
BEGIN:VTIMEZONE
TZID:Europe/Rome
X-LIC-LOCATION:Europe/Rome
BEGIN:DAYLIGHT
DTSTART:20230326T030000
TZOFFSETFROM:+0100
TZOFFSETTO:+0200
TZNAME:CEST
END:DAYLIGHT
END:VTIMEZONE
END:VCALENDAR