BEGIN:VCALENDAR
VERSION:2.0
PRODID:-//wp-events-plugin.com//7.2.3.1//EN
TZID:Europe/Rome
X-WR-TIMEZONE:Europe/Rome
BEGIN:VEVENT
UID:42757@lazioeventi.com
DTSTART;TZID=Europe/Rome:20251025T160000
DTEND;TZID=Europe/Rome:20251025T180000
DTSTAMP:20251015T112327Z
URL:https://lazioeventi.com/eventi/clemente-scifoni-a-100-anni-dalla-sua-n
 ascita
SUMMARY:CLEMENTE SCIFONI a 100 anni dalla sua nascita - Roma - 25 Ottobre 2
 5 16:00
DESCRIPTION:Ecomuseo Casilino ad Duas Lauros \n\nDal cuore della Resistenza
  romana al valore universale della memoria: la vita di Clemente Scifoni\, 
 partigiano di Tor Pignattara\, come eredità civile per il presente\n\nIl 
 25 ottobre alle ore 16\, presso la Casa della Cultura e dello Sport "Silvi
 o di Francia"\, l’Ecomuseo Casilino ad duas Lauros ricorda il partigiano
  Clemente Scifoni a 100 anni dalla nascita\, insieme alla famiglia\, al Mu
 nicipio Roma 5\, alle tante associazioni del territorio\, alle scuole che 
 lo hanno accolto e soprattutto agli abitanti del quartiere in cui ha sempr
 e vissuto: nell’occasione verrà anche proiettato il documentario "Memor
 ia Resistente. Clemente Scifoni e i Gap dell’VIII Zona"\, di Massimo Pel
 legrinotti\, vincitore  del premio "25 Aprile-Anpi" al festival "Filmare l
 a Storia".\n\nRicordare Clemente Scifoni è un atto dovuto non solo per la
  caratura morale dell’individuo\, che a soli 18 anni sceglieva di metter
 e a rischio la sua vita entrando nella Resistenza\, ma anche perché la su
 a azione è legata a un episodio della storia che per molto tempo è rimas
 to nascosto fra le pagine della narrazione della Resistenza romana e che s
 olo negli ultimi anni\, quando ormai la vita di Clemente Scifoni volgeva a
 l termine\, è diventato un episodio indispensabile per interpretare l’i
 mpegno e il sacrificio di tanti giovani e di intere comunità dell’VIII 
 zona della Capitale nei mesi di occupazione nazifascista. \n\nClemente Sci
 foni\, partigiano appartenente ai Gap del Partito comunista Italiano dell
 ’VIII Zona\, nasceva a Roma il 17 ottobre 1925\, nel quartiere di Tor Pi
 gnattara: cresciuto in una famiglia antifascista\, a diciotto anni sceglie
  di entrare nella Resistenza per dare il proprio contributo nella lotta di
  Liberazione dal nazifascismo\, operando in un’area della città\, quell
 a dei quartieri di Tor Pignattara\, Centocelle\, Quadraro e Villa Gordiani
  posti sulla via Casilina e Tuscolana\, a diretto contatto con i fronti di
  guerra di Montecassino e poi di Anzio. \n\nComplice la riservatezza di Cl
 emente Scifoni\, la sua semplicità e il grande rispetto per tutti coloro 
 che persero la vita nella lotta di Liberazione dal nazifascismo\, la vicen
 da dell’eliminazione del commissario di polizia di Tor Pignattara-Quadra
 ro Armando Stampacchia - voluta come azione di guerra dal Comitato di Libe
 razione Nazionale  con l’obiettivo di proteggere la popolazione civile e
  i movimenti di Resistenza di quei quartieri – per decenni non ha avuto 
 il corretto risalto nella narrazione pubblica\, che oggi invece la ritiene
  un punto di svolta della Resistenza romana. \n\nArmando Stampacchia infat
 ti ha rappresentato il paradigma del collaborazionismo fra alcuni esponent
 i della polizia italiana con le SS naziste\, imponendo un clima di terrore
  sulla cittadinanza e contribuendo all’arresto e all’uccisione di uomi
 ni e donne della Resistenza\, in netta contrapposizione con tanti esponent
 i della polizia italiana che\, al contrario\, decisero di ribellarsi all
 ’occupazione nazifascista. \n\nPer tutta la vita Clemente non ha quasi m
 ai raccontato questa vicenda\, che riteneva chiusa nelle pagine dolorose e
  orribili di quella che lo storico Claudio Pavone ha definito una guerra c
 ivile\, non combattuta solo contro un nemico esterno\, ma fra cittadini e 
 cittadine italiani che decisero di porsi dalla parte della dittatura o del
 la libertà. Solo in tarda età sentì il desiderio di condividere con le 
 nuove generazioni la necessità di ricordare che la democrazia\, nata dagl
 i orrori della guerra e della dittatura\, sia un testimone da consegnare a
 i cittadini e alle cittadine future.\n\nA cento anni dalla sua nascita\, i
 l 25 ottobre alle ore 16\, la comunità del Municipio Roma V vuole salutar
 e e ringraziare la memoria di Clemente Scifoni\, alla presenza della famig
 lia e delle istituzioni  - il Municipio Roma 5\, il Museo della Liberazion
 e di via Tasso\, l’Associazione Nazionale Perseguitati Politici Antifasc
 isti e l’Associazione Enrico Berlinguer\, l’On. Roberto Morassut - per
  ricordare il suo contributo vivo e carnale alla libertà di cui oggi tutt
 i quanti godiamo e che non è da considerare solo come diritto acquisito\,
  ma anche come processo da tenere vivo e protetto.
ATTACH;FMTTYPE=image/jpeg:https://lazioeventi.com/wp-content/uploads/2025/
 10/Clemente-Scifoni_per-gentile-concessione-della-famiglia-a-Ecomuseo-Casi
 lino.jpeg
CATEGORIES:Arte e Cultura nel Lazio
LOCATION:Roma\, Via Leopardi\, Roma\, Roma\, Lazio\, Italia
GEO:41.8942;12.5017
X-APPLE-STRUCTURED-LOCATION;VALUE=URI;X-ADDRESS=Via Leopardi\, Roma\, Roma\
 , Lazio\, Italia;X-APPLE-RADIUS=100;X-TITLE=Roma:geo:41.8942,12.5017
END:VEVENT
BEGIN:VTIMEZONE
TZID:Europe/Rome
X-LIC-LOCATION:Europe/Rome
BEGIN:DAYLIGHT
DTSTART:20250330T030000
TZOFFSETFROM:+0100
TZOFFSETTO:+0200
TZNAME:CEST
END:DAYLIGHT
END:VTIMEZONE
END:VCALENDAR