BEGIN:VCALENDAR
VERSION:2.0
PRODID:-//wp-events-plugin.com//7.2.3.1//EN
TZID:Europe/Rome
X-WR-TIMEZONE:Europe/Rome
BEGIN:VEVENT
UID:36846@lazioeventi.com
DTSTART;TZID=Europe/Rome;VALUE=DATE:20230905
DTEND;TZID=Europe/Rome;VALUE=DATE:20230917
DTSTAMP:20230830T084953Z
URL:https://lazioeventi.com/eventi/colore-dentro
SUMMARY:Colore dentro - Latina - 5 Settembre 23 00:00
DESCRIPTION:Mostra di Marianna Scuderi all’OmniArt Open Gallery\n\nA sett
 embre aprirà a Latina un nuovo spazio  espositivo: l’OmniArt OpenGaller
 y\, in via Legnano\, 65\, gestito dall’artista di Latina Marianna Scuder
 i\, Presidente dell’omonima Associazione Culturale. Il 2 settembre ci sa
 rà un open day a ingresso gratuito\, con la presentazione a cura di Ida C
 osta (giornalista-pubblicista) e l’esibizione al violino di Valentina Ot
 taviani.\n Nel raccolto e accogliente ambiente della galleria saranno orga
 nizzate\, a cadenza bimensile\,  mostre personali e collettive di pittura\
 , scultura\, installazione\, arte digitale e fotografia\, in una concezion
 e dell’arte aperta a tutte le modalità d’espressione\, dalle più tra
 dizionali alle più innovative. E’ in quest’ottica che trova spiegazio
 ne il nome “OmniArt Open Gallery”. All’interno della galleria sarann
 o esposte in maniera permanente alcune opere di Marianna Scuderi e dipinti
  di Salvatore Baylon. L’OmniArt si avvarrà\, inoltre\, della collaboraz
 ione della critica d’arte Laura Cianfarani.\n\nLa nuova stagione di most
 re si aprirà martedì 5 settembre proprio con la personale di Marianna Sc
 uderi\, grafica\, pittrice e digital artist che vanta un notevole curricul
 um di esposizioni in Italia e all’estero. Nei periodi successivi esporra
 nno Ida Costa\, Vincenzo Bianchi\, Andrea Arminio\, Dante Malori\, Salvato
 re Baylon\, Marzia Giannini\, Francesco Paolo Martelli\, Riccardo Parisi\,
  Marta Pietrosanti\, Stefania Storchi e Marina Mangiapelo\, solo per citar
 ne alcuni.\n\nMarianna Scuderi\, appassionata d’arte sin da piccola\, ne
 l 1994 si diploma al Liceo Artistico di Latina e decide di proseguire gli 
 studi iscrivendosi all’Accademia di Belle Arti di Roma. Contemporaneamen
 te sfrutta le sue capacità creative lavorando nell’azienda tipografica 
 di famiglia\, dove ha modo di inserirsi nel campo della grafica pubblicita
 ria e creativa.\n Come afferma lei stessa\, “la mia pittura nasce da una
  base conoscitiva di disegno grafico e pittorico\, da stati emotivi\, da u
 na pittura d’azione chiamata action painting. Mi descrivo in ogni quadro
 \, in ogni stato emotivo che nasce dentro me. Ogni pensiero\, ogni movimen
 to\, ogni gesto è un segno che scavalca e prende forma attraverso il mio 
 lavoro\, con il quale esprimo un sentimento che giorno dopo giorno si racc
 hiude in un segno\, in un'azione (…) Dipingere per me è ragione di vita
 \, è ciò che mi fa sentire veramente libera”.\n\nIl colore è caratter
 e fondamentale della poetica della Scuderi\, la quale\, avvalendosi di ver
 nici industriali e smalti colati direttamente da pennelli o spatole\, ne f
 a un elemento percettivo per eccellenza. Ed è proprio attraverso il color
 e che l’artista esprime la sua percezione della vita nei suoi aspetti fe
 lici come in quelli più dolorosi\, dell’immaginario\, di amori incompre
 si o del passato sfuggito inutilmente.\n\nBenito Corradini\, giornalista\,
  scrittore\, ideatore e organizzatore di eventi in Italia\, in Europa e ne
 l mondo\, oltre che Presidente dell’Accademia Internazionale “La Spond
 a”\, a buon diritto considera Marianna Scuderi un punto di riferimento d
 ell’arte pontina. \n\nNel suo testo critico si legge:\n“La sua produzi
 one artistica varia nella presentazione di tele con vorticosi ed intensi c
 olori\, che quasi si inseguono come movimenti magmatici\, dove l’intensi
 tà e l’animazione hanno una loro valenza attrattiva che testimonia una 
 ricerca espressiva di nuove forme creative dove l’artista cerca di trova
 re a mostrare nuovi punti di riferimento alle sue intense emozioni. La for
 za espressiva delle opere di Marianna trovano il loro punto di maggiore ev
 idenza nella movimentazione di colori\, quasi un getto di un vulcano dove 
 si trovano elementi di visibilità e di individuazione che danno l’idea 
 di riferimenti della natura selvaggia\, incontrastata\, piena delle sue ca
 ratteristiche creative.\nLa mano dell’artista è guidata in questa sua p
 rofonda ricerca\, da una forte volontà di trovare nuovi elementi composit
 ivi\, nuove idee di espressione artistica e culturale e oltre le forme app
 arenti\, quasi lontana dal tutto\, con una decisiva valutazione anche figu
 rativa nella considerazione che l’animazione cromatica è più efficace 
 di tante forme di cose e persone\, e ti trasporta in mondi inesplorati dov
 e solo l’attentato estetica può arrivare. Il mondo creativo\, l’eccel
 lenza della vita e del suo essere e divenire\, sono evidenziate della Scud
 eri con una attraente visione animale di colori\, forme espressive da intu
 ire per cercare di addentrarsi nel suo mondo di ricerca creativa e poterne
  godere gli effetti estetici realizzati”.\n(Benito Corradini)\n\nOrari g
 alleria: dal martedì al venerdì 16.00-20.00/sabato 10.00-14.00\n\nIngres
 so con tessera associativa (10 euro)*\n*La tessera associativa dà diritto
  alla partecipazione a tutti i vernissage e gli eventi artistici e all’i
 ngresso in galleria negli orari di apertura.
ATTACH;FMTTYPE=image/jpeg:https://lazioeventi.com/wp-content/uploads/2023/
 08/Opera-di-Marianna-Scuderi.jpg
CATEGORIES:Arte e Cultura nel Lazio
LOCATION:Latina\, Comune di Latina\, Latina\, Latina\, Lazio\, Italia
GEO:41.4674;12.9034
X-APPLE-STRUCTURED-LOCATION;VALUE=URI;X-ADDRESS=Comune di Latina\, Latina\,
  Latina\, Lazio\, Italia;X-APPLE-RADIUS=100;X-TITLE=Latina:geo:41.4674,12.
 9034
END:VEVENT
BEGIN:VTIMEZONE
TZID:Europe/Rome
X-LIC-LOCATION:Europe/Rome
BEGIN:DAYLIGHT
DTSTART:20230326T030000
TZOFFSETFROM:+0100
TZOFFSETTO:+0200
TZNAME:CEST
END:DAYLIGHT
END:VTIMEZONE
END:VCALENDAR