BEGIN:VCALENDAR
VERSION:2.0
PRODID:-//wp-events-plugin.com//7.2.3.1//EN
TZID:Europe/Rome
X-WR-TIMEZONE:Europe/Rome
BEGIN:VEVENT
UID:43272@lazioeventi.com
DTSTART;TZID=Europe/Rome:20251207T100000
DTEND;TZID=Europe/Rome:20251207T190000
DTSTAMP:20251202T104810Z
URL:https://lazioeventi.com/eventi/colori-sapori-i-viaggi-del-gusto
SUMMARY:Colori & Sapori – I Viaggi del Gusto - Cisterna di Latina - 7 Dic
 embre 25 10:00
DESCRIPTION:Colori e Sapori – I Viaggi del Gusto: A Cisterna di Latina si
  Accende il Natale all'Insegna delle Eccellenze Locali\n\nLa Città di Cis
 terna di Latina si prepara a ospitare un evento imperdibile che celebra il
  territorio\, le sue tradizioni e le sue eccellenze enogastronomiche: "Col
 ori e Sapori – I Viaggi del Gusto". L'appuntamento\, che unisce gusto\, 
 cultura e tradizione\, è fissato per domenica 7 dicembre 2025.\n\nLa mani
 festazione si svolgerà nella prestigiosa cornice di Palazzo Caetani\, nel
  cuore di Cisterna. L'obiettivo è esaltare le produzioni locali e creare 
 un'atmosfera che accenda la magia del Natale.\nUn Viaggio tra Degustazioni
  e Tradizioni\nI visitatori avranno l'opportunità di partecipare a degust
 azioni ed esposizioni\, scoprendo un territorio che sa emozionare attraver
 so i suoi mestieri e i suoi prodotti. L’evento è concepito come una ver
 a e propria festa del gusto e delle radici locali.\n\nNon mancheranno iniz
 iative pensate per famiglie\, giovani e appassionati\, in un contesto che 
 vuole unire i diversi linguaggi della cultura e del sapore.\n\nL'evento ra
 ppresenta una vetrina importante per le produzioni locali e si inserisce n
 el più ampio sforzo di promozione delle tradizioni del territorio pontino
 .\n\nL'ingresso alla manifestazione è libero\, un invito aperto a tutti i
  cittadini e visitatori a scoprire la bellezza e il gusto che Cisterna ha 
 da offrire.
ATTACH;FMTTYPE=image/jpeg:https://lazioeventi.com/wp-content/uploads/2025/
 12/colori-sapori-cisterna.jpeg
CATEGORIES:Fiere e Mercatini nel Lazio,Musica, Spettacoli e Danza nel
 Lazio,Sagre, Gastronomia e Tradizioni nel Lazio,Sport, Tempo Libero e
 Divertimento nel Lazio,Varie
LOCATION:Cisterna di Latina\, Comune di Cisterna di Latina\, Cisterna di La
 tina\, Latina\, Lazio\, Italia
GEO:41.5927;12.8286
X-APPLE-STRUCTURED-LOCATION;VALUE=URI;X-ADDRESS=Comune di Cisterna di Latin
 a\, Cisterna di Latina\, Latina\, Lazio\, Italia;X-APPLE-RADIUS=100;X-TITL
 E=Cisterna di Latina:geo:41.5927,12.8286
END:VEVENT
BEGIN:VTIMEZONE
TZID:Europe/Rome
X-LIC-LOCATION:Europe/Rome
BEGIN:STANDARD
DTSTART:20251026T020000
TZOFFSETFROM:+0200
TZOFFSETTO:+0100
TZNAME:CET
END:STANDARD
END:VTIMEZONE
END:VCALENDAR