BEGIN:VCALENDAR
VERSION:2.0
PRODID:-//wp-events-plugin.com//7.2.3.1//EN
TZID:Europe/Rome
X-WR-TIMEZONE:Europe/Rome
BEGIN:VEVENT
UID:33973@lazioeventi.com
DTSTART;TZID=Europe/Rome:20230204T160000
DTEND;TZID=Europe/Rome:20230217T190000
DTSTAMP:20230131T232744Z
URL:https://lazioeventi.com/eventi/colori
SUMMARY:Colori - Roma - 4 Febbraio 23 16:00
DESCRIPTION:\n\nAl Porto turistico di Roma alla Galleria Ess&amp\;rrE inaug
 uriamo la mostra “COLORI” con gli artisti Elio Atte\, Ebby 70\, Franco
  Pintus\, Michelangelo Riolo e Maria Grazia Russo. Questa nuova bellissima
  pentapersonale dal titolo che parla chiaro\, i cinque artisti dalle tecni
 che pittoriche diverse si confronteranno tra loro presentando lavori di as
 soluta tecnica pittorica. In questo ulteriore importante appuntamento con 
 oltre 35 opere esposte\, gli artisti presenti per l’occasione si confron
 teranno con il pubblico e gli amici interessati e saranno parte integrante
  dell’evento\, illustrando i lavori ed esponendo le loro tecniche pittor
 iche. Le diverse espressioni artistiche sono la giusta promozione per la n
 uova stagione pittorica tra i più interessanti talenti della pittura che 
 la galleria propone ai collezionisti che ormai da molti anni trovano conse
 nsi nelle varie generazioni che si affacciano nel nostro panorama per trov
 are il giusto interesse e soddisfare ogni curiosità. Le opere allestite c
 on particolare cura da Fabrizio Sparaci saranno vissute al Porto di Roma c
 on la musica di Dj Prettycixo e  il solito entusiasmo per un brindisi ina
 ugurale con gli artisti.\nLa mostra è curata da Alessandra Antonelli dire
 ttore artistico della galleria.\n\nINFO:\nInaugurazione sabato 4 febbraio 
 2023 alle ore 16:00.\n\nLa mostra sarà visitabile fino 17 febbraio 2023.\
 n\nL’evento è completamente ripreso dalle telecamere di ZTL Tv di Anton
 ello Nazarini con servizio esclusivo dedicato e sarà inoltre pubblicato n
 el nuovo numero di Art&amp\;trA edito da Acca International.\n\n
ATTACH;FMTTYPE=image/jpeg:https://lazioeventi.com/wp-content/uploads/2023/
 01/Locandina-COLORI.jpg
CATEGORIES:Arte e Cultura nel Lazio
LOCATION:Roma\, Via Leopardi\, Roma\, Roma\, Lazio\, Italia
GEO:41.8942;12.5017
X-APPLE-STRUCTURED-LOCATION;VALUE=URI;X-ADDRESS=Via Leopardi\, Roma\, Roma\
 , Lazio\, Italia;X-APPLE-RADIUS=100;X-TITLE=Roma:geo:41.8942,12.5017
END:VEVENT
BEGIN:VTIMEZONE
TZID:Europe/Rome
X-LIC-LOCATION:Europe/Rome
BEGIN:STANDARD
DTSTART:20221030T020000
TZOFFSETFROM:+0200
TZOFFSETTO:+0100
TZNAME:CET
END:STANDARD
END:VTIMEZONE
END:VCALENDAR