BEGIN:VCALENDAR
VERSION:2.0
PRODID:-//wp-events-plugin.com//7.2.3.1//EN
TZID:Europe/Rome
X-WR-TIMEZONE:Europe/Rome
BEGIN:VEVENT
UID:34910@lazioeventi.com
DTSTART;TZID=Europe/Rome:20230401T170000
DTEND;TZID=Europe/Rome:20230401T183000
DTSTAMP:20230331T084050Z
URL:https://lazioeventi.com/eventi/colors-of-love-a-musical-journey
SUMMARY:Colors of Love - A Musical Journey - Viterbo - 1 Aprile 23 17:00
DESCRIPTION:Il concerto di sabato 1° aprile 2023 per la XVIII Stagione con
 certistica pubblica dell'Università degli Studi della Tuscia (Auditorium 
 di S. Maria in Gradi\, ore 17) sarà tenuto da Cristiana Pegoraro appena r
 ientrata dagli Stati Uniti dove ha tenuto una serie di concerti di success
 o.\nPianista di solida formazione con studi a Vienna\, Salisburgo\, Berlin
 o e New York e definita dal New York Times “artista del più alto calibr
 o”\, Tiziana Pegoraro\, fin da giovanissima\, si è esibita nelle più i
 mportanti sale da concerto in Europa\, Stati Uniti\, Sudamerica\, Medio Or
 iente\, Asia e Australia ed è stata la prima donna italiana a tenere conc
 erti di musica classica in Bahrain\, nello Yemen e in Oman.\n\nÈ anche la
  prima donna italiana ad aver eseguito in concerto l’integrale delle 32 
 Sonate per pianoforte di Ludwig van Beethoven\, come pure i Cinque Concert
 i per pianoforte e orchestra di Beethoven in un solo giorno. La sua ampia 
 discografia conta 30 CD incisi per Decision Products\, Nuova Era\, Dynamic
 \, Diva\, Eden Editori\, Da Vinci Classics e ProMu Label. Il suo CD “Pia
 zzolla Tangos” ha vinto la medaglia d’oro ai prestigiosi Global Music 
 Awards in California.\nIl programma "Colors of Love - A Musical Journey"\,
  proposto da Cristiana Pegoraro nella Stagione concertistica dell'Universi
 tà della Tuscia\, è dedicato all’amore in musica e nella poesia e cons
 entirà di ascoltare pagine celebri della letteratura pianistica di grandi
  compositori quali Mozart\, Beethoven\, Chopin\, Schumann\, Brahms e Rossi
 ni\, ispirati dalle donne della loro vita\, e sue composizioni originali.\
 n\nL’esecuzione sarà accompagnata da racconti\, aneddoti e dalla lettur
 a di poesie della stessa Pegoraro in un cordiale dialogo con il pubblico p
 er consentire agli ascoltatori di seguire meglio i brani proposti e avvici
 narsi all’idea creativa del compositore.\n\nPIANISTA CRISTIANA PEGORARO\
 nMusiche di\nWOLFGANG A. MOZART\nLUDWIG VAN BEETHOVEN\nFRYDERYK CHOPIN\nRO
 BERT SCHUMANN\nJOHANNES BRAHMS\nGIOACCHINO ROSSINI\nCRISTIANA PEGORARO\n\n
 BIGLIETTI INTERO 10 EURO RIDOTTO 5 EURO
ATTACH;FMTTYPE=image/jpeg:https://lazioeventi.com/wp-content/uploads/2023/
 03/colors-love.jpg
CATEGORIES:Musica, Spettacoli e Danza nel Lazio
LOCATION:Viterbo\, Comune\, Viterbo\, Viterbo\, Lazio\, Italia
GEO:42.417;12.1051
X-APPLE-STRUCTURED-LOCATION;VALUE=URI;X-ADDRESS=Comune\, Viterbo\, Viterbo\
 , Lazio\, Italia;X-APPLE-RADIUS=100;X-TITLE=Viterbo:geo:42.417,12.1051
END:VEVENT
BEGIN:VTIMEZONE
TZID:Europe/Rome
X-LIC-LOCATION:Europe/Rome
BEGIN:DAYLIGHT
DTSTART:20230326T030000
TZOFFSETFROM:+0100
TZOFFSETTO:+0200
TZNAME:CEST
END:DAYLIGHT
END:VTIMEZONE
END:VCALENDAR