BEGIN:VCALENDAR
VERSION:2.0
PRODID:-//wp-events-plugin.com//7.2.3.1//EN
TZID:Europe/Rome
X-WR-TIMEZONE:Europe/Rome
BEGIN:VEVENT
UID:32951@lazioeventi.com
DTSTART;TZID=Europe/Rome:20230115T173000
DTEND;TZID=Europe/Rome:20230115T190000
DTSTAMP:20221107T203657Z
URL:https://lazioeventi.com/eventi/concerti-al-granarone-4
SUMMARY:Concerti al Granarone - Cerveteri - 15 Gennaio 23 17:30
DESCRIPTION:A Cerveteri tornano gli appuntamenti con l’Orchestra Sinfonic
 a Rossellini. Ben sei gli appuntamenti che l’Assessorato alle Politiche 
 Culturali del Comune di Cerveteri\, propone a partire da domenica 6 novemb
 re all’interno dell’Aula Consiliare del Granarone.\n\nSei concerti\, t
 utti ad ingresso gratuito\, con un repertorio estremamente vasto capace di
  spaziare e soddisfare i gusti di un pubblico davvero eterogeneo.\n\nI suc
 cessivi appuntamenti sono programmati per domenica 15 novembre\, domenica 
 11 dicembre\, sabato 17 dicembre\, domenica 8 gennaio e domenica 15 gennai
 o\, tutti al medesimo orario.\n\nL’appuntamento è alle ore 17:30 e l’
 ingresso è gratuito.\n\nObbligatoria la prenotazione.\n\nSi può prenotar
 e inviando un messaggio whatsapp al numero 3478325416.\n\nTutti i concerti
 \, saranno trasmessi anche in diretta streaming sulle pagine Youtube e Fac
 ebook dell’Orchestra Sinfonica Renzo Rossellini.
ATTACH;FMTTYPE=image/jpeg:https://lazioeventi.com/wp-content/uploads/2022/
 11/LOCANDINA-concerti-granarone.jpeg
CATEGORIES:Musica, Spettacoli e Danza nel Lazio
LOCATION:Cerveteri\, Comune di Cerveteri\, Cerveteri\, Roma\, Lazio\, Itali
 a
GEO:41.9938;12.0935
X-APPLE-STRUCTURED-LOCATION;VALUE=URI;X-ADDRESS=Comune di Cerveteri\, Cerve
 teri\, Roma\, Lazio\, Italia;X-APPLE-RADIUS=100;X-TITLE=Cerveteri:geo:41.9
 938,12.0935
END:VEVENT
BEGIN:VTIMEZONE
TZID:Europe/Rome
X-LIC-LOCATION:Europe/Rome
BEGIN:STANDARD
DTSTART:20221030T020000
TZOFFSETFROM:+0200
TZOFFSETTO:+0100
TZNAME:CET
END:STANDARD
END:VTIMEZONE
END:VCALENDAR