BEGIN:VCALENDAR
VERSION:2.0
PRODID:-//wp-events-plugin.com//7.2.3.1//EN
TZID:Europe/Rome
X-WR-TIMEZONE:Europe/Rome
BEGIN:VEVENT
UID:35294@lazioeventi.com
DTSTART;TZID=Europe/Rome:20230604T173000
DTEND;TZID=Europe/Rome:20230604T183000
DTSTAMP:20230508T111053Z
URL:https://lazioeventi.com/eventi/concerti-per-bambini-e-ragazzi-2023-06-
 04
SUMMARY:Concerti per bambini e ragazzi - Roma - 4 Giugno 23 17:30
DESCRIPTION:14 maggio – ore 17.30\nLe corde raccontano\nDialogo a più vo
 ci tra arpa e chitarra\nUn intreccio di strumenti a corde e di voci che ra
 ccontano le alterne fortune dell’arpa e della chitarra nei secoli\, attr
 averso storie popolari\, canti tradizionali e brani originali.\n\nValeria 
 Villeggia – arpa\, voce e percussioni\nJacopo Barbato – chitarra\, v
 oce e percussioni\n\n21 maggio – ore 17.30\nModo e non Modo\nun viaggio 
 attraverso i generi musicali\nuna conversazione estemporanea dagli esiti i
 ncerti ed originali tra la fisarmonica ed il sassofono alla ricerca delle 
 sonorità di luoghi e culture diverse ma pure molto vicine a noi: il Medit
 erraneo\, l’Africa\, l’America ed il Sud America presentando brani ori
 ginali e di autori del ‘900\n\nSimone Alessandrini – sax soprano\nNat
 alino Marchetti – fisarmonica\n\n4 giugno – ore 17.30\nEnergia della 
 musica latina\nun incontro afrosamba con il gruppo Latin Jazz Axè\nI ritm
 i tribali dell’Africa\, i colori ed i suoni dell’America Latina\, l’
 improvvisazione e la ricchezza armonica del jazz si fondono nel sound del 
 Latin Jazz Axè\, un gruppo attivo da più di 20 anni alla continua ricerc
 a tra culture differenti ed apparentemente lontane\n\nRomano Consoli – 
 sax tenore\nArturo Valiante – pianoforte\nBruno Zoia – contrabbasso\
 nPiero Fortezza – batteria\nospite Arianna Consoli: voce\n\n11 giugno 
 – ore 17.30\nO Barquinho\nnavigando tra le spiagge brasiliane…\n“O B
 arquinho” è una barchetta che naviga nei pressi\ndelle spiagge brasilia
 ne con due passeggeri: Giulia Lorenzoni alla voce\, con le sue raffinate i
 mprovvisazioni vocali e Fabio Falaguasta alla chitarra\, con il suo ritmo 
 e armonie carioca.\nBossa nova e samba con arrangiamenti originali.\n\nFab
 io Falaguasta – chitarra\nGiulia Lorenzoni – voce
ATTACH;FMTTYPE=image/jpeg:https://lazioeventi.com/wp-content/uploads/2023/
 05/Immagine-B-2.jpg
CATEGORIES:Musica, Spettacoli e Danza nel Lazio
LOCATION:Roma\, Via Leopardi\, Roma\, Roma\, Lazio\, Italia
GEO:41.8942;12.5017
X-APPLE-STRUCTURED-LOCATION;VALUE=URI;X-ADDRESS=Via Leopardi\, Roma\, Roma\
 , Lazio\, Italia;X-APPLE-RADIUS=100;X-TITLE=Roma:geo:41.8942,12.5017
END:VEVENT
BEGIN:VTIMEZONE
TZID:Europe/Rome
X-LIC-LOCATION:Europe/Rome
BEGIN:DAYLIGHT
DTSTART:20230326T030000
TZOFFSETFROM:+0100
TZOFFSETTO:+0200
TZNAME:CEST
END:DAYLIGHT
END:VTIMEZONE
END:VCALENDAR