BEGIN:VCALENDAR
VERSION:2.0
PRODID:-//wp-events-plugin.com//7.2.3.1//EN
TZID:Europe/Rome
X-WR-TIMEZONE:Europe/Rome
BEGIN:VEVENT
UID:37141@lazioeventi.com
DTSTART;TZID=Europe/Rome:20230929T211500
DTEND;TZID=Europe/Rome:20230929T231500
DTSTAMP:20230920T080850Z
URL:https://lazioeventi.com/eventi/concerto-alma-saxophone-quartet
SUMMARY:Concerto Alma Saxophone Quartet - Vitorchiano - 29 Settembre 23 21:
 15
DESCRIPTION:ALMA SAXOPHONE QUARTET\nAndrea Leonardi\nDavide Lucente\nSimone
  Bellagamba\nAndrea Piccione\n\nProgramma:\nAlma Likes to Be in America\nL
 eonard Bernstein (1918-1990) Candide – Ouverture (Arr. M. Pontini)\nLeon
 ard Bernstein (1918-1990) West Side Story – Extraits (Arr. P. Marillia)\
 nAaron Copland (1900-1990) Danzon Cubano (Arr. L. Feliciani)\nGeorge Gersh
 win (1898-1937) An American in Paris (Arr. L. Feliciani)\nGlenn Miller (19
 04-1944) Salute to Glenn Miller (Arr. B. Holcombe)\nArmando “Chick” Co
 rea (1941-2021) Tribute to Chick Corea (Arr. R. Nebbiosi)\nFrank Zappa (19
 40-1993) Frank Zappa Medley (Arr. R. Nebbiosi)\n\nIngresso Gratuito su Pre
 notazione
ATTACH;FMTTYPE=image/jpeg:https://lazioeventi.com/wp-content/uploads/2023/
 09/100-140-OK-731x1024-1.jpg
CATEGORIES:Musica, Spettacoli e Danza nel Lazio
LOCATION:Vitorchiano\, Comune\, Vitorchiano\, Viterbo\, Lazio\, Italia
GEO:42.4703;12.1743
X-APPLE-STRUCTURED-LOCATION;VALUE=URI;X-ADDRESS=Comune\, Vitorchiano\, Vite
 rbo\, Lazio\, Italia;X-APPLE-RADIUS=100;X-TITLE=Vitorchiano:geo:42.4703,12
 .1743
END:VEVENT
BEGIN:VTIMEZONE
TZID:Europe/Rome
X-LIC-LOCATION:Europe/Rome
BEGIN:DAYLIGHT
DTSTART:20230326T030000
TZOFFSETFROM:+0100
TZOFFSETTO:+0200
TZNAME:CEST
END:DAYLIGHT
END:VTIMEZONE
END:VCALENDAR