BEGIN:VCALENDAR
VERSION:2.0
PRODID:-//wp-events-plugin.com//7.2.3.1//EN
TZID:Europe/Rome
X-WR-TIMEZONE:Europe/Rome
BEGIN:VEVENT
UID:35940@lazioeventi.com
DTSTART;TZID=Europe/Rome:20230618T190000
DTEND;TZID=Europe/Rome:20230618T210000
DTSTAMP:20230615T212657Z
URL:https://lazioeventi.com/eventi/concerto-di-beneficenza-a-favore-dellem
 ilia-romagna
SUMMARY:Concerto di beneficenza a favore dell'Emilia Romagna - Alatri - 18 
 Giugno 23 19:00
DESCRIPTION:Domenica 18 Giugno ore 19:00\n\npresso la Biblioteca Comunale d
 i Alatri "L. Ceci"\n\nl'Associazione Culturale "Coro Ernico" e il Coro "In
  Laetitia Cantus" presentano il "Concerto di beneficenza a favore delle po
 polazioni dell'Emilia Romagna"\n\ncon la partecipazione straordinaria del 
 Basso Alessandro Della Morte e del Pianista Gabriele Sarandrea\n\nIngresso
 : offerta libera\n\nIl ricavato sarà interamente devoluto alle popolazion
 i colpite dalla recente alluvione in Emilia Romagna 
ATTACH;FMTTYPE=image/jpeg:https://lazioeventi.com/wp-content/uploads/2023/
 06/Locandina-Concerto-18-giugno.jpg
CATEGORIES:Musica, Spettacoli e Danza nel Lazio,Varie
LOCATION:Alatri\, Comune\, Alatri\, Frosinone\, Lazio\, Italia
GEO:41.7265;13.3421
X-APPLE-STRUCTURED-LOCATION;VALUE=URI;X-ADDRESS=Comune\, Alatri\, Frosinone
 \, Lazio\, Italia;X-APPLE-RADIUS=100;X-TITLE=Alatri:geo:41.7265,13.3421
END:VEVENT
BEGIN:VTIMEZONE
TZID:Europe/Rome
X-LIC-LOCATION:Europe/Rome
BEGIN:DAYLIGHT
DTSTART:20230326T030000
TZOFFSETFROM:+0100
TZOFFSETTO:+0200
TZNAME:CEST
END:DAYLIGHT
END:VTIMEZONE
END:VCALENDAR