BEGIN:VCALENDAR
VERSION:2.0
PRODID:-//wp-events-plugin.com//7.2.3.1//EN
TZID:Europe/Rome
X-WR-TIMEZONE:Europe/Rome
BEGIN:VEVENT
UID:33534@lazioeventi.com
DTSTART;TZID=Europe/Rome:20260101T180000
DTEND;TZID=Europe/Rome:20260101T193000
DTSTAMP:20251229T093325Z
URL:https://lazioeventi.com/eventi/concerto-di-capodanno-viterbo
SUMMARY:Concerto di Capodanno - Viterbo - 1 Gennaio 26 18:00
DESCRIPTION:Comune di Viterbo e Fondazione Carivit insieme per Il 𝐂𝐨
 𝐧𝐜𝐞𝐫𝐭𝐨 𝐝𝐢 𝐂𝐚𝐩𝐨𝐝𝐚𝐧𝐧𝐨 - 
 𝐈𝐭𝐚𝐥𝐢𝐚𝐧 𝐒𝐨𝐧𝐠𝐛𝐨𝐨𝐤\nTuscia Jazz
  Orchestra\nGiovedì 𝟏 𝐠𝐞𝐧𝐧𝐚𝐢𝐨\, ore 18:00 - Teatr
 o dell'Unione\nArrangiamenti e direzione: Stefano Gullo\n\nSul palco tradi
 zione e innovazione si incontrano: la TuJO – Tuscia Jazz Orchestra propo
 ne arrangiamenti originali in chiave jazz moderno dei più grandi cantauto
 ri italiani degli anni ’70 e ’80 – da Lucio Dalla a Fiorella Mannoia
 \, da Antonello Venditti a Claudio Baglioni – rivisitati con freschezza 
 ed energia.\nEseguita dalla TuJO\, composta interamente da musicisti della
  Tuscia\, diretta da Stefano Gullo\, che ne ha curato anche gli arrangiame
 nti.\n\n𝐈𝐧𝐠𝐫𝐞𝐬𝐬𝐨 𝐚𝐝 𝐨𝐟𝐟𝐞𝐫𝐭
 𝐚 𝐥𝐢𝐛𝐞𝐫𝐚: il ricavato sarà devoluto in beneficenza a
  favore della Croce Rossa Italiana - Comitato di Viterbo\n𝐁𝐢𝐠𝐥
 𝐢𝐞𝐭𝐭𝐢 𝐝𝐢𝐬𝐩𝐨𝐧𝐢𝐛𝐢𝐥𝐢 𝐩𝐫
 𝐞𝐬𝐬𝐨 𝐢𝐥 𝐛𝐨𝐭𝐭𝐞𝐠𝐡𝐢𝐧𝐨 𝐝
 𝐞𝐥 𝐭𝐞𝐚𝐭𝐫𝐨\n\nPer informazioni: teatrounioneviterbo
 @gmail.com / Tel. 388 95 06 826
ATTACH;FMTTYPE=image/jpeg:https://lazioeventi.com/wp-content/uploads/2022/
 12/concerto-capodanno-viterbo-1.jpg
CATEGORIES:Musica, Spettacoli e Danza nel Lazio
LOCATION:Viterbo\, Comune\, Viterbo\, Viterbo\, Lazio\, Italia
GEO:42.417;12.1051
X-APPLE-STRUCTURED-LOCATION;VALUE=URI;X-ADDRESS=Comune\, Viterbo\, Viterbo\
 , Lazio\, Italia;X-APPLE-RADIUS=100;X-TITLE=Viterbo:geo:42.417,12.1051
END:VEVENT
BEGIN:VTIMEZONE
TZID:Europe/Rome
X-LIC-LOCATION:Europe/Rome
BEGIN:STANDARD
DTSTART:20251026T020000
TZOFFSETFROM:+0200
TZOFFSETTO:+0100
TZNAME:CET
END:STANDARD
END:VTIMEZONE
END:VCALENDAR