BEGIN:VCALENDAR
VERSION:2.0
PRODID:-//wp-events-plugin.com//7.2.3.1//EN
TZID:Europe/Rome
X-WR-TIMEZONE:Europe/Rome
BEGIN:VEVENT
UID:35049@lazioeventi.com
DTSTART;TZID=Europe/Rome:20230603T190000
DTEND;TZID=Europe/Rome:20230604T203000
DTSTAMP:20230412T193818Z
URL:https://lazioeventi.com/eventi/concerto-di-pianoforte-e-concerto-per-m
 usiche-di-tango-argentino
SUMMARY:Concerto di Pianoforte e Concerto per Musiche di Tango Argentino - 
 Anguillara Sabazia - 3 Giugno 23 19:00
DESCRIPTION:“Atmosfere nel Palazzo e nei Giardini” ad Anguillara: dal 2
 2 aprile al 10 giugno la stagione di primavera\n\nDodici appuntamenti di a
 rte musicale in dialogo con i luoghi della dimora storica cinquecentesca d
 i Palazzo Orsini\n\nDodici concerti per un evento unico mirato a valorizza
 re la dimora storica del Palazzo Baronale Orsini di Anguillara e i suoi Gi
 ardini del Torrione. L’evento “Atmosfere nel Palazzo e nei Giardini”
  in programma dal 22 aprile al 10 giugno è organizzato e cofinanziato dal
 la Città di Anguillara Sabazia\, con la promozione e realizzazione coadiu
 vata dalla locale ProLoco.\n\nIl Festival si avvale del contributo della R
 egione Lazio ai sensi dell’Avviso pubblico per il sostegno a progetti di
  valorizzazione del patrimonio culturale attraverso lo spettacolo dal vivo
  nella Regione Lazio - enti locali di cui all’art. 2 del D. Lgs. 18 agos
 to 2000 n.267 - enti di gestione delle aree naturali protette - enti pubbl
 ici regionali che operino per favorire la valorizzazione del patrimonio st
 orico-artistico della Regione - organi ed istituti del Ministero della Cul
 tura competenti in materia.\n\nUna vera e propria stagione di primavera\, 
 che porta sonorità molteplici e diverse nelle logge affrescate del Palazz
 o Baronale Orsini - dove sono celebrate le gesta del nobile Gentil Virgini
 o Orsini - e nei Giardini del Torrione racchiusi tra le imponenti mura di 
 epoca rinascimentale con uno spettacolare affaccio sul lago di Bracciano.\
 n\nPrestigiosa la direzione artistica affidata all'esperienza di Amarilli 
 Nizza\, soprano di fama internazionale e presidente della “Claudia Biadi
  Music Academy”\, che alterna la sua attività musicale in teatri italia
 ni ed esteri all'organizzazione di appuntamenti musicali\, alcuni dei qual
 i inediti.\n\nTutti gli appuntamenti sono ad ingresso libero. \nIn conside
 razione dei posti limitati per i concerti in programma alla Sala della Log
 gia del Palazzo Baronale  è necessaria la prenotazione scrivendo a atmosf
 erenelpalazzo@gmail.com\n\n\nPROGRAMMA ATMOSFERE NEL PALAZZO E NEI GIARDIN
 I\n\nSabato 3 Giugno ore 19.\nConcerto di Pianoforte “Jarret Atmoshere
 ” del Maestro Massimiliano Tisano su musiche di Keith Jarrett\, presso i
  Giardini del Torrione. \n\nDomenica 4 Giugno ore 19.00.\n“Concerto per 
 Musiche di Tango Argentino” del Centro Culturale Argentino “CulturTang
 o” presso i Giardini del Torrione patrocinato dall’Ambasciata Argentin
 a in Italia.  Il programma si muove dai grandi compositori classici come B
 ach e Chopin al jazz di Gershwin\, attraversa il ragtime di Scott Joplin e
  termina con il tango di Astor Piazzolla e le melodie eterne di Ennio Morr
 icone.\n\nSabato 10 Giugno.\nore 20 - “Concerto di Musica d’Ambiente E
 lettronica” del Maestro Enrico Cosimi presso I Giardini del Torrione. \n
 ore 21 - “Concerto Elettronico di Musica d’Atmosfera” del gruppo “
 Jackhill\, Tiresia e Motja Live Electronics”.
ATTACH;FMTTYPE=image/jpeg:https://lazioeventi.com/wp-content/uploads/2023/
 04/Locandina-Atmosfere-nel-Palazzo-e-nei-Giardini.jpeg
CATEGORIES:Musica, Spettacoli e Danza nel Lazio
LOCATION:Anguillara Sabazia\, Comune\, Anguillara Sabazia\, Roma\, Lazio\, 
 Italia
GEO:42.0929;12.2698
X-APPLE-STRUCTURED-LOCATION;VALUE=URI;X-ADDRESS=Comune\, Anguillara Sabazia
 \, Roma\, Lazio\, Italia;X-APPLE-RADIUS=100;X-TITLE=Anguillara Sabazia:geo
 :42.0929,12.2698
END:VEVENT
BEGIN:VTIMEZONE
TZID:Europe/Rome
X-LIC-LOCATION:Europe/Rome
BEGIN:DAYLIGHT
DTSTART:20230326T030000
TZOFFSETFROM:+0100
TZOFFSETTO:+0200
TZNAME:CEST
END:DAYLIGHT
END:VTIMEZONE
END:VCALENDAR