BEGIN:VCALENDAR
VERSION:2.0
PRODID:-//wp-events-plugin.com//7.2.3.1//EN
TZID:Europe/Rome
X-WR-TIMEZONE:Europe/Rome
BEGIN:VEVENT
UID:32493@lazioeventi.com
DTSTART;TZID=Europe/Rome:20221002T200000
DTEND;TZID=Europe/Rome:20221002T220000
DTSTAMP:20220927T105732Z
URL:https://lazioeventi.com/eventi/concerto-internazionale-in-onore-di-gio
 vanni-paolo-ii
SUMMARY:Concerto Internazionale in onore di Giovanni Paolo II - Roma - 2 Ot
 tobre 22 20:00
DESCRIPTION:Si svolgerà il due ottobre alle ore 20:00 presso la Basilica d
 ei Santi Ambrogio e Carlo al Corso\, Via del Corso\, 437\, 00186 Roma RM\,
  Italia il Concerto Internazionale in onore di Giovanni Paolo II. \n\nCon 
 solisti: il soprano Dominika Zamara (PL/IT)\, il soprano Lenny Lorenzani (
 IT)\, il direttore d’orchestra Maestro Jason Tramm (USA) e compositore i
 l Maestro David Boldrini (IT)\, il tutto accompagnato dalla Estrorchestra.
  Il programma vedrà in contrapposizione due opere\, lo “Stabat Mater”
  di Giovanni Battista Pergolesi (1710 – 1736) a la “Missa Brevis” di
  David Boldrini (verrà eseguita per la prima volta nella versione per orc
 hestra il Maestro David Boldrini curerà la stesura dedicandola esplicitam
 ente alle due interpreti Dominika Zamara e Laenny Lorenzani). \n\nL’even
 to si pone l’obbiettivo di edificare un ponte tra tre Paesi: Italia\, Po
 lonia e USA\, il tutto nel segno di San Giovanni Paolo II\, personaggio em
 blematico della Città Eterna e del mondo intero. \n\nInoltre saranno pres
 enti vari ospiti tra cui: l’attrice Angelica Loredana Anton e la poetess
 a Melinda Micelli\, che daranno il loro contributo. Il concerto è aperto 
 a tutti i cittadini romani e gli ospiti della città con ingresso gratuito
 .\n\nSi ringrazia per il patrocinio: l’Assessorato alla Cultura del Comu
 ne di Roma\, l’Ambasciata Polacca presso Santa Sede\, Tota Pulchra\, Ita
 lian Opera Florence\, Accademia La Sponda.
ATTACH;FMTTYPE=image/jpeg:https://lazioeventi.com/wp-content/uploads/2022/
 09/concerto-internazionale-in-onore-di-giovanni-paolo-ii.jpg
CATEGORIES:Musica, Spettacoli e Danza nel Lazio
LOCATION:Roma\, Via Leopardi\, Roma\, Roma\, Lazio\, Italia
GEO:41.8942;12.5017
X-APPLE-STRUCTURED-LOCATION;VALUE=URI;X-ADDRESS=Via Leopardi\, Roma\, Roma\
 , Lazio\, Italia;X-APPLE-RADIUS=100;X-TITLE=Roma:geo:41.8942,12.5017
END:VEVENT
BEGIN:VTIMEZONE
TZID:Europe/Rome
X-LIC-LOCATION:Europe/Rome
BEGIN:DAYLIGHT
DTSTART:20220327T030000
TZOFFSETFROM:+0100
TZOFFSETTO:+0200
TZNAME:CEST
END:DAYLIGHT
END:VTIMEZONE
END:VCALENDAR