BEGIN:VCALENDAR
VERSION:2.0
PRODID:-//wp-events-plugin.com//7.2.3.1//EN
TZID:Europe/Rome
X-WR-TIMEZONE:Europe/Rome
BEGIN:VEVENT
UID:28427@lazioeventi.com
DTSTART;TZID=Europe/Rome:20210828T210000
DTEND;TZID=Europe/Rome:20210828T221500
DTSTAMP:20210823T185555Z
URL:https://lazioeventi.com/eventi/concerto-sulle-note-di-antonio-vivaldi
SUMMARY:Concerto sulle note di Antonio Vivaldi - Fara in Sabina - 28 Agosto
  21 21:00
DESCRIPTION:SABATO 28 AGOSTO\, alle ORE 21\, nella splendida cornice di PIA
 ZZA DEL DUOMO di FARA IN SABINA la Chamber Orchestra Pueri Symphonici\, di
 retta da Lorenzo Lupi\, darà vita ad un suggestivo Concerto sulle note di
  Antonio Vivaldi\, in onore di Sant'Antonino Martire\, patrono della Citt
 à di Fara in Sabina.\n\nTra le note de La Primavera\, interpretata da Dar
 io Sordini\, e la sublime Nulla in mundo pax sincera\, interpretata dalla 
 soave voce di Naho Yokoyama\, la performance art di Daniela Beltrani rende
 rà unica una sera speciale a cui abbiamo grande piacere di invitarvi!
ATTACH;FMTTYPE=image/jpeg:https://lazioeventi.com/wp-content/uploads/2021/
 08/Locandina-Chamber-Orchestra-Pueri-Symphonici-28_8_2021.jpg
CATEGORIES:Musica, Spettacoli e Danza nel Lazio
LOCATION:Fara in Sabina\, Comune\, Fara in Sabina\, Rieti\, Lazio\, Italia
GEO:42.2099;12.7291
X-APPLE-STRUCTURED-LOCATION;VALUE=URI;X-ADDRESS=Comune\, Fara in Sabina\, R
 ieti\, Lazio\, Italia;X-APPLE-RADIUS=100;X-TITLE=Fara in Sabina:geo:42.209
 9,12.7291
END:VEVENT
BEGIN:VTIMEZONE
TZID:Europe/Rome
X-LIC-LOCATION:Europe/Rome
BEGIN:DAYLIGHT
DTSTART:20210328T030000
TZOFFSETFROM:+0100
TZOFFSETTO:+0200
TZNAME:CEST
END:DAYLIGHT
END:VTIMEZONE
END:VCALENDAR