BEGIN:VCALENDAR
VERSION:2.0
PRODID:-//wp-events-plugin.com//7.2.3.1//EN
TZID:Europe/Rome
X-WR-TIMEZONE:Europe/Rome
BEGIN:VEVENT
UID:30375@lazioeventi.com
DTSTART;TZID=Europe/Rome;VALUE=DATE:20220409
DTEND;TZID=Europe/Rome;VALUE=DATE:20220411
DTSTAMP:20220405T180209Z
URL:https://lazioeventi.com/eventi/concorso-di-pittura-con-premio-a-vellet
 ri-e-laboratori-per-bambini
SUMMARY:Concorso di Pittura con premio a Velletri e laboratori per bambini 
 - Velletri - 9 Aprile 22 00:00
DESCRIPTION:Prenota e partecipa anche tu\, Il 9 e 10 Aprile ci sarà un con
 corso a premio di pittura in occasione della XXVI Festa delle camelie di V
 elletri. Il premio consiste in un voucher di €100\,00 spendibile presso 
 un negozio di Belle arti Veliterno. I quadri saranno messi in mostra per d
 ue giorni nel centro storico e infine sarà realizzato un catalogo digital
 e online con tutte le opere partecipanti. Il costro per associarsi è di 
 €8\,00\nIn quei giorni l'associazione Quattro radici APS sarà presente 
 in piazza cairoli di fronte Benetton per alcuni laboratori musicali e arti
 stici dedicati a grandi e piccini.\n\nContatta subito per prenotare\n\nqua
 ttroradici@gmail.com\n\n3286362907 Melissa \n\n3335451955  Luca\n\n35166
 06689 Giada\n\n&nbsp\;
ATTACH;FMTTYPE=image/jpeg:https://lazioeventi.com/wp-content/uploads/2022/
 04/277772586_111817568152324_4537485443991100833_n.jpg
CATEGORIES:Arte e Cultura nel Lazio,Varie
LOCATION:Velletri\, Comune\, Velletri\, Roma\, Lazio\, Italia
GEO:41.6865;12.7776
X-APPLE-STRUCTURED-LOCATION;VALUE=URI;X-ADDRESS=Comune\, Velletri\, Roma\, 
 Lazio\, Italia;X-APPLE-RADIUS=100;X-TITLE=Velletri:geo:41.6865,12.7776
END:VEVENT
BEGIN:VTIMEZONE
TZID:Europe/Rome
X-LIC-LOCATION:Europe/Rome
BEGIN:DAYLIGHT
DTSTART:20220327T030000
TZOFFSETFROM:+0100
TZOFFSETTO:+0200
TZNAME:CEST
END:DAYLIGHT
END:VTIMEZONE
END:VCALENDAR