BEGIN:VCALENDAR
VERSION:2.0
PRODID:-//wp-events-plugin.com//7.2.3.1//EN
TZID:Europe/Rome
X-WR-TIMEZONE:Europe/Rome
BEGIN:VEVENT
UID:28180@lazioeventi.com
DTSTART;TZID=Europe/Rome;VALUE=DATE:20210303
DTEND;TZID=Europe/Rome;VALUE=DATE:20210416
DTSTAMP:20210303T171619Z
URL:https://lazioeventi.com/eventi/concorso-letterario-racconti-dal-lazio
SUMMARY:Concorso letterario “Racconti dal Lazio” - Roma - 3 Marzo 21 00
 :00
DESCRIPTION:Historica edizioni (www.historicaedizioni.com) in collaborazion
 e con il sito Cultora (www.cultora.it) indice l’edizione 2021 del concor
 so “Racconti dal Lazio”.\n\nUNICA SEZIONE: NARRATIVA – Si accettano 
 racconti a tema libero che non superino le 8 cartelle dattiloscritte (1 ca
 rt. = 30 righe di 60 battute). Sono ammesse eccezioni se gli elaborati sup
 erano di poco il limite prefisso. Ogni autore può inviare al massimo un r
 acconto.\n\nTESTI – I testi devono essere in lingua italiana e inediti. 
 Possono partecipare autori italiani e stranieri. Possono partecipare testi
  già premiati in altri concorsi.\n\nCOME INVIARE I RACCONTI – I concorr
 enti devono inviare il racconto in formato Word\, con nome\, cognome\, ind
 irizzo\, numero di telefono e nome del Concorso\, al seguente indirizzo e-
 mail: raccontihistorica@gmail.com\n\nCONDIZIONI DI PARTECIPAZIONE – La p
 artecipazione è gratuita e aperta a tutte le persone nate\, residenti o d
 omiciliate nel Lazio.\n\nTERMINI DI INVIO – Inviare gli elaborati via ma
 il entro e non oltre il 15 aprile 2021.\n\nDESIGNAZIONE DEI VINCITORI – 
 Agli autori selezionati verrà inviata una comunicazione a mezzo e-mail co
 n il responso.\n\nPREMI – I racconti vincitori verranno pubblicati da Hi
 storica edizioni in un libro che sarà in vendita nelle librerie del Lazio
  (con distribuzione Libro.co)\, sul sito di Historica\, alle principali fi
 ere della piccola e media Editoria cui parteciperà l’editore e sui prin
 cipali book-stores online. Il libro sarà presentato in un evento di premi
 azione nel Lazio (covid permettendo).\n\nDIRITTI D’AUTORE – I diritti 
 dei racconti rimangono di proprietà dei singoli Autori.\n\nINFORMAZIONI 
 – Per informazioni scrivere a: raccontihistorica@gmail.com
ATTACH;FMTTYPE=image/jpeg:https://lazioeventi.com/wp-content/uploads/2021/
 03/Racconti_dal_lazio_2021.jpg
CATEGORIES:Arte e Cultura nel Lazio,Varie
LOCATION:Roma\, Via Leopardi\, Roma\, Roma\, Lazio\, Italia
GEO:41.8942;12.5017
X-APPLE-STRUCTURED-LOCATION;VALUE=URI;X-ADDRESS=Via Leopardi\, Roma\, Roma\
 , Lazio\, Italia;X-APPLE-RADIUS=100;X-TITLE=Roma:geo:41.8942,12.5017
END:VEVENT
BEGIN:VTIMEZONE
TZID:Europe/Rome
X-LIC-LOCATION:Europe/Rome
BEGIN:STANDARD
DTSTART:20201025T020000
TZOFFSETFROM:+0200
TZOFFSETTO:+0100
TZNAME:CET
END:STANDARD
BEGIN:DAYLIGHT
DTSTART:20210328T030000
TZOFFSETFROM:+0100
TZOFFSETTO:+0200
TZNAME:CEST
END:DAYLIGHT
END:VTIMEZONE
END:VCALENDAR