BEGIN:VCALENDAR
VERSION:2.0
PRODID:-//wp-events-plugin.com//7.2.3.1//EN
TZID:Europe/Rome
X-WR-TIMEZONE:Europe/Rome
BEGIN:VEVENT
UID:40291@lazioeventi.com
DTSTART;TZID=Europe/Rome;VALUE=DATE:20241129
DTEND;TZID=Europe/Rome;VALUE=DATE:20241206
DTSTAMP:20241119T110841Z
URL:https://lazioeventi.com/eventi/confini-oltre-le-linee-dentro-le-storie
SUMMARY:CONFINI oltre le linee\, dentro le storie - Roma - 29 Novembre 24 0
 0:00
DESCRIPTION:CONFINI\n\nOltre le linee\, dentro le storie\n\nMostra a cura d
 i Phzero\n\ndal 29 novembre al 5 dicembre 2024\n\nMedina Art Gallery – R
 oma\n\n \n\nCONFINI\, la mostra del collettivo Phzero ospitata alla Medin
 a Art Gallery con inaugurazione il 29 novembre alle ore 18\, rappresenta u
 n nuovo terreno di esplorazione che attraversa più epoche storiche\, dive
 rse geografie e tecniche miste. Confini vuole interrogare le disparità de
 lla nostra epoca: chi può attraversare il mondo senza ostacoli e chi\, in
 vece\, è costretto a confrontarsi con confini invisibili tracciati da gue
 rre\, politiche oppressive e disuguaglianze.\n\n&nbsp\;\n\nPhzero trasform
 a superfici insolite in tele\, portando il suo lavoro oltre i confini conv
 enzionali nell'ottica di integrare arte e materiali urbani. Teli termici d
 i emergenza intagliati con macchinari a controllo numerico\, reti in fibra
  di vetro\, lettere scritte nel periodo delle due Guerre Mondiali e fondi 
 materici\, diventano supporti su cui le opere prendono vita\, creando una 
 dimensione tattile e visiva che amplifica l’intensità delle trame e dei
  colori. Le vernici spray evocano le sfumature cromatiche e il dinamismo d
 i un paesaggio metropolitano che unite ad altre tecniche e materiali non c
 onvenzionali\, conferiscono alle opere di Phzero un’identità profondame
 nte contemporanea.\n\nLe parole\, d’amore e di speranza\, di connessione
 \, parole intime e urlate\, a cui affidiamo i nostri sentimenti e le nostr
 e paure\, rappresentano il filo conduttore della mostra. E se da un lato p
 ossono intrecciare dialoghi oltre i confini\, altre volte rimangono sorde 
 ad una risposta nell’impossibilità di varcare un mare\, o possono farsi
  immagine nell’immediatezza della street art.\n\n&nbsp\;\n\nPhzero\, col
 lettivo fondato da Simona Gaffi e Daniele Signore\, nella sua ricerca intr
 eccia arte\, tecnologie digitali e critica sociale\, producendo opere che 
 superano i limiti delle tecniche tradizionali per indagare lo spazio e la 
 coscienza collettiva.\n\n&nbsp\;\n\nSimona Gaffi: “Ogni opera apre una f
 inestra su una riflessione urgente e profonda sul senso della libertà e s
 ui muri invisibili che ci circondano. Confini intesi non solo come linee t
 racciate su una mappa\, ma limiti sociali e psicologici che segnano vite e
  destini\, un processo che conduce oltre il visibile\, attraversando lo sp
 azio\, aprendo una riflessione sul significato di libertà e appartenenza
 ”.\n\n&nbsp\;\n\nLa delicatezza e la precisione richieste dai materiali 
 utilizzati\, spesso lavorati con i macchinari a controllo numerico\, sono 
 le stesse con cui gli artisti trattano temi profondamente vicini alla dign
 ità umana. Ogni millimetro di precisione\, in questo processo artistico\,
  riflette la complessità e la responsabilità di affrontare argomenti che
  riguardano il senso più intimo della nostra condizione e l’immenso pes
 o di percorsi che lasciano cicatrici reali\, spesso invisibili agli occhi 
 di chi non li vive.\n\n&nbsp\;\n\nDaniele Signore: “Lavorando su temi so
 ciali\, esploriamo spesso le scienze politiche e giuridiche\, discipline c
 he ci aiutano ad interpretare anche le strutture che influenzano la vita d
 elle persone. In questo modo\, l’arte non solo esprime un pensiero criti
 co sulla società\, ma invita il pubblico a entrare in dialogo\, creando u
 n’esperienza condivisa che sfida ciascuno di noi a immaginare il cambiam
 ento.”\n\n \n\nAlcune opere permetteranno allo spettatore di toccare co
 n mano il processo creativo e di entrare\, anche solo per un attimo\, nei 
 panni di chi ha realizzato l’opera. Infatti sono accompagnate da video c
 he svelano la complessità del fare artistico: il pensiero\, l’errore\, 
 le intuizioni. Così\, la mostra diventa un dialogo condiviso per esplorar
 e i propri confini di senso. Un'esperienza artistica che attraversa spazio
 \, identità e libertà.\n\n&nbsp\;\n\nLa mostra è visitabile fino al 5 d
 icembre con diversi orari.\n\n&nbsp\;\n\nPhzero è un collettivo fondato n
 el 2020 da Simona Gaffi\, architetta e artista\, e Daniele Signore\, stree
 t artist e tatuatore\, coinvolto in un approccio innovativo che unisce art
 e e tecnologie digitali\, con l’intenzione di interagire con il pubblico
  in modo nuovo ed unico\, espandendo i confini dell’espressione artistic
 a. L’utilizzo\, del controllo numerico e delle risorse digitali\, contri
 buisce alla creazione di opere d’arte altrimenti di difficile realizzazi
 one con i metodi tradizionali\, favorendo una connessione con il pubblico 
 che può aprire nuove opportunità per introdurre gli spettatori in modo p
 iù attivo e coinvolgente.\n\nLa continua formazione e sperimentazione nel
  campo del digitale e dei nuovi materiali spinge gli artisti in un crescen
 do di composizioni che fondono insieme la critica sociale\, la street art 
 e l’art-tech\, il principale stile che contraddistingue il collettivo\, 
 il quale di volta in volta\, si avvale della collaborazione di professioni
 sti in ogni campo necessario per approfondire e sviluppare le differenti t
 ematiche sociali con le quali propone la sua comunicazione.\n\n&nbsp\;\n\n
 Medina Art Gallery - Via Angelo Poliziano 32-34\, Roma\n\n \n\nInaugurazi
 one 29 novembre ore 18 – 21 \n\nOrari: 30 novembre e 1 dicembre ore 15-1
 9\n\ndal 2 al 5 dicembre ore 10-13/15-19\n\n&nbsp\;\n\nUfficio stampa Phze
 ro: Emanuela Rea 3338537295\; emanuelarea.mail@gmail.com
ATTACH;FMTTYPE=image/jpeg:https://lazioeventi.com/wp-content/uploads/2024/
 11/2024_phzero_exhibit_medina_web.jpg
CATEGORIES:Arte e Cultura nel Lazio
LOCATION:Roma\, Via Leopardi\, Roma\, Roma\, Lazio\, Italia
GEO:41.8942;12.5017
X-APPLE-STRUCTURED-LOCATION;VALUE=URI;X-ADDRESS=Via Leopardi\, Roma\, Roma\
 , Lazio\, Italia;X-APPLE-RADIUS=100;X-TITLE=Roma:geo:41.8942,12.5017
END:VEVENT
BEGIN:VTIMEZONE
TZID:Europe/Rome
X-LIC-LOCATION:Europe/Rome
BEGIN:STANDARD
DTSTART:20241027T020000
TZOFFSETFROM:+0200
TZOFFSETTO:+0100
TZNAME:CET
END:STANDARD
END:VTIMEZONE
END:VCALENDAR