BEGIN:VCALENDAR
VERSION:2.0
PRODID:-//wp-events-plugin.com//7.2.3.1//EN
TZID:Europe/Rome
X-WR-TIMEZONE:Europe/Rome
BEGIN:VEVENT
UID:38688@lazioeventi.com
DTSTART;TZID=Europe/Rome;VALUE=DATE:20240316
DTEND;TZID=Europe/Rome;VALUE=DATE:20240318
DTSTAMP:20240305T171905Z
URL:https://lazioeventi.com/eventi/corpo-e-musica
SUMMARY:Corpo è musica - Tuscania - 16 Marzo 24 00:00
DESCRIPTION:Masterclass con Loredana Parrella e Fabio Recchia\n\nSabato 16 
 e domenica 17 marzo 2024 al Supercinema e allo Spazio Fani di Tuscania (VT
 ) la coreografa e direttrice artistica di TWAIN Centro Produzione Danza Lo
 redana Parrella e il polistrumentista\, produttore e videomaker Fabio Recc
 hia conducono  la masterclass “Corpo è Musica” all'interno di Bo.A.T.
  - Botteghe Anonima Teatri\, percorso di perfezionamento professionale mul
 tidisciplinare dedicato ad attori/attrici e danzatori/danzatrici tra i 20 
 e i 35 anni a cura di Anonima Teatri\, organizzato da Twain nell’ambito 
 del progetto PERIFERIE ARTISTICHE - Centro di Residenza Multidisciplinare 
 della Regione Lazio sostenuto dal Ministero della Cultura e dalla Regione 
 Lazio.\n\nHic et nunc: così si può definire l’arte performativa. Qui e
  ora\, un evento di cui bisogna fruire appieno sul momento\, bisogna cogli
 erne gli aspetti\, i significati e le sensazioni prima che queste svanisca
 no al concludersi della performance. \nIl laboratorio esplorerà le capaci
 tà personali di relazione con l’altro\, la relazione del corpo con lo s
 pazio\, l’utilizzo della voce e dei suoi risonatori\, l’utilizzo di fr
 ammenti di testo in relazione al movimento. Saranno proposti esercizi di g
 ruppo e esercitazioni personali per scoprire ed affinare i propri talenti 
 naturali nel sostenere una performance che si concentra su corpo\, spazio 
 e suono. Affronteremo lo studio di partiture minimali in cui il corpo è l
 o strumento principale\, attraverso abbinamenti tra corpo e suono basati s
 ull’utilizzo di piccoli elementi musicali che produrranno performance cr
 ude e essenziali. La nostra sarà un’indagine sulla crescita graduale di
  una performance e sulla relazione tra performer ed elementi dello spettac
 olo\, sul pensiero e la rappresentazione del corpo\, sui suoi limiti e sul
  suo potenziale.\n\nLoredana Parrella Una lunga carriera iniziata negli an
 ni ’80 come interprete al Ballet Royal de Wallonie (Belgio)\, Théâtre 
 des Beaux Arts di Charleroi (Belgio)\, Opéra de Liège (Belgio)\, Teatro 
 alla Scala di Milano\, Teatro Comunale di Firenze\, Teatro Petruzzelli di 
 Bari\, Teatro Regio di Torino\; viene diretta dai registi e coreografi J. 
 Lefebre\, M. Van Hoeche\, L. Ronconi\, A. Konchalovsky\, Pier’Alli\, L. 
 Cavani\, U. Chiti\, J. Savari\, D. Desiata\, R. Fortune\, R. De Simone\, G
 . Cobelli e per il cinema da M. Soavi e da S. Sollima. Dagli anni ’90 ad
  oggi come coreografa e regista lavora in grandi Teatri come Teatro Comuna
 le di Modena\, Teatro San Carlo di Napoli\, Festival Mozart La Coruña (Sp
 agna)\, Birmingham Touring Opera 2000 (Inghilterra)\, Opera Zuid di Maastr
 icht (Paesi Bassi)\, Maggio Fiorentino\, Teatro Stabile di Torino\, Teatro
  dell’Opera di Roma\, Teatro Carlo Felice di Genova\, accanto a importan
 ti nomi del teatro come J.Kalman\, E. Gramss\, M. Avogadro\, F. Ripa di Me
 ana\, B. Myers. Negli anni dal 2001 al 2003 collabora con la Fondazione Na
 zionale della Danza/Aterballetto e dal 2003 al 2005 con la Scuola di Teatr
 o e Circo Alessandra Galante Garrone (Bologna) come docente per il corso d
 i formazione professionale per giovani danzatori e attori\, dove mette a p
 unto il suo metodo “Vocal expression training e physical dance theatre
 ”. Nel 2006 decide di investire tutta la sua esperienza nel progetto TWA
 IN che prende corpo con la fondazione della Compagnia. A 17 anni dalla fon
 dazione rimane Direttrice Artistica di un progetto ancora più ampio\, Twa
 in_Centro di Produzione Danza Regionale\, unico Centro di Produzione Danza
  sostenuto dalla Regione Lazio e Co-Direttrice di Periferie Artistiche_Cen
 tro di Residenza del Lazio sostenuto da Ministero della Cultura e Regione 
 Lazio. Dal 2006 a oggi ha creato per Twain oltre 20 produzioni distribuite
  in tutta Italia e all’estero. Dal 2017 è ideatrice del Premio Twain_di
 rezioniAltre per autori europei Under35. Inoltre\, dal 2010 al 2023 è dir
 ettrice di diversi Festival di rilevanza per la regione Lazio\, finanziati
  dalla Provincia di Roma\, Regione Lazio\, Roma Capitale\, Zètema progett
 o cultura e MiC.\n\nFabio Recchia 1976. Polistrumentista\, produttore e vi
 deomaker. Inizia con lo studio del pianoforte classico\, della chitarra\, 
 delle percussioni e prosegue la sua formazione integrandola con elettronic
 a\, avanguardia rock\, rumorismo\, improvvisazione\, tecnica del suono e v
 ideoarte\; così nei suoi molteplici progetti dispone di un set polistrume
 ntale\, riuscendo sia a suonare simultaneamente più strumenti sia a fare 
 OVER DUB live\, ossia registrare in tempo reale parti appena suonate\, rim
 andarle in play\, processarle e armonizzarle ottenendo così la sonorità 
 di una piccolo “ensemble” (sempre senza l’aiuto di computer!). Inolt
 re\, affina e customizza tecniche e macchinari\, progetta installazioni in
 terattive e spettacoli multimediali miscelando elementi fisico/acustici co
 n parametri digitali. Dallo studio Hombrelobo di Roma raggiunge la maggior
  parte del mondo con sue produzioni e numerosi concerti (Europa\, Inghilte
 rra\, Norvegia\, Scozia\, Giappone e Stati Uniti). Collabora con artisti i
 nternazionali come G. Burk\, J. B. Arnold\, E. Gabrielli\, F. Rondanini\, 
 M. Pupillo\, V. Vasi\, Zu\, Brutopop\, N. Tescari\, K. Labèque\, D. Chalm
 in\, M. Gilmore\, Meg\, L. Bulgarelli\, F. Bosso\, G. Petrella\, F. Bearza
 tti\, G. Falzone\, D. Suzuki\, A. Baricco e altri. NoHayBanda!\, Germanott
 a Youth\, Fire at Work e Reeks sono i suoi progetti più longevi.\nBo.A.T.
  - Botteghe Anonima Teatri è un corso di alta formazione inserito all’i
 nterno della NotAcademy\, che prevede\, da Settembre 2023 a Maggio 2024 pr
 esso il Supercinema e lo Spazio Fani a Tuscania\, 10 weekend di masterclas
 s sul teatro contemporaneo\, metodo per azioni fisiche\, metodo per azioni
  vocali\, tecniche di interpretazione\, recitazione cinematografica\, dram
 maturgia\, danza contemporanea\, composizione coreografica con pedagoghi\,
  registi\, attori e coreografi di fama nazionale quali Andrea Pangallo\, S
 imonetta Guarino\, Aleksandros Memetaj e Yoris Petrillo\, Elena Gigliotti\
 , Dario Aita\, Loredana Parrella e Fabio Recchia\, Nicola Simone Cisternin
 o\, Giampiero Rappa. \n\nPer iscriversi inviare breve lettera motivazional
 e e CV ad anonimateatri@gmail.com entro martedì 12 marzo 2024 con oggetto
 : CANDIDATURA Bo.A.T. \nÈ possibile usufruire di un posto letto nelle for
 esterie della struttura a costo aggiuntivo\, previa richiesta.\n\nINFO\, C
 OSTI E ISCRIZIONI:\nanonimateatri@gmail.com | anonimateatri.com 
ATTACH;FMTTYPE=image/jpeg:https://lazioeventi.com/wp-content/uploads/2024/
 03/web-Masterclass-Parrella-Recchia.jpg
CATEGORIES:Musica, Spettacoli e Danza nel Lazio,Varie
LOCATION:Tuscania\, Comune\, Tuscania\, Viterbo\, Lazio\, Italia
GEO:42.4162;11.8761
X-APPLE-STRUCTURED-LOCATION;VALUE=URI;X-ADDRESS=Comune\, Tuscania\, Viterbo
 \, Lazio\, Italia;X-APPLE-RADIUS=100;X-TITLE=Tuscania:geo:42.4162,11.8761
END:VEVENT
BEGIN:VTIMEZONE
TZID:Europe/Rome
X-LIC-LOCATION:Europe/Rome
BEGIN:STANDARD
DTSTART:20231029T020000
TZOFFSETFROM:+0200
TZOFFSETTO:+0100
TZNAME:CET
END:STANDARD
END:VTIMEZONE
END:VCALENDAR