BEGIN:VCALENDAR
VERSION:2.0
PRODID:-//wp-events-plugin.com//7.2.3.1//EN
TZID:Europe/Rome
X-WR-TIMEZONE:Europe/Rome
BEGIN:VEVENT
UID:31220@lazioeventi.com
DTSTART;TZID=Europe/Rome;VALUE=DATE:20220611
DTEND;TZID=Europe/Rome;VALUE=DATE:20220612
DTSTAMP:20220605T193202Z
URL:https://lazioeventi.com/eventi/corso-bls-d-e-pbls-d
SUMMARY:Corso BLS-D e PBLS-D - Spigno Saturnia - 11 Giugno 22 00:00
DESCRIPTION:BLSD è l'acronimo di Basic Life Support- early -Defibrillation
 \, supporto di base delle funzioni vitali e defibrillazione precoce\, e co
 nsiste nell'insieme di manovre attue a supportare le funzioni di base di u
 n individuo e all' utilizzo di un defibrillatore.\n\nQuesto corso insegna 
 a soccorrere i soggetti colpiti da attacco cardiaco mediante la rianimazio
 ne cardiopolmonare e la defibrillazione.\n\nGli obiettivi sono: identifica
 re una situazione in cui sia necessaria una rianimazione \, attivare il si
 stema di emergenza quando è necessario\, prevenire /ritardare i danni da 
 mancata ossigenazione cerebrale\, blsper la compromissione di una o più f
 unzioni vitali ( coscienza\, respiro\, circolo) con una adeguata e precoce
  RCP\, eseguire ventilazioni efficaci\, eseguire compressioni toraciche ef
 ficaci\, qualora possibile utilizzare il defibrillatore ( depolarizzatore 
 delle cellule cardiache che premette il ripristino del ritmo sinusale\, me
 diante una piccolissima pausa).\n\nIl corso di Phediatric Basic Life Suppo
 rt and Defibrillation ha l'obiettivo principale di far acquisire gli strum
 enti conoscitivi e metodologici e le capacità necessarie per prevenire il
  danno anossico cerebrale e riconoscere in un paziente pediatrico lo stato
  d'incoscienza\, di arresto respiratorio e di assenza di polso in una cond
 izione di assoluta sicurezza per se stesso\, per la persona soccorsa e per
  gli altri soccorritori.\nPer evitare queste gravissime conseguenze\, occo
 rre uniformare ed ordinare le valutazioni da fare e le azioni da compiere 
 nell'ambito della cosiddetta catena della sopravvivenza.\n\nIl corso è ri
 volto a medici infermieri\, associazioni di volontariato\, forze dell'ordi
 ne\, strutture scolastiche\, palestre\, campi scuola\, laici.
ATTACH;FMTTYPE=image/jpeg:https://lazioeventi.com/wp-content/uploads/2022/
 06/corso-blsd.jpg
CATEGORIES:Varie
LOCATION:Spigno Saturnia\, Comune\, Spigno Saturnia\, Latina\, Lazio\, Ital
 ia
GEO:41.3056;13.7341
X-APPLE-STRUCTURED-LOCATION;VALUE=URI;X-ADDRESS=Comune\, Spigno Saturnia\, 
 Latina\, Lazio\, Italia;X-APPLE-RADIUS=100;X-TITLE=Spigno Saturnia:geo:41.
 3056,13.7341
END:VEVENT
BEGIN:VTIMEZONE
TZID:Europe/Rome
X-LIC-LOCATION:Europe/Rome
BEGIN:DAYLIGHT
DTSTART:20220327T030000
TZOFFSETFROM:+0100
TZOFFSETTO:+0200
TZNAME:CEST
END:DAYLIGHT
END:VTIMEZONE
END:VCALENDAR