BEGIN:VCALENDAR
VERSION:2.0
PRODID:-//wp-events-plugin.com//7.2.3.1//EN
TZID:Europe/Rome
X-WR-TIMEZONE:Europe/Rome
BEGIN:VEVENT
UID:35751@lazioeventi.com
DTSTART;TZID=Europe/Rome:20230618T090000
DTEND;TZID=Europe/Rome:20230618T173000
DTSTAMP:20230606T141004Z
URL:https://lazioeventi.com/eventi/corso-costruzione-coltelli-20
SUMMARY:Corso Costruzione Coltelli - Tivoli - 18 Giugno 23 09:00
DESCRIPTION: Partiamo subito da un presupposto: per partecipare a questo co
 rso NON occorre essere esperti e NON occorre avere alcun tipo di esperienz
 a pregressa.\nTutto ciò di cui c'è bisogno è: Passione e Curiosità.\n\
 nCOSA FAREMO:\nIl corso prevede la REALIZZAZIONE COMPLETA di un coltello a
 rtigianale attraverso la sapiente guida del Mastro della Coltelleria Cosma
 i (www.coltelleriacosmai.it).\nIl corso inizia alle ore 9.00 e termina all
 e 17.30 (indicativamente).\nA fine giornata ogni partecipante porterà a c
 asa il PROPRIO COLTELLO progettato e realizzato durante il corso\, complet
 o di MANICO in paracord e PERSONALIZZAZIONE DELLA LAMA.\nInoltre la partec
 ipazione al corso dà diritto di partecipare GRATUITAMENTE ai successivi c
 orsi per piccoli interventi di manutenzione (affilatura\, ecc.) o per chie
 dere consigli al Mastro Coltellinaio.\nSuccessivamente al corso verrà inv
 iata una dispensa in formato digitale con riassunto delle nozioni teoriche
  e link utili.\nVerrà inoltre rilasciato un ATTESTATO DI PARTECIPAZIONE.\
 n\nPROGRAMMA DEL CORSO:\n– Nozioni teoriche su acciai e relativo trattam
 ento termico\n– Nozioni teoriche sulle parti che compongono un coltello 
 e le varie tipologie\n– Nozioni teoriche della lavorazione da affrontare
  per realizzare il proprio coltello\n– Spiegazione per l'utilizzo degli 
 strumenti di lavorazione e materiali protettivi\n- Realizzazione del colte
 llo mediante tecnica di "asportazione"\n– Personalizzazione della lama c
 on punzonatura lettere o numeri a propria scelta\n– Tempra in forgia del
  coltello\n– Affilatura e Realizzazione del Manico in Paracord\n- Nozion
 i su manicatura in legno\, fodero in cuoio o Kydex\n\nDOVE:\nIl corso si s
 volgerà a Tivoli\, presso l'OFFICINA DI TIVOLI TREK\, al coperto e in qua
 lunque condizione climatica.\n\nCONSIGLI:\nE' consigliato abbigliamento da
  lavoro.\n\nPER PARTECIPARE O PER INFORMAZIONI:\nMandare una mail all’in
 dirizzo:  tivolitrek@gmail.com oppure chiamare il  numero 393.8345211 (anc
 he whatsapp)\n\nIL CORSO E' A NUMERO CHIUSO\nSaranno prese in considerazio
 ne le prime 8 iscrizioni 
ATTACH;FMTTYPE=image/jpeg:https://lazioeventi.com/wp-content/uploads/2023/
 06/346626365_1653528211742140_1790049522407369075_n.jpg
CATEGORIES:Varie
LOCATION:Tivoli\, Comune\, Tivoli\, Roma\, Lazio\, Italia
GEO:41.9639;12.7985
X-APPLE-STRUCTURED-LOCATION;VALUE=URI;X-ADDRESS=Comune\, Tivoli\, Roma\, La
 zio\, Italia;X-APPLE-RADIUS=100;X-TITLE=Tivoli:geo:41.9639,12.7985
END:VEVENT
BEGIN:VTIMEZONE
TZID:Europe/Rome
X-LIC-LOCATION:Europe/Rome
BEGIN:DAYLIGHT
DTSTART:20230326T030000
TZOFFSETFROM:+0100
TZOFFSETTO:+0200
TZNAME:CEST
END:DAYLIGHT
END:VTIMEZONE
END:VCALENDAR