BEGIN:VCALENDAR
VERSION:2.0
PRODID:-//wp-events-plugin.com//7.2.3.1//EN
TZID:Europe/Rome
X-WR-TIMEZONE:Europe/Rome
BEGIN:VEVENT
UID:26869@lazioeventi.com
DTSTART;TZID=Europe/Rome:20200712T080000
DTEND;TZID=Europe/Rome:20200712T180000
DTSTAMP:20200707T131355Z
URL:https://lazioeventi.com/eventi/corso-costruzione-coltelli-5
SUMMARY:Corso Costruzione Coltelli - Tivoli - 12 Luglio 20 08:00
DESCRIPTION:✅ Partiamo subito da un presupposto: per partecipare a questo
  corso NON occorre essere esperti e NON occorre avere alcun tipo di esperi
 enza pregressa.\nTutto ciò di cui c'è bisogno è: Passione e Curiosità.
 \n▼▼▼▼▼▼▼▼▼▼▼▼▼▼▼▼▼▼▼▼▼▼\n✅ 
 COSA FAREMO:\nIl corso prevede la REALIZZAZIONE COMPLETA di un coltello ar
 tigianale attraverso la sapiente guida del Mastro Coltellinaio di #Ac #Cos
 mai #Blades.\nIl corso inizia alle ore 8.00 e termina alle 18.00.\nA fine 
 giornata ogni partecipante porterà a casa il PROPRIO COLTELLO progettato 
 e realizzato durante il corso\, completo di MANICO in paracord e PERSONALI
 ZZAZIONE DELLA LAMA.\nInoltre la partecipazione al corso dà diritto di pa
 rtecipare GRATUITAMENTE ai successivi corsi per piccoli interventi di manu
 tenzione (affilatura\, ecc.) o per chiedere consigli al Mastro Coltellinai
 o.\nPossibilità di PERNOTTO GRATUITO per chi viene da lontano.\nSuccessiv
 amente al corso verrà inviata una dispensa in formato digitale con riassu
 nto delle nozioni teoriche e link utili.\nVerrà inoltre rilasciato un ATT
 ESTATO DI PARTECIPAZIONE.\n▼▼▼▼▼▼▼▼▼▼▼▼▼▼▼
 ▼▼▼▼▼▼▼\n✅ PROGRAMMA DEL CORSO:\n– Nozioni teoriche su a
 cciai e relativo trattamento termico\n– Nozioni teoriche sulle parti che
  compongono un coltello e le varie tipologie\n– Nozioni teoriche della l
 avorazione da affrontare per realizzare il proprio coltello\n– Spiegazio
 ne per l'utilizzo degli strumenti di lavorazione e materiali protettivi\n-
  Realizzazione del coltello mediante tecnica di "asportazione"\n– Person
 alizzazione della lama con punzonatura lettere o numeri a propria scelta\n
 – Tempra in forgia del coltello\n– Affilatura e Realizzazione del Mani
 co in Paracord\n- Nozioni su manicatura in legno\, fodero in cuoio o Kydex
 \n▼▼▼▼▼▼▼▼▼▼▼▼▼▼▼▼▼▼▼▼▼▼\n✅ 
 DOVE:\nIl corso si svolgerà a Tivoli\, presso l'OFFICINA DI TIVOLI TREK\,
  al chiuso e in qualunque condizione climatica.\n▼▼▼▼▼▼▼▼
 ▼▼▼▼▼▼▼▼▼▼▼▼▼▼\n✅ CONSIGLI:\nE' consigliato 
 abbigliamento da lavoro.
ATTACH;FMTTYPE=image/jpeg:https://lazioeventi.com/wp-content/uploads/2020/
 07/coltelli.jpg
CATEGORIES:Varie
LOCATION:Tivoli\, Comune\, Tivoli\, Roma\, Lazio\, Italia
GEO:41.9639;12.7985
X-APPLE-STRUCTURED-LOCATION;VALUE=URI;X-ADDRESS=Comune\, Tivoli\, Roma\, La
 zio\, Italia;X-APPLE-RADIUS=100;X-TITLE=Tivoli:geo:41.9639,12.7985
END:VEVENT
BEGIN:VTIMEZONE
TZID:Europe/Rome
X-LIC-LOCATION:Europe/Rome
BEGIN:DAYLIGHT
DTSTART:20200329T030000
TZOFFSETFROM:+0100
TZOFFSETTO:+0200
TZNAME:CEST
END:DAYLIGHT
END:VTIMEZONE
END:VCALENDAR