BEGIN:VCALENDAR
VERSION:2.0
PRODID:-//wp-events-plugin.com//7.2.3.1//EN
TZID:Europe/Rome
X-WR-TIMEZONE:Europe/Rome
BEGIN:VEVENT
UID:40877@lazioeventi.com
DTSTART;TZID=Europe/Rome:20250318T163000
DTEND;TZID=Europe/Rome:20250318T183000
DTSTAMP:20250303T171747Z
URL:https://lazioeventi.com/eventi/corso-di-cartografia
SUMMARY:Corso di Cartografia - Roma - 18 Marzo 25 16:30
DESCRIPTION:Organizzato in collaborazione con le Edizioni Il Lupo\, il cors
 o si propone di fornire una conoscenza di base della cartografia\, approfo
 ndendo la lettura delle carte topografiche ed escursionistiche\, l’uso d
 egli strumenti di navigazione e un’esperienza pratica sul campo.\n\nÈ r
 ivolto a tutti gli appassionati di escursionismo\, orientamento e cartogra
 fia.\n\nLEZIONI TEORICHE:\nmartedì 18 e martedì 25 marzo – dalle ore 1
 6:30 alle ore 18:30 presso il Punto Touring di Roma\n\nLEZIONE PRATICA:\nd
 omenica 30 marzo – dalle ore 10:00 alle ore 12:30 nei dintorni del Punto
  Touring di Roma\n\n   \nQuota di iscrizione al corso:\nIscritti TCI: € 
 60\,00 - Non iscritti: € 70\,00\n\nPRENOTAZIONE DA CONFERMARE CON SALDO 
 ENTRO VENERDI’ 14 MARZO\nPRENOTA QUI  –> libreria.ptroma@touringclub.i
 t\n\nPUNTO TOURING ROMA\nPiazza Ss. Apostoli\, 62/65 – 00187 Roma\ntel. 
 06 36005281\nfax 06 36005342\nlibreria.ptroma@touringclub.it\n\nwww.tourin
 gclub.it
ATTACH;FMTTYPE=image/jpeg:https://lazioeventi.com/wp-content/uploads/2025/
 03/Corso-di-Cartografia-18-25-e-30-marzo-1-1.jpg
CATEGORIES:Arte e Cultura nel Lazio,Sport, Tempo Libero e Divertimento nel
 Lazio
LOCATION:Roma\, Via Leopardi\, Roma\, Roma\, Lazio\, Italia
GEO:41.8942;12.5017
X-APPLE-STRUCTURED-LOCATION;VALUE=URI;X-ADDRESS=Via Leopardi\, Roma\, Roma\
 , Lazio\, Italia;X-APPLE-RADIUS=100;X-TITLE=Roma:geo:41.8942,12.5017
END:VEVENT
BEGIN:VTIMEZONE
TZID:Europe/Rome
X-LIC-LOCATION:Europe/Rome
BEGIN:STANDARD
DTSTART:20241027T020000
TZOFFSETFROM:+0200
TZOFFSETTO:+0100
TZNAME:CET
END:STANDARD
END:VTIMEZONE
END:VCALENDAR