BEGIN:VCALENDAR
VERSION:2.0
PRODID:-//wp-events-plugin.com//7.2.3.1//EN
TZID:Europe/Rome
X-WR-TIMEZONE:Europe/Rome
BEGIN:VEVENT
UID:29631@lazioeventi.com
DTSTART:20220110T200000Z
DTEND:20220110T213000Z
DTSTAMP:20211220T111832Z
URL:https://lazioeventi.com/eventi/corso-di-fotografia-formia
SUMMARY:Corso di fotografia - Formia - 10 Gennaio 22 21:00
DESCRIPTION:Il Circolo fotografico-culturale "l'altro sguardo" è attivo da
  quasi 20 anni nel Golfo di Gaeta organizzando nel tempo eventi che promuo
 vono l'incontro\, lo scambio\, l'arricchimento\, la crescita artistica e u
 mana\, la possibilità di espressione 
ATTACH;FMTTYPE=image/jpeg:https://lazioeventi.com/wp-content/uploads/2021/
 12/XXI_locandina_2.jpg
CATEGORIES:Varie
LOCATION:Formia\, Comune\, Formia\, Latina\, Lazio\, Italia
GEO:41.2559;13.6059
X-APPLE-STRUCTURED-LOCATION;VALUE=URI;X-ADDRESS=Comune\, Formia\, Latina\, 
 Lazio\, Italia;X-APPLE-RADIUS=100;X-TITLE=Formia:geo:41.2559,13.6059
END:VEVENT
END:VCALENDAR