BEGIN:VCALENDAR
VERSION:2.0
PRODID:-//wp-events-plugin.com//7.2.3.1//EN
TZID:Europe/Rome
X-WR-TIMEZONE:Europe/Rome
BEGIN:VEVENT
UID:34091@lazioeventi.com
DTSTART;TZID=Europe/Rome:20230224T180000
DTEND;TZID=Europe/Rome:20230225T180000
DTSTAMP:20230213T162326Z
URL:https://lazioeventi.com/eventi/corso-di-gestione-e-potatura-di-un-oliv
 eto
SUMMARY:Corso di gestione e potatura di un oliveto - Canale Monterano - 24 
 Febbraio 23 18:00
DESCRIPTION:Riparte la seconda edizione del Corso di gestione e potatura di
  un oliveto!\n\nL'associazione Vivere Canale Monterano APS\, al suo 6° an
 no di attività\, organizza in collaborazione con il Comune di Canale Mont
 erano e la Monterano Riserva Naturale la seconda edizione del corso di Oli
 vicoltura.\n\nIl corso si terrà all'interno del centro visite della Riser
 va Monterano (zona campi sportivi)\, coordinate Luogo: 42\,137543\, 12\,09
 7307\, nel comune di Canale Monterano (RM).\n\nIl corso è articolato in d
 ue giornate: una di teoria applicata sulle tipologie e modalità di potatu
 ra applicabili alle cultivar locali e la seconda in campo con prova pratic
 a di potatura per i partecipanti ed una degustazione guidata di olii.\nIl 
 corso è tenuto da un agronomo specializzato nella gestione di oliveti.\nI
 l programma del corso è così strutturato:\n\nVenerdì 24 marzo 2023 ore 
 18:00 -20:30 lezione di teoria in aula\n\nSabato 25 marzo 2023 ore 9:30 -1
 7:00 lezione di pratica in campo con tecniche di potatura\nPausa pranzo (p
 ranzo al sacco) A seguire degustazioni guidata di differenti varietà di o
 lii abbinate al tipico pane di Canale Monterano (il pane che va piano).\n\
 nAl termine del corso verrà rilasciato un attestato di partecipazione\n\n
 Per prenotazioni e Info chiama al numero 3332043886 - viverecanalemonteran
 o@gmail.com
ATTACH;FMTTYPE=image/jpeg:https://lazioeventi.com/wp-content/uploads/2023/
 02/potatura-olivo.jpg
CATEGORIES:Arte e Cultura nel Lazio,Varie
LOCATION:Canale Monterano\, Comune\, Canale Monterano\, Roma\, Lazio\, Ital
 ia
GEO:42.1367;12.1038
X-APPLE-STRUCTURED-LOCATION;VALUE=URI;X-ADDRESS=Comune\, Canale Monterano\,
  Roma\, Lazio\, Italia;X-APPLE-RADIUS=100;X-TITLE=Canale Monterano:geo:42.
 1367,12.1038
END:VEVENT
BEGIN:VTIMEZONE
TZID:Europe/Rome
X-LIC-LOCATION:Europe/Rome
BEGIN:STANDARD
DTSTART:20221030T020000
TZOFFSETFROM:+0200
TZOFFSETTO:+0100
TZNAME:CET
END:STANDARD
END:VTIMEZONE
END:VCALENDAR