BEGIN:VCALENDAR
VERSION:2.0
PRODID:-//wp-events-plugin.com//7.2.3.1//EN
TZID:Europe/Rome
X-WR-TIMEZONE:Europe/Rome
BEGIN:VEVENT
UID:40588@lazioeventi.com
DTSTART;TZID=Europe/Rome:20250126T093000
DTEND;TZID=Europe/Rome:20250126T170000
DTSTAMP:20250115T085338Z
URL:https://lazioeventi.com/eventi/corso-di-potatura-delle-rose
SUMMARY:Corso di potatura delle rose - Roccantica - 26 Gennaio 25 09:30
DESCRIPTION:Vuoi imparare a prenderti cura delle tue rose? Nei mesi inverna
 li organizziamo corsi specializzati per la potatura\, la coltivazione e la
  cura delle tue rose. \n\nDurante le sessioni\, parteciperai attivamente\,
  apprendendo le tecniche più semplici ed efficaci per far prosperare le r
 ose del tuo giardino o del tuo terrazzo\, e mantenerle rigogliose e in pie
 na salute.\n
ATTACH;FMTTYPE=image/jpeg:https://lazioeventi.com/wp-content/uploads/2025/
 01/locandina-corso-potatura-2025.jpeg
CATEGORIES:Varie
LOCATION:Roccantica\, Comune di Roccantica\, Roccantica\, Rieti\, Lazio\, I
 talia
GEO:42.3205;12.6929
X-APPLE-STRUCTURED-LOCATION;VALUE=URI;X-ADDRESS=Comune di Roccantica\, Rocc
 antica\, Rieti\, Lazio\, Italia;X-APPLE-RADIUS=100;X-TITLE=Roccantica:geo:
 42.3205,12.6929
END:VEVENT
BEGIN:VTIMEZONE
TZID:Europe/Rome
X-LIC-LOCATION:Europe/Rome
BEGIN:STANDARD
DTSTART:20241027T020000
TZOFFSETFROM:+0200
TZOFFSETTO:+0100
TZNAME:CET
END:STANDARD
END:VTIMEZONE
END:VCALENDAR