BEGIN:VCALENDAR
VERSION:2.0
PRODID:-//wp-events-plugin.com//7.2.3.1//EN
TZID:Europe/Rome
X-WR-TIMEZONE:Europe/Rome
BEGIN:VEVENT
UID:34949@lazioeventi.com
DTSTART;TZID=Europe/Rome;VALUE=DATE:20230421
DTEND;TZID=Europe/Rome;VALUE=DATE:20230424
DTSTAMP:20230403T110026Z
URL:https://lazioeventi.com/eventi/corso-sul-riconoscimento-erbe-spontanee
 -erbe-spontanee-commestibili
SUMMARY:Corso sul riconoscimento erbe spontanee erbe spontanee commestibili
  - Canale Monterano - 21 Aprile 23 00:00
DESCRIPTION:Terza edizione del Corso sul riconoscimento erbe spontanee erbe
  spontanee commestibili e preparazioni erboristiche!\n\nIl corso è tenuto
  da due agronomi forestali\, con esperienza pregressa nell'organizzione di
  questo corso e con formazione specifica nel riconoscimento delle erbe spo
 ntanee e della fitoterapia.\nIl corso è strutturato in 2 moduli distinti\
 ; per ogni modulo è prevista una lezione teorica sullo studio delle erbe 
 (Venerdì h 18-20\,30)\, un’uscita in campo per il riconoscimento (Sabat
 o h 9-13) ed una lezione di preparati erboristici con le erbe studiate (Do
 menica 10-15\,30).\nè possibile partecipare anche singolarmente ad ogni m
 odulo. \n\nIl programma dettagliato delle giornate è:\nModulo A | Erbe co
 mmestibili\, Estratti secchi e Olii essenziali | 21-22-23 aprile\nStudio\,
  teoria e riconoscimento in campo delle famiglie botaniche:\nAlliaceae\, A
 piaceae\, Brassicaceae\, Malvaceae\, Plantaginaceae\, Brassicaceae\, Urtic
 aceae\, Specie singole.\nPreparazione erboristiche: gli estratti secchi | 
 Proprietà terapeutiche:\nfinocchio\, aglio\, malva\, melissa | Cenni su: 
 disturbi dell’apparato digerente.\nPreparazione erboristiche: gli oli es
 senziali (cenni su tea tree oil\,\ncipresso\, lavanda) | Proprietà terape
 utiche di: salvia\, ortica\, luppolo\nCenni su: disturbi della matrice oss
 ea.\n\nModulo B | Erbe commestibili\, Tinture madri e gemmo derivati |28-2
 9-30 aprile\nStudio teoria e riconoscimento in campo delle famiglie botani
 che:\nAsteraceae \, Rosaceae\, Lamiaceae\, Chenopodiaceae\, specie singole
 .\nPreparazioni erboristiche: le tinture madri e i gemmo derivati\nProprie
 tà terapeutiche di tarassaco\, borsa del pastore\, \, cardo mariano.\nCen
 ni su: disturbi del fegato-dislipidemie\nLe lezioni teoriche si terranno a
 l Centro visite della Riserva Naturale Regionale Monterano\,\nCanale Monte
 rano (RM)\, Via Palombara (Campi sportivi). Link alla posizione: https://g
 oo.gl/maps/8N32hfkXq72tMiRZ7.\nLe uscite in campo avverranno nei percorsi 
 ufficiali della Riserva Naturale Regionale Monterano.\n\nL’iscrizione pu
 ò essere per singolo modulo.\n\nNel caso di iscrizione a 2 moduli è prev
 ista una scontistica.\n\nIscrizione obbligatoria al numero 3332043886 o vi
 a mail viverecanalemonterano@gmail.com
ATTACH;FMTTYPE=image/jpeg:https://lazioeventi.com/wp-content/uploads/2023/
 04/erbe-commestibili-monterano.jpg
CATEGORIES:Arte e Cultura nel Lazio,Varie
LOCATION:Canale Monterano\, Comune\, Canale Monterano\, Roma\, Lazio\, Ital
 ia
GEO:42.1367;12.1038
X-APPLE-STRUCTURED-LOCATION;VALUE=URI;X-ADDRESS=Comune\, Canale Monterano\,
  Roma\, Lazio\, Italia;X-APPLE-RADIUS=100;X-TITLE=Canale Monterano:geo:42.
 1367,12.1038
END:VEVENT
BEGIN:VTIMEZONE
TZID:Europe/Rome
X-LIC-LOCATION:Europe/Rome
BEGIN:DAYLIGHT
DTSTART:20230326T030000
TZOFFSETFROM:+0100
TZOFFSETTO:+0200
TZNAME:CEST
END:DAYLIGHT
END:VTIMEZONE
END:VCALENDAR