BEGIN:VCALENDAR
VERSION:2.0
PRODID:-//wp-events-plugin.com//7.2.3.1//EN
TZID:Europe/Rome
X-WR-TIMEZONE:Europe/Rome
BEGIN:VEVENT
UID:28258@lazioeventi.com
DTSTART;TZID=Europe/Rome:20210612T090000
DTEND;TZID=Europe/Rome:20210613T230000
DTSTAMP:20210606T183233Z
URL:https://lazioeventi.com/eventi/curiosando-mercatino-dellantiquariato-c
 ollezionismo-e-vintage
SUMMARY:Curiosando - Mercatino dell'antiquariato\, collezionismo e vintage 
 - Frascati - 12 Giugno 21 09:00
DESCRIPTION:Dopo il successo delle prime edizioni nel 2020\, torna a Frasca
 ti Curiosando\, il mercatino di antiquariato e collezionismo più famoso d
 ’Italia!\n\nIl 12 e 13 giugno\, lungo la passeggiata del più celebre de
 i Castelli Romani\, circa 30 antiquari e collezionisti apriranno le loro "
 valigie dei sogni" a tutti gli appassionati e i curiosi alla ricerca di og
 getti rari e preziosi.\n\nCuriosando propone ai visitatori un viaggio alla
  scoperta dell'antiquariato e del collezionismo\, buttando l'occhio sul mo
 dernariato e sul vintage che ormai da diversi anni popolano con successo l
 e mostre mercato italiane ed europee.\n\nL’evento Curiosando nasce nel 1
 994 nelle principali località balneari della costa adriatica dove si cons
 olida negli anni come la più importante manifestazione estiva di antiquar
 iato e collezionismo all’aperto. Con la partecipazione di oltre 200 espo
 sitori antiquari e collezionisti selezionati\, negli anni ha raggiunto alt
 re prestigiose località turistiche italiane come Cortina d’Ampezzo\, Mi
 lano Marittima e San Benedetto del Tronto.\nL'appuntamento di Frascati si 
 inserisce all'interno del Tour 2021 di Curiosando che ogni anno coinvolge 
 oltre 100 mila visitatori e oltre 300 antiquari.\n\nL'evento\, è organizz
 ato dalla ditta Brandozzi A. &amp\; C. snc che opera nel settore dell’or
 ganizzazione delle mostre di antiquariato da oltre trent’anni\, promuove
 ndo eventi specializzati che vedono la partecipazione di importanti antiqu
 ari nazionali. Questa data di giugno recupera l’edizione di novembre che
  fu sospesa a causa delle restrizioni da Coronavirus.
ATTACH;FMTTYPE=image/jpeg:https://lazioeventi.com/wp-content/uploads/2021/
 06/cartolina-giugno-2021.jpg
CATEGORIES:Fiere e Mercatini nel Lazio
LOCATION:Frascati\, Comune\, Frascati\, Roma\, Lazio\, Italia
GEO:41.807;12.6786
X-APPLE-STRUCTURED-LOCATION;VALUE=URI;X-ADDRESS=Comune\, Frascati\, Roma\, 
 Lazio\, Italia;X-APPLE-RADIUS=100;X-TITLE=Frascati:geo:41.807,12.6786
END:VEVENT
BEGIN:VTIMEZONE
TZID:Europe/Rome
X-LIC-LOCATION:Europe/Rome
BEGIN:DAYLIGHT
DTSTART:20210328T030000
TZOFFSETFROM:+0100
TZOFFSETTO:+0200
TZNAME:CEST
END:DAYLIGHT
END:VTIMEZONE
END:VCALENDAR