BEGIN:VCALENDAR
VERSION:2.0
PRODID:-//wp-events-plugin.com//7.2.3.1//EN
TZID:Europe/Rome
X-WR-TIMEZONE:Europe/Rome
BEGIN:VEVENT
UID:43922@lazioeventi.com
DTSTART;TZID=Europe/Rome;VALUE=DATE:20260303
DTEND;TZID=Europe/Rome;VALUE=DATE:20260410
DTSTAMP:20260304T104541Z
URL:https://lazioeventi.com/eventi/cybersecurity-technician
SUMMARY:Cybersecurity Technician - Roma - 3 Marzo 26 00:00
DESCRIPTION:Aperte le iscrizioni per la III edizione del corso “Cybersecu
 rity Technician” \n\nCorso frontale presso il WeGil\, largo Ascianghi 5\
 , Roma per 20 nuovi allievi: domande aperte fino al 9 aprile 2026\n\nApert
 e le candidature per l’ammissione al percorso formativo “Cybersecurity
  Technician”\, promosso dall’Accademia di Cybersicurezza Lazio (Acl). 
 Il bando\, giunto alla III edizione è rivolto a 20 allievi selezionati ch
 e desiderano costruire una carriera nel settore della sicurezza informatic
 a.\n\nIl corso forma professionisti capaci di operare nell’ambito della 
 cybersecurity governance\, padroneggiando i principali framework e le meto
 dologie fondamentali del settore. I partecipanti acquisiranno competenze p
 er identificare le fonti di rischio per la sicurezza delle informazioni\, 
 applicare soluzioni idonee al ripristino dei sistemi e delle reti comprome
 ssi e gestire le tecnologie “disruptive” emergenti\, valutandone oppor
 tunità e rischi.\n\nLe domande di partecipazione devono essere presentate
  esclusivamente per via telematica attraverso la piattaforma informatica d
 isponibile all’indirizzo webapp.regione.lazio.it/aclallievi.\n\nFinestra
  temporale per le candidature: dalle ore 12:00 del 23 febbraio 2026 alle o
 re 12:00 del 9 aprile 2026. Le domande pervenute oltre tale termine compor
 teranno l’esclusione dal percorso di selezione.\n\nPer informazioni comp
 lete e per accedere al bando ufficiale\, è possibile consultare il sito d
 i LAZIOcrea: www.laziocrea.it\n\nIl progetto è cofinanziato dall’Unione
  Europea nell'ambito del PR LAZIO FSE+2021-2027 in collaborazione con l'ag
 enzia per la Cybersicurezza nazionale ed è gestito da LAZIOcrea SPA. \n\n
 Modalità di candidatura: Esclusivamente online su webapp.regione.lazio.it
 /aclallievi\nInfo e bando completo: www.aclazio.it
ATTACH;FMTTYPE=image/jpeg:https://lazioeventi.com/wp-content/uploads/2026/
 03/wegil.jpeg
CATEGORIES:Arte e Cultura nel Lazio,Varie
LOCATION:Roma\, Via Leopardi\, Roma\, Roma\, Lazio\, Italia
GEO:41.8942;12.5017
X-APPLE-STRUCTURED-LOCATION;VALUE=URI;X-ADDRESS=Via Leopardi\, Roma\, Roma\
 , Lazio\, Italia;X-APPLE-RADIUS=100;X-TITLE=Roma:geo:41.8942,12.5017
END:VEVENT
BEGIN:VTIMEZONE
TZID:Europe/Rome
X-LIC-LOCATION:Europe/Rome
BEGIN:STANDARD
DTSTART:20251026T020000
TZOFFSETFROM:+0200
TZOFFSETTO:+0100
TZNAME:CET
END:STANDARD
BEGIN:DAYLIGHT
DTSTART:20260329T030000
TZOFFSETFROM:+0100
TZOFFSETTO:+0200
TZNAME:CEST
END:DAYLIGHT
END:VTIMEZONE
END:VCALENDAR