BEGIN:VCALENDAR
VERSION:2.0
PRODID:-//wp-events-plugin.com//7.2.3.1//EN
TZID:Europe/Rome
X-WR-TIMEZONE:Europe/Rome
BEGIN:VEVENT
UID:41272@lazioeventi.com
DTSTART;TZID=Europe/Rome:20250604T173000
DTEND;TZID=Europe/Rome:20250604T190000
DTSTAMP:20250418T061124Z
URL:https://lazioeventi.com/eventi/da-alsium-a-ladispoli-2025-06-04
SUMMARY:Da Alsium a Ladispoli - Ladispoli - 4 Giugno 25 17:30
DESCRIPTION:Una preziosa occasione per riscoprire le radici più antiche di
  Ladispoli. A partire da mercoledì 7 maggio\, presso la Biblioteca Comuna
 le “Peppino Impastato”\, si terrà il ciclo di incontri “Da Alsium a
  Ladispoli – Lezioni di introduzione alla storia e all’archeologia del
 la città di Ladispoli”\, a cura del Dott. Flavio Enei\, archeologo e di
 rettore del Polo Museale Civico di Santa Marinella.\n\nL’iniziativa è o
 rganizzata dall’Assessorato alla Cultura del Comune di Ladispoli\, in co
 llaborazione con il Gruppo Archeologico del Territorio Cerite (GATC)\, e i
 ntende offrire alla cittadinanza un percorso formativo e divulgativo per c
 onoscere più da vicino il patrimonio storico e archeologico del territori
 o.\n\nAttraverso sei incontri e due visite guidate\, i partecipanti potran
 no esplorare il ricco passato della città: dai primi insediamenti preisto
 rici all’epoca etrusca\, dalla fondazione della colonia romana di Alsium
  allo sviluppo del paesaggio delle ville marittime\, fino all’età medie
 vale e moderna\, con il Castello di Palo e la Torre Flavia.\n\n“Conoscer
 e la storia del proprio territorio – ha commentato l’assessore alla Cu
 ltura\, Margherita Frappa – vuol dire ritrovare le radici della comunit
 à e riconoscere il valore di ciò che ci circonda. Ladispoli si sviluppa 
 su un territorio ricco di testimonianze storiche e archeologiche. Conoscer
 le meglio è il primo passo per poterle valorizzare e tutelare”.\n\nLe l
 ezioni si terranno ogni mercoledì dalle ore 17:30 alle 19:00 presso la Bi
 blioteca Comunale “Peppino Impastato” in Via Caltagirone\, con due usc
 ite domenicali il 25 maggio e l’8 giugno per visitare i luoghi archeolog
 ici più significativi: le ville romane della Grottaccia\, di Marina di Pa
 lo e di San Nicola.\n\nLa partecipazione è gratuita\, ma è consigliata l
 a prenotazione.\n\nPer informazioni e iscrizioni:\nGruppo Archeologico del
  Territorio Cerite – Tel. 0766.571727 / Cell. 392.3025990\nBiblioteca 
 “Peppino Impastato” – Tel. 06.99231672
ATTACH;FMTTYPE=image/jpeg:https://lazioeventi.com/wp-content/uploads/2025/
 04/alsium-ladispoli.jpeg
CATEGORIES:Arte e Cultura nel Lazio
LOCATION:Ladispoli\, Comune\, Ladispoli\, Roma\, Lazio\, Italia
GEO:41.955;12.0698
X-APPLE-STRUCTURED-LOCATION;VALUE=URI;X-ADDRESS=Comune\, Ladispoli\, Roma\,
  Lazio\, Italia;X-APPLE-RADIUS=100;X-TITLE=Ladispoli:geo:41.955,12.0698
END:VEVENT
BEGIN:VTIMEZONE
TZID:Europe/Rome
X-LIC-LOCATION:Europe/Rome
BEGIN:DAYLIGHT
DTSTART:20250330T030000
TZOFFSETFROM:+0100
TZOFFSETTO:+0200
TZNAME:CEST
END:DAYLIGHT
END:VTIMEZONE
END:VCALENDAR