BEGIN:VCALENDAR
VERSION:2.0
PRODID:-//wp-events-plugin.com//7.2.3.1//EN
TZID:Europe/Rome
X-WR-TIMEZONE:Europe/Rome
BEGIN:VEVENT
UID:39570@lazioeventi.com
DTSTART;TZID=Europe/Rome:20240804T093000
DTEND;TZID=Europe/Rome:20240804T160000
DTSTAMP:20240708T204044Z
URL:https://lazioeventi.com/eventi/da-fiumata-alle-sorgenti-dellaniene
SUMMARY:Da Fiumata alle Sorgenti dell'Aniene - Filettino - 4 Agosto 24 09:3
 0
DESCRIPTION:Piacevole e fresca escursione sui monti Simbruini\, da Fiumata\
 , nei pressi di un laghetto di allevamento trote (quota 927 m)\, costeggia
 mo la gola del fiume Aniene\, sotto una bella faggeta\, fino a raggiungere
  le sue sorgenti. Continuiamo a salire\, fino al valico del Ceraso per aff
 acciarci a uno dei pianori carsici più belli dell'area protetta: quello d
 i Campo Ceraso. Dopo una meritata sosta presso il rifugio Ceraso (1561 m) 
 si ritorna per lo stesso sentiero.\n\nDIFFICOLTÀ: E\n\nDISLIVELLO: 650 m 
 complessivi\n\nLUNGHEZZA PERCORSO: 12\,00 km ca.\n\nTEMPO DI PERCORRENZA: 
 5 ore (escluse soste)\n\nLa gita è riservata ai soci in regola con il tes
 seramento\n\nTESSERA FEDERTREK: obbligatoria: € 15 adulti\, € 5 minori
  di anni 18 - N.B. si ricorda ai partecipanti che è obbligatoria l’esib
 izione della tessera e la trascrizione del numero.\n\n(COLORO CHE NON HANN
 O LA TESSERA\, O È SCADUTA\, DEVONO STAMPARE E COMPILARE IL MODULO CHE TR
 OVATE AL SEGUENTE LINK: https://www.camminatoriescursionisti.it/wp-content
 /uploads/2024/01/Modulo-iscrizione-ACER-FederTrek.pdf\n\nCONTRIBUTO ASSOCI
 ATIVO DI PARTECIPAZIONE: 10 €\; gratuito minori di 18 anni\n\nCOSA PORTA
 RE: Scarpe e vestiario da trekking adeguato alla stagione\, giacca antiven
 to-antipioggia\, torcia\, acqua e pranzo al sacco\, bastoncini.\n\n1)APPUN
 TAMENTO: ore 7\,30 Via Ripa Teatina\, angolo Tiburtina (metro B Rebibbia)\
 n\n2)APPUNTAMENTO: ore 09\,30 a località Fiumata\, Filettino\n\nTRASPORTO
 (*): Auto proprie\n\n(*) l’autista non paga la benzina e l’autostrada 
 per un numero minimo di 3 passeggeri. Per la divisione delle spese auto tr
 a i passeggeri\, si consiglia di applicare le tabelle ACI (€ 0\,20 a Km 
 ca – calcolo medio secondo il tipo di vettura e il numero dei passeggeri
 ).\n\nPER INFORMAZIONI E PRENOTAZIONI:\n\nAEV Mario Galassi 339 1177868
ATTACH;FMTTYPE=image/jpeg:https://lazioeventi.com/wp-content/uploads/2024/
 07/FB-Simbruini-Campo-Ceraso.jpg
CATEGORIES:Sport, Tempo Libero e Divertimento nel Lazio
LOCATION:Filettino\, Comune\, Filettino\, Frosinone\, Lazio\, Italia
GEO:41.8899;13.3237
X-APPLE-STRUCTURED-LOCATION;VALUE=URI;X-ADDRESS=Comune\, Filettino\, Frosin
 one\, Lazio\, Italia;X-APPLE-RADIUS=100;X-TITLE=Filettino:geo:41.8899,13.3
 237
END:VEVENT
BEGIN:VTIMEZONE
TZID:Europe/Rome
X-LIC-LOCATION:Europe/Rome
BEGIN:DAYLIGHT
DTSTART:20240331T030000
TZOFFSETFROM:+0100
TZOFFSETTO:+0200
TZNAME:CEST
END:DAYLIGHT
END:VTIMEZONE
END:VCALENDAR