BEGIN:VCALENDAR
VERSION:2.0
PRODID:-//wp-events-plugin.com//7.2.3.1//EN
TZID:Europe/Rome
X-WR-TIMEZONE:Europe/Rome
BEGIN:VEVENT
UID:37219@lazioeventi.com
DTSTART;TZID=Europe/Rome:20230930T100000
DTEND;TZID=Europe/Rome:20230930T153000
DTSTAMP:20230926T072541Z
URL:https://lazioeventi.com/eventi/da-formello-alle-valli-del-sorbo-con-no
 mos-trek
SUMMARY:Da Formello alle valli del Sorbo con Nomos Trek - Formello - 30 Set
 tembre 23 10:00
DESCRIPTION:Sabato trek per scoprire le Valli del Sorbo tra Formello e Camp
 agnano. Un'area Sic (sito di interesse comunitario) attraversata dalla vi
 a Francigena\, dove scorrono le placide acque dello storico torrente Creme
 ra. Partiremo dal parcheggio di via del Sorbo poco fuori il paese di Form
 ello e scenderemo subito nelle Valli per scoprire cio' che rimane dell'ant
 ica mola usata fino agli anni 60 ed ammirare le piacevoli cascate. Percor
 reremo poi un sentiero boscoso sempre lungo il torrente e saliremo al sant
 uario della madonna del Sorbo dove faremo la nostra pausa pranzo. Al ritor
 no tramite la via Francigena ed un sentiero che ci farà scoprire altri p
 iacevoli scorci del parco\, torneremo al punto di partenza. Un'escursione 
 alle porte di Roma da non mancare.\ndiff. T Km 10 circa\, dislv. 300 m cir
 ca.  \n\nCOSA PORTARE: scarpe da trekking con suola antiscivolo (control
 lare lo stato delle scarpe...) bastoncini telescopici\; pranzo al sacco\; 
 acqua a sufficienza (almeno 1lt).. il caffè e il dolce lo offriamo noi.\n
 \nAPPUNTAMENTO : h 10 parcheggio sterrato di via del Sorbo (appena fuori F
 ormello) https://maps.app.goo.gl/cgcEBYwKo9KmuAqA6\n\nQUOTA SOCIALE:\n15
 € + Tessera Nomos Trek 2023 in corso di validità\nPer i non tesserati i
 nviare comunicazione via tel/sms etc. con i propri dati (nome/cognome\, lu
 ogo e data di nascita e cf) entro le 18 del giorno precedente l'escursione
 \nIl solo "Parteciperò" messo all'evento non sarà preso in considerazion
 e se non si è poi contattata la guida.\n\nINFORMAZIONI e PRENOTAZIONI: (p
 referibilmente whatsapp)\nMarco Marini Cell 3478247257\nGuida ambientale e
 scursionistica\nPer ricevere aggiornamenti sull'evento e vedere tutte le e
 scursioni:\n1) Mettere "parteciperò"\n2) Mettere “mi piace” alla pagi
 na Nomos Trek - Escursioni e Trekking e cliccare sul tasto “segui” - 
 https://www.facebook.com/NomosTrek\n3) iscriversi al gruppo pubblico Nomos
  Trek- Associazione Escursionistica -https://www.facebook.com/groups/34185
 2695915250\n4) Chat Telegram https://t.me/+5JYvtRdqIH9jZDJk\n5) https://
 www.tiktok.com/@nomostrek\n6) https://www.instagram.com/nomostrekescursio
 ni/?hl=it\n7) https://twitter.com/nomos_trek\n Visita il sito: www.nomo
 strek.com\n\nL’iniziativa è riservata ai soci in regola con l’iscrizi
 one relativa all’anno 2023 ed in possesso della relativa tessera. Le Gui
 de si riservano il diritto insindacabile di modificare il programma stabil
 ito in caso di condizioni meteorologiche avverse tali da rendere pericolos
 o l’itinerario\, in caso di impraticabilità di un sentiero\, in caso di
  impossibilità di un partecipante a continuare l’escursione. 
ATTACH;FMTTYPE=image/jpeg:https://lazioeventi.com/wp-content/uploads/2023/
 09/sorbo.jpg
CATEGORIES:Sport, Tempo Libero e Divertimento nel Lazio
LOCATION:Formello\, Comune\, Formello\, Roma\, Lazio\, Italia
GEO:42.0801;12.4005
X-APPLE-STRUCTURED-LOCATION;VALUE=URI;X-ADDRESS=Comune\, Formello\, Roma\, 
 Lazio\, Italia;X-APPLE-RADIUS=100;X-TITLE=Formello:geo:42.0801,12.4005
END:VEVENT
BEGIN:VTIMEZONE
TZID:Europe/Rome
X-LIC-LOCATION:Europe/Rome
BEGIN:DAYLIGHT
DTSTART:20230326T030000
TZOFFSETFROM:+0100
TZOFFSETTO:+0200
TZNAME:CEST
END:DAYLIGHT
END:VTIMEZONE
END:VCALENDAR