BEGIN:VCALENDAR
VERSION:2.0
PRODID:-//wp-events-plugin.com//7.2.3.1//EN
TZID:Europe/Rome
X-WR-TIMEZONE:Europe/Rome
BEGIN:VEVENT
UID:40213@lazioeventi.com
DTSTART;TZID=Europe/Rome;VALUE=DATE:20241114
DTEND;TZID=Europe/Rome;VALUE=DATE:20241117
DTSTAMP:20241105T153352Z
URL:https://lazioeventi.com/eventi/da-kinoglaz-a-youtube
SUMMARY:Da Kinoglaz a YouTube - Roma - 14 Novembre 24 00:00
DESCRIPTION:IL PROGETTO E LE FORME DI UN CINEMA POLITICO\nVIII EDIZIONE 202
 4\n\nDa Kinoglaz a YouTube. Cento anni di militanza attraverso i media\n\n
 Roma 14—15—16 novembre 2024\n\nTeatro Palladium – Libreria Spazio Se
 tte – Cinema Farnese Arthouse\n\nUn evento ideato\, promosso e organizza
 to da\nFondazione Archivio Audiovisivo del Movimento Operaio e Democratico
  ETS\nin collaborazione con\nAustrian Film Museum e Fondazione Gramsci\nco
 n il patrocinio di\nUniversità Roma Tre Dipartimento Filosofia Comunicazi
 one Spettacolo\n\nIngresso libero\n\nIn occasione del doppio centenario de
 lla morte di Lenin e dell’uscita del film Kinoglaz di Dziga Vertov\, l
 ’Archivio Audiovisivo del Movimento Operaio e Democratico (AAMOD)\, in c
 ollaborazione con il gruppo di studio “Il progetto e le forme di un cine
 ma politico”\, organizza l’evento "Da Kinoglaz a YouTube. Cento anni d
 i militanza attraverso i media". La manifestazione\, articolata in una ras
 segna cinematografica e una giornata di studio\, si terrà dal 14 al 16 no
 vembre a Roma\, presso il Teatro Palladium\, la Libreria Spazio Sette e il
  Cinema Farnese Arthouse.\n\nLa rassegna cinematografica\, ospitata al Tea
 tro Palladium e organizzata in collaborazione con l’Austrian Film Museum
  e la Fondazione Gramsci\, con il patrocinio dell’Università Roma Tre\,
  celebra il centenario della morte di Lenin attraverso opere cinematografi
 che di Dziga Vertov\, uno dei pionieri del cinema sperimentale. Verranno p
 resentati capolavori come Il cineocchio (1924)\, L’uomo con la macchina 
 da presa (1929)\, e Tre canti su Lenin (1934)\, oltre al ciclo di notiziar
 i Kinopravda. In programma anche film sperimentali che omaggiano le teorie
  di Vertov e opere recenti di autori che riprendono e reinterpretano il su
 o linguaggio\, come Lotte in Italia (1970) del Groupe Dziga Vertov e Rebib
 bia Quarantine (2020) di Zerocalcare. La musica dal vivo della RomaTre Jaz
 z Band accompagnerà una proiezione speciale de L’uomo con la macchina d
 a presa\; il film sarà introdotto dal Prof. Pietro Montani.\n\nLa giornat
 a di studio “Da Kinoglaz a YouTube” avrà luogo sabato 16 novembre pre
 sso la Libreria Spazio Sette e vedrà la partecipazione dei massimi espert
 i internazionali di Vertov\, come François Albera\, Antonella Salomoni e 
 John MacKay. L’incontro esplorerà il ruolo del cinema di Vertov nel cos
 truire un nuovo linguaggio visivo e politico\, tracciando un parallelo con
  le trasformazioni odierne dei media digitali. I partecipanti analizzerann
 o come Kinoglaz\, con il suo approccio interattivo e visionario\, continui
  a influenzare il cinema militante e indipendente fino a YouTube e alla cu
 ltura digitale contemporanea.\n\nL’evento si concluderà al Cinema Farne
 se Arthouse con la proiezione in anteprima del film inedito di Vertov\, St
 oria della guerra civile (1921)\, recentemente ritrovato e restaurato\, ch
 e documenta con straordinaria intensità i momenti cruciali del conflitto 
 civile russo.\n\nArrivata all’ottava edizione\, l’iniziativa Il proget
 to e le forme di un cinema politico\, promossa dall’AAMOD e sostenuta da
  Fondazione Gramsci\, si interroga sulle trasformazioni politiche\, esteti
 che\, culturali e sociali dell’età contemporanea attraverso la lente de
 l cinema. Il gruppo di studio e di lavoro è composto da: Dario Cecchi\, D
 amiano Garofalo\, Marco M. Gazzano (in memoria)\, Francesco Giasi\, M. Chi
 ara Giorgi\, Alma Mileto\, Pietro Montani\, Luca Peretti\, Ivelise Perniol
 a\, Giacomo Ravesi\, Paola Scarnati\, Giovanni Spagnoletti\, Ermanno Tavia
 ni con la partecipazione e l’impegno del presidente della Fondazione\, V
 incenzo Vita.\n\nProgramma Sintetico:\n- 14-15 novembre (Teatro Palladium)
 : Rassegna cinematografica dedicata a Dziga Vertov e ai suoi seguaci\, con
  proiezioni dei capolavori del regista e opere di ispirazione vertoviana.\
 n- 16 novembre (Libreria Spazio Sette): Giornata di studio “Da Kinoglaz 
 a YouTube”\, con interventi dei principali studiosi di cinema politico e
  una riflessione sull’eredità delle teorie di Vertov.\n- 16 novembre (C
 inema Farnese Arthouse): Proiezione del film inedito Storia della guerra c
 ivile (1921) di Dziga Vertov.
ATTACH;FMTTYPE=image/jpeg:https://lazioeventi.com/wp-content/uploads/2024/
 11/banner-per-i-social.jpg
CATEGORIES:Arte e Cultura nel Lazio,Musica, Spettacoli e Danza nel Lazio
LOCATION:Roma\, Via Leopardi\, Roma\, Roma\, Lazio\, Italia
GEO:41.8942;12.5017
X-APPLE-STRUCTURED-LOCATION;VALUE=URI;X-ADDRESS=Via Leopardi\, Roma\, Roma\
 , Lazio\, Italia;X-APPLE-RADIUS=100;X-TITLE=Roma:geo:41.8942,12.5017
END:VEVENT
BEGIN:VTIMEZONE
TZID:Europe/Rome
X-LIC-LOCATION:Europe/Rome
BEGIN:STANDARD
DTSTART:20241027T020000
TZOFFSETFROM:+0200
TZOFFSETTO:+0100
TZNAME:CET
END:STANDARD
END:VTIMEZONE
END:VCALENDAR