BEGIN:VCALENDAR
VERSION:2.0
PRODID:-//wp-events-plugin.com//7.2.3.1//EN
TZID:Europe/Rome
X-WR-TIMEZONE:Europe/Rome
BEGIN:VEVENT
UID:35381@lazioeventi.com
DTSTART;TZID=Europe/Rome:20230510T163000
DTEND;TZID=Europe/Rome:20230513T183000
DTSTAMP:20230510T134015Z
URL:https://lazioeventi.com/eventi/da-michelangelo-agli-imperatori-2
SUMMARY:Da Michelangelo agli Imperatori - Roma - 10 Maggio 23 16:30
DESCRIPTION:Visita Guidata Da Michelangelo agli Imperatori passando dal Mar
 chese del Grillo\n\nPasseggiata per il Rione Monti\n\nCominceremo la visit
 a ammirando il famoso Mosè di Michelangelo nella chiesa di San Pietro in 
 Vincoli. Dopo questa esperienza indimenticabile inizieremo la nostra passe
 ggiata percorrendo l’asse viario Argiletum\, che divide in due l’antic
 o e malfamato quartiere della Suburra\, oggi centro della movida romana. P
 rima di arrivare al meraviglioso affaccio sui Fori\, passeremo dal Marches
 e del Grillo\, per vedere da dove lanciava le pigne ai malcapitati passant
 i. Arriveremo a Via dei Fori Imperiali dove terminerà la nostra passeggia
 ta.\n\nhttps://www.romanitas.it/calendario-visite-guidate/?event=2877\n\n\
 nINFORMAZIONI ORARI E TARIFFE \n\nQuando: Sabato 13 Maggio 2023 h 16:30\n
 \nDurata: 2 ore circa\n\nAccoglienza: dalle ore 16:15 a Piazza di San Piet
 ro in Vincoli 4/a\n\nTariffa: €12\,00 incluso auricolari\n\nPrenotazione
  almeno il giorno prima con una mail a visiteguidate@romanitas.it  \n\no
 ppure con un sms/WA a Cristiana 3315632913\n\nLa Prenotazione è necessari
 a per ricevere conferma o eventuali variazioni.
ATTACH;FMTTYPE=image/jpeg:https://lazioeventi.com/wp-content/uploads/2023/
 05/Mose-di-Michelangelo.jpg
CATEGORIES:Arte e Cultura nel Lazio
LOCATION:Roma\, Via Leopardi\, Roma\, Roma\, Lazio\, Italia
GEO:41.8942;12.5017
X-APPLE-STRUCTURED-LOCATION;VALUE=URI;X-ADDRESS=Via Leopardi\, Roma\, Roma\
 , Lazio\, Italia;X-APPLE-RADIUS=100;X-TITLE=Roma:geo:41.8942,12.5017
END:VEVENT
BEGIN:VTIMEZONE
TZID:Europe/Rome
X-LIC-LOCATION:Europe/Rome
BEGIN:DAYLIGHT
DTSTART:20230326T030000
TZOFFSETFROM:+0100
TZOFFSETTO:+0200
TZNAME:CEST
END:DAYLIGHT
END:VTIMEZONE
END:VCALENDAR