BEGIN:VCALENDAR
VERSION:2.0
PRODID:-//wp-events-plugin.com//7.2.3.1//EN
TZID:Europe/Rome
X-WR-TIMEZONE:Europe/Rome
BEGIN:VEVENT
UID:41068@lazioeventi.com
DTSTART;TZID=Europe/Rome:20250330T100000
DTEND;TZID=Europe/Rome:20250330T160000
DTSTAMP:20250327T103029Z
URL:https://lazioeventi.com/eventi/da-piramide-a-magliana-lungo-i-parchi-d
 i-roma
SUMMARY:Da Piramide a Magliana lungo i parchi di Roma - Roma - 30 Marzo 25 
 10:00
DESCRIPTION:Un percorso che lega numerose aree verdi pochissimo frequentate
  come Parco dei Giardinieri\, Parco Scott\, il parco delle Catacombe di Sa
 n Callisto\, lo straordinario Parco di Tor Marancia\, il Parco delle Tre F
 ontane\, i giardini dell’EUR. Ma prima di cominciare ad immergersi nel v
 erde traverseremo quell’angolo di silenzio che è San Saba oltre a trans
 itare nel nostro percorso per le Fosse Ardeatine che meritano sempre una d
 overosa sosta.\n\nQuesta escursione è una novità assoluta\, utilizza in 
 piccolissima parte schede tratte dagli ultimi due libri di trekking urbano
  di Carlo Coronati che accompagnerà il cammino con brevi narrazioni e app
 rofondimenti.\n\nAppuntamento: Ore 10.00 all’uscita all’uscita stazion
 e Piramide metro B\n\nArrivo previsto: Ore 15.30 metro B Stazione Magliana
 \n\nVie di fuga lungo il percorso  sulla Via Ardeatina o su Via di Grotta 
 Perfetta.\n\nKm 15 – ore 5.30 con le pause. Dislivello 80 m.\n\nPartecip
 azione libera senza prenotazione\n\nIl cellulare della casa editrice per d
 ubbi o chiarimenti è 329.9748092 o mail a info@edizioniillupo.it \n\nCome
  già di prassi il costo di ogni proposta è di 10\,00 € che vale come b
 uono acquisto valido fino al 31/12/2025 da utilizzare per libri e carte ed
 iti dalla casa editrice in eventi e/o manifestazioni e\, ovviamente\, per 
 le guide di trekking urbano già edite\, “Roma guida insolita per esplor
 atori urbani”- “Il grande anello verde di Roma” – “Mappa verde (
 parchi e riserve) 1/30.000 di Roma”.\n\nDurante l’escursione ci sarann
 o brevi pause di approfondimento sul trekking che si sta percorrendo\, pi
 ù una più robusta sosta per il panino. Ricordiamo sempre scarpe comode p
 er camminare e sempre merenda al seguito.\n\nLa passeggiata è confermata 
 sempre salvo diluvio\, il numero di telefono dell’accompagnatore Carlo 3
 40.5364218 sarà utilizzabile solo il mattino dell’escursione.\n\nProssi
 mo evento trekking urbano domenica 11 maggio dopo le feste di Pasqua e i p
 onti.\n
ATTACH;FMTTYPE=image/jpeg:https://lazioeventi.com/wp-content/uploads/2025/
 03/tappecarlo3_20250326_082928_0000.jpg
CATEGORIES:Sport, Tempo Libero e Divertimento nel Lazio
LOCATION:Roma\, Via Leopardi\, Roma\, Roma\, Lazio\, Italia
GEO:41.8942;12.5017
X-APPLE-STRUCTURED-LOCATION;VALUE=URI;X-ADDRESS=Via Leopardi\, Roma\, Roma\
 , Lazio\, Italia;X-APPLE-RADIUS=100;X-TITLE=Roma:geo:41.8942,12.5017
END:VEVENT
BEGIN:VTIMEZONE
TZID:Europe/Rome
X-LIC-LOCATION:Europe/Rome
BEGIN:DAYLIGHT
DTSTART:20250330T030000
TZOFFSETFROM:+0100
TZOFFSETTO:+0200
TZNAME:CEST
END:DAYLIGHT
END:VTIMEZONE
END:VCALENDAR