BEGIN:VCALENDAR
VERSION:2.0
PRODID:-//wp-events-plugin.com//7.2.3.1//EN
TZID:Europe/Rome
X-WR-TIMEZONE:Europe/Rome
BEGIN:VEVENT
UID:44248@lazioeventi.com
DTSTART;TZID=Europe/Rome:20260518T210000
DTEND;TZID=Europe/Rome:20260519T210000
DTSTAMP:20260415T100802Z
URL:https://lazioeventi.com/eventi/dado-in-scena-conil-ripetente
SUMMARY:DADO in scena con"Il Ripetente" - Roma - 18 Maggio 26 21:00
DESCRIPTION:È laureato all’università "della vita”\, ma per Dado la s
 cuola – e soprattutto le interrogazioni – non finiscono mai. Il comico
  romano\, tra i volti più amati di Zelig\, torna in scena con “Il Ripet
 ente”\, un monologo brillante e tagliente che mescola\, nel suo stile in
 confondibile\, canzoni\, risate e riflessioni ironiche: osservazioni solo 
 apparentemente semplici\, ma capaci di colpire nel segno con efficacia dis
 armante. Lo spettacolo debutta il 18 e 19 maggio al Teatro Olimpico di Rom
 a (ore 21).\nDopo il successo del podcast e dello spettacolo teatrale “T
 itolo di studio: la strada”\, quella che Dado porta sul palco non è una
  scuola qualunque: è la scuola dell’esperienza\, dove il voto massimo 
 è “te l’avevo detto”\, il registro è pieno di ex e il preside risp
 onde al nome Destino.\n“Il Ripetente” è il racconto tragicomico di un
  uomo che si accorge di aver commesso sempre lo stesso errore – tre\, qu
 attro\, cento volte – e che\, non sapendo come dare una svolta alla sua 
 vita\, si ritrova a ripetere ossessivamente il suo repertorio migliore in 
 ogni relazione: nelle amicizie\, con le donne\, con i colleghi di lavoro\,
  perfino con i propri parenti. È un viaggio ironico tra déjà vu\, autog
 ol e interrogazioni mai superate. Una su tutte: perché ci ostiniamo a cer
 care la felicità negli stessi luoghi dove l’abbiamo persa?\nTra una bat
 tuta e una “lezione” non richiesta\, Dado veste i panni di un eterno s
 colaro dell’esistenza\, che continua a presentarsi all’esame della vit
 a… col compito copiato da sé stesso. Perché\, si sa\, chi non studia 
 è condannato a ripetere. E chi studia… pure.\nProdotto da DALMA Product
 ion e Spettacoli PRO\, lo spettacolo “Il ripetente” è scritto da Gabr
 iele Pellegrini\, Massimiliano Elia\, Emiliano Luccisano\, Augusto Fornari
 \, Mario Scaletta.\nInformazioni e biglietti online:\nTicketone: https://w
 ww.ticketone.it/event/dado-il-ripetente-teatro-olimpico-20471819/\nTeatro 
 Olimpico: https://www.teatroolimpico.it/evento/dado-il-ripetente/
ATTACH;FMTTYPE=image/jpeg:https://lazioeventi.com/wp-content/uploads/2026/
 04/teatroit-dado-il-ripetente-date-biglietti.jpg
CATEGORIES:Musica, Spettacoli e Danza nel Lazio
LOCATION:Roma\, Via Leopardi\, Roma\, Roma\, Lazio\, Italia
GEO:41.8942;12.5017
X-APPLE-STRUCTURED-LOCATION;VALUE=URI;X-ADDRESS=Via Leopardi\, Roma\, Roma\
 , Lazio\, Italia;X-APPLE-RADIUS=100;X-TITLE=Roma:geo:41.8942,12.5017
END:VEVENT
BEGIN:VTIMEZONE
TZID:Europe/Rome
X-LIC-LOCATION:Europe/Rome
BEGIN:DAYLIGHT
DTSTART:20260329T030000
TZOFFSETFROM:+0100
TZOFFSETTO:+0200
TZNAME:CEST
END:DAYLIGHT
END:VTIMEZONE
END:VCALENDAR