BEGIN:VCALENDAR
VERSION:2.0
PRODID:-//wp-events-plugin.com//7.2.3.1//EN
TZID:Europe/Rome
X-WR-TIMEZONE:Europe/Rome
BEGIN:VEVENT
UID:41876@lazioeventi.com
DTSTART;TZID=Europe/Rome;VALUE=DATE:20250622
DTEND;TZID=Europe/Rome;VALUE=DATE:20250623
DTSTAMP:20250618T082828Z
URL:https://lazioeventi.com/eventi/dal-bosco-al-borgo
SUMMARY:Dal Bosco al Borgo - Rocca di Papa - 22 Giugno 25 00:00
DESCRIPTION:𝐃𝐀𝐋 𝐁𝐎𝐒𝐂𝐎 𝐀𝐋 𝐁𝐎𝐑𝐆𝐎
 : 𝐀𝐒𝐒𝐀𝐆𝐆𝐈 𝐄 𝐏𝐀𝐄𝐒𝐀𝐆𝐆𝐈\n\n8
 𝐚 𝐄𝐝𝐢𝐳𝐢𝐨𝐧𝐞 𝐂𝐨𝐧𝐜𝐨𝐫𝐬𝐨 
 𝐝𝐢 𝐏𝐢𝐭𝐭𝐮𝐫𝐚 𝐄𝐬𝐭𝐞𝐦𝐩𝐨𝐫𝐚
 𝐧𝐞𝐚 "𝐑𝐨𝐜𝐜𝐚 𝐝𝐢 𝐏𝐚𝐩𝐚 𝐂𝐢𝐭
 𝐭𝐚̀ 𝐝'𝐀𝐫𝐭𝐞"\n\nDomenica 22 Giugno:\n8:30 Registrazio
 ne artisti\n10:00 Inaugurazione tappeti di segatura colorata - Corso della
  Costituente\n10:30 Ciambelle degli Sposi\n17:30 Consegna Quadri\n19:00 Pr
 emiazione Vincitori\n20:00 Spettacolo Musicale e cabaret con i Sequestratt
 ori Cabaret\n\nUna giornata all'insegna di Arte\, Musica e Tradizione!\nDi
 rezione Artistica: Oriana Croce\n\nPresenti stand enogastronomici e mercat
 ino artigianale\n\nPer info e iscrizioni:\nr_millevolte@comune.roccadipapa
 .rm.it\n06 942861 - 1043\n\nPer regolamento concorso e modulo di partecipa
 zione: www.comune.roccadipapa.rm.it\n
ATTACH;FMTTYPE=image/jpeg:https://lazioeventi.com/wp-content/uploads/2025/
 06/nel-borgo-al-borgo.jpg
CATEGORIES:Arte e Cultura nel Lazio
LOCATION:Rocca di Papa\, Comune di Rocca di Papa\, Rocca di Papa\, Roma\, L
 azio\, Italia
GEO:41.762;12.7081
X-APPLE-STRUCTURED-LOCATION;VALUE=URI;X-ADDRESS=Comune di Rocca di Papa\, R
 occa di Papa\, Roma\, Lazio\, Italia;X-APPLE-RADIUS=100;X-TITLE=Rocca di P
 apa:geo:41.762,12.7081
END:VEVENT
BEGIN:VTIMEZONE
TZID:Europe/Rome
X-LIC-LOCATION:Europe/Rome
BEGIN:DAYLIGHT
DTSTART:20250330T030000
TZOFFSETFROM:+0100
TZOFFSETTO:+0200
TZNAME:CEST
END:DAYLIGHT
END:VTIMEZONE
END:VCALENDAR