BEGIN:VCALENDAR
VERSION:2.0
PRODID:-//wp-events-plugin.com//7.2.3.1//EN
TZID:Europe/Rome
X-WR-TIMEZONE:Europe/Rome
BEGIN:VEVENT
UID:43960@lazioeventi.com
DTSTART;TZID=Europe/Rome:20260314T093000
DTEND;TZID=Europe/Rome:20260314T153000
DTSTAMP:20260307T081901Z
URL:https://lazioeventi.com/eventi/dal-quadraro-al-castello-della-cervelle
 tta-2
SUMMARY:Dal Quadraro al Castello della Cervelletta - Roma - 14 Marzo 26 09:
 30
DESCRIPTION:Un cammino nel quadrante di Roma est che ci porterà a scoprire
  angoli semisconosciuti della nostra città. Cammineremo tra casette basse
 \, vaste aree verdi\, resti di acquedotti e murales ma scopriremo anche p
 alazzoni di oltre 10 piani che faranno da contrasto alla nostra giornata. 
 Pian piano arriveremo nella riserva naturale valle dell’Aniene scoprendo
  il castello della Cervelletta  (ora in restauro) e acquistando prodotti
  biologici nella locale azienda agraria. Completeremo la nostra escursion
 e alla stazione di Ponte Mammolo dove riprenderemo la metro. Vi aspetto pe
 r questo interessante urban trek \n Km 14 dislv. nullo  \nAppuntamento
 : h 9.30 uscita metro A Porta Furba lato edicola- bar \nCosa portare: sca
 rpe comode (trekking leggero e in questo caso anche quelle da ginnastica)\
 ; acqua a sufficienza\; pranzo al sacco… i dolcetti li offriamo noi \n\
 nQuota Sociale:\n15€\nPer i non tesserati inviare comunicazione via tel/
 sms etc. con i propri dati… nome-cognome-luogo\, data di nascita e cf en
 tro le 18 del giorno precedente l’escursione.\nIl solo “Parteciperò
 ” messo all’evento non sarà preso in considerazione se non si è poi 
 contattata la guida.\n\nINFORMAZIONI e PRENOTAZIONI: (preferibilmente wha
 tsapp)\nMarco Marini\nGuida Ambientale escursionistica\nCell 3478247257 \
 nPer ricevere aggiornamenti sull’evento e vedere tutte le escursioni:\n1
 ) Mettere “parteciperò”\n2) Mettere “mi piace” alla pagina Nomos 
 Trek – Escursioni e Trekking e cliccare sul tasto “segui” – https
 ://www.facebook.com/NomosTrek\n3) iscriversi al gruppo pubblico Nomos Trek
 - Associazione Escursionistica –https://www.facebook.com/groups/34185269
 5915250\n4) Chat Telegram https://t.me/+5JYvtRdqIH9jZDJk\n5) https://www
 .tiktok.com/@nomostrek\n6) https://www.instagram.com/nomostrekescursioni/
 ?hl=it\n7) https://twitter.com/nomos_trek\n8) Visita il sito: www.nomost
 rek.com\n9) https://whatsapp.com/channel/0029VaD7W1hGZNCxYwLH5C1Y\n10) h
 ttps://www.threads.net/@marco71marini\n11) https://www.messenger.com/chan
 nel/NomosTrek\n12) https://t.me/nomostrekescursioni\nL’iniziativa è ri
 servata ai soci in regola con l’iscrizione relativa all’anno 2026 ed i
 n possesso della relativa tessera. Le Guide si riservano il diritto insind
 acabile di modificare il programma stabilito in caso di condizioni meteoro
 logiche avverse tali da rendere pericoloso l’itinerario\, in caso di imp
 raticabilità di un sentiero\, in caso di impossibilità di un partecipant
 e a continuare l’escursione.\nSi prega inoltre di avvertire gli accompag
 natori della presenza di eventuali patologie\, o di problematiche che potr
 ebbero manifestarsi nel corso dell’escursione\, grazie per la collaboraz
 ione
ATTACH;FMTTYPE=image/jpeg:https://lazioeventi.com/wp-content/uploads/2026/
 03/quadraro.jpg
CATEGORIES:Sport, Tempo Libero e Divertimento nel Lazio
LOCATION:Roma\, Via Leopardi\, Roma\, Roma\, Lazio\, Italia
GEO:41.8942;12.5017
X-APPLE-STRUCTURED-LOCATION;VALUE=URI;X-ADDRESS=Via Leopardi\, Roma\, Roma\
 , Lazio\, Italia;X-APPLE-RADIUS=100;X-TITLE=Roma:geo:41.8942,12.5017
END:VEVENT
BEGIN:VTIMEZONE
TZID:Europe/Rome
X-LIC-LOCATION:Europe/Rome
BEGIN:STANDARD
DTSTART:20251026T020000
TZOFFSETFROM:+0200
TZOFFSETTO:+0100
TZNAME:CET
END:STANDARD
END:VTIMEZONE
END:VCALENDAR