BEGIN:VCALENDAR
VERSION:2.0
PRODID:-//wp-events-plugin.com//7.2.3.1//EN
TZID:Europe/Rome
X-WR-TIMEZONE:Europe/Rome
BEGIN:VEVENT
UID:35841@lazioeventi.com
DTSTART;TZID=Europe/Rome:20250905T183000
DTEND;TZID=Europe/Rome:20250907T223000
DTSTAMP:20250818T081440Z
URL:https://lazioeventi.com/eventi/dance-screen-in-the-land-valle-giulia
SUMMARY:Dancescreen in the land - Roma - 5 Settembre 25 18:30
DESCRIPTION:ROMA - APPIA ANTICA | Chiesa di San Nicola dei Caetani – Parc
 o Archeologico dell’Appia Antica - dal 5 al 7 settembre\n\nIl festival o
 ffre\, oltre agli spettacoli di danza\, ogni giorno le passeggiate archeol
 ogiche con la dott.ssa Lavinia Venturi\, nel sito UNESCO dell’Appia Anti
 ca. \nIl 5 settembre Appia: paesaggio e memoria prima passeggiata archeolo
 gica del festival porterà poi gli spettatori all’interno della Chiesa d
 i S. Nicola dei Caetani\, per lo spettacolo “L’Approdo”\, omaggio a 
 Mario Giacomelli\, nel centenario della sua nascita e in concomitanza con 
 la mostra presso Palazzo Reale di Milano\, del Collettivo O e Luna Dance T
 heater\, su concept e regia di Cinzia Scuppa e Simona Ficosecco\, in un ca
 leidoscopio di proiezioni fotografiche. \nIl 6 settembre la passeggiata Er
 oi e miti d’Appia: cammini tra leggende antiche introdurrà la serata st
 raordinaria con i giovani dell’Accademia Nazionale di Danza\, dal titolo
  Il gesto e la memoria\, in cui gli interpreti delle coreografie di Sasha 
 Waltz\, John Neumeier\, Sonia Rodriguez e Nacho Duato.\nIl 7 settembre Sib
 ille e mari perduti\, terza ed ultima passeggiata nel Castrum Caetani\, se
 guita dallo spettacolo Il mare che ci unisce della Compagnia ArtGarage\, c
 oreografato da Emma Cianchi\, ispirato alla figura della Sibilla cumana e 
 ai miti del Mediterraneo.\n\n5 settembre – H. 18:30 | 20:30\nAlle 18:30.
  Passeggiata archeologica “Appia: paesaggio e memoria”\nAlle ore 20:30
  L’approdo\nUn omaggio a Mario Giacomelli del Collettivo O\, su concept 
 e regia di Cinzia Scuppa e Simona Ficosecco. L’Approdo è un omaggio all
 a figura e alle opere del grande maestro senigalliese della fotografia mon
 diale Mario Giacomelli\, nell’ambito delle celebrazioni del centenario d
 ella sua nascita. Lo spettacolo esplora l’interazione tra immagine\, mov
 imento e musica\, rievocando le atmosfere e i temi ricorrenti nelle fotogr
 afie dell’artista. \nCompagnia:  Luna Dance Theater\n\n6 settembre – H
 . 18:30 | 20:30\nAlle 18:30. Passeggiata archeologica “Appia: paesaggio 
 e memoria”\nIl gesto e la memoria\, i giovani dell’Accademia Nazionale
  di Danza\nCompagnia: Accademia Nazionale di Danza diretta da Anna Maria G
 aleotti\n\n7 settembre – H. 18:00 | 19:30\nAlle 18:00. Passeggiata arche
 ologica “Sibille e mari perduti”\nIl mare che ci unisce\nLo spettacolo
 \, attraverso la guida della coreografa Emma Cianchi e delle danzatrici\, 
 immerge lo spettatore in una dimensione mitologica\, che rievoca storie e 
 racconti identitari del Mediterraneo. La coreografia si ispira al potere p
 rofetico della figura della Sibilla cumana e al legame mistico con il mare
 \, trasformando la scena in un rituale di memoria e oracoli. Musica origin
 ale di Cannavacciuolo \nCompagnia: Compagnia ArtGarage\n
ATTACH;FMTTYPE=image/jpeg:https://lazioeventi.com/wp-content/uploads/2022/
 09/Locandina-Dancescreen-2025.jpg
CATEGORIES:Musica, Spettacoli e Danza nel Lazio
LOCATION:Roma\, Via Leopardi\, Roma\, Roma\, Lazio\, Italia
GEO:41.8942;12.5017
X-APPLE-STRUCTURED-LOCATION;VALUE=URI;X-ADDRESS=Via Leopardi\, Roma\, Roma\
 , Lazio\, Italia;X-APPLE-RADIUS=100;X-TITLE=Roma:geo:41.8942,12.5017
END:VEVENT
BEGIN:VTIMEZONE
TZID:Europe/Rome
X-LIC-LOCATION:Europe/Rome
BEGIN:DAYLIGHT
DTSTART:20250330T030000
TZOFFSETFROM:+0100
TZOFFSETTO:+0200
TZNAME:CEST
END:DAYLIGHT
END:VTIMEZONE
END:VCALENDAR